{"text_format":"1","workbook":"xlsx","n_sheets":48,"sheets":["DATOS","BC_ACTUAL","BC_ANTERIOR","EEFF_SITUACION","EEFF_RENDIMIENTOS","EEFF_FLUJO","EEFF_CAPITAL","MATRIZ_AUTOVALUACION","NOTAS_POR_CUENTA","NICSP","NICSP_1","NICSP_2","NICSP_3","NICSP_4","NICSP_5","NICSP_9","NISCP_10","NICSP_11","NICSP_12","NICSP_13","NICSP_14","NICSP_16","NICSP_17","NICSP_18","NICSP_19_ACTIVO","NICSP_19_PASIVO","NICSP_20","NICSP_21","NICSP_22","NICSP_23","NICSP_24","NICSP_26","NICSP_27","NICSP_28_29_30","FIDEICOMISOS","NICSP_31","NICSP_32","NICSP_33","NICSP_34","NICSP_35","NICSP_36","NICSP_37","NICSP_38","NICSP_39","NICSP_40","NOTAS_PARTICULAR","PARAMETROS","BASE_DATOS"],"not_rendered":{"charts":0,"images":1,"macros":1,"external_links":0,"defined_names":2,"comments":0,"pivot_tables":0},"unopened":[],"bounds":{"document_bytes":16777216,"sheet_cells":100000,"rows_first":2000,"rows_last":500,"rows_between":2000,"halvings":0,"cell_chars":16384,"cell_head_chars":4096},"cells_cut":0,"cells_raw":0,"read":"whole","date_system":"1900"}

{"sheet":"DATOS","index":0,"n_rows":40,"n_cols":4,"rows_kept":40,"cut":false,"hidden":false,"merged":[[20,3,23,3],[27,3,30,3],[34,3,37,3]]}
[]
[]
[]
[null,null,null,"Ministerio de Hacienda "]
[null,null,null,"Dirección General de Contabilidad Nacional"]
[null,null,null,"Anexo de Notas a los Estados Financieros Entidades"]
[null,null,null,{"$f":"IFERROR(PROPER(D17),\"\")","v":"Junio 2024"}]
[]
[]
[null,null,"NOMBRE_ARCHIVO",{"$f":"MID(CELL(\"filename\"),FIND(\"[\",CELL(\"filename\"))+1, FIND(\"]\",\nCELL(\"filename\"))-(FIND(\"[\",CELL(\"filename\"))+1))","v":"15603_T02_2024 Anexo_Estado_Notas_Contables_Sin_Vinculos.xlsm"}]
[null,null,"GRUPO_INSTITUCIONAL",{"$f":"IFERROR(VLOOKUP(D12,PARAMETROS!F:I,4,0),\"\")","v":"SECTOR_MUNICIPAL"}]
[null,null,"CODIGO_ENTIDAD",{"$f":"IFERROR(IF(MID(D10,1,5)=\"XXXXX\",\"\",MID(D10,1,5)),\"\")","v":"15603"}]
[null,null,"NOMBRE_INSTITUCION ",{"$f":"IFERROR(IF(MID(D10,1,5)=\"XXXXX\",\"\",VLOOKUP(D12,PARAMETROS!F:G,2,0)),\"\")","v":"Municipalidad de Buenos Aires"}]
[null,null,"PERIODO",{"$f":"IFERROR(IF(MID(D10,7,3)=\"PXX\",\"\",MID(D10,7,3)),\"\")","v":"T02"}]
[null,null,"PERIODO_CONTABLE",{"$f":"IFERROR(IF(MID(D10,1,5)=\"XXXXX\",\"\",\"Del\"&\" \"&\"01\"&\" \"&\"de\"&\" \"&\"Enero\"&\" \"&\"al\"&\" \"&IF(MID(D10,7,3)=\"PXX\",\"\",VLOOKUP(MID(D10,7,3),PARAMETROS!M:O,3,0))),\"\")","v":"Del 01 de Enero al 30 de Junio"}]
[null,null,"AÑO",{"$f":"IFERROR(IF(MID(D10,1,5)=\"XXXXX\",\"\",MID(D10,11,4)),\"\")","v":"2024"}]
[null,null,"PERIODO_ACTUAL",{"$f":"IFERROR(IF(MID(D10,1,5)=\"XXXXX\",\"\",VLOOKUP(MID(D10,7,3),PARAMETROS!M:N,2,0)&\" \"&MID(D10,11,4)),\"\")","v":"JUNIO 2024"}]
[null,null,"PERIODO_ANTERIOR",{"$f":"IFERROR(IF(MID(D10,1,5)=\"XXXXX\",\"\",VLOOKUP(MID(D10,7,3),PARAMETROS!M:N,2,0)&\" \"&((TEXT(MID(D10,11,4),0)))-1),\"\")","v":"JUNIO 2023"}]
[]
[]
[]
[]
[]
[]
[null,null,null,"Firma Digital del Representante Legal"]
[null,null,null,"Nombre del Representante Legal: "]
[]
[]
[]
[]
[]
[null,null,null,"Firma Digital del Jerarca Institucional"]
[null,null,null,"Nombre del Jerarca: "]
[]
[]
[]
[]
[]
[null,null,null,"Firma Digital del Contador"]
[null,null,null,"Nombre del Contador: "]

{"sheet":"BC_ACTUAL","index":1,"n_rows":973,"n_cols":8,"rows_kept":973,"cut":false,"hidden":false,"merged":[[5,1,5,6],[6,1,6,6],[7,1,7,6]]}
[]
[]
[]
[]
[]
[]
[]
[]
["CODIGO SEGMENTO","CUENTA (REPORTAR MÁXIMO A NIVEL 8)","NOMBRE CUENTA","SALDO INICIAL","DEBITOS PERIODO","CREDITOS PERIODO","SALDO FINAL"]
[3.1,"1.","ACTIVO",165832845328.79001,9632467223.5,7481418259.8199997,167983894292.47]
[3.1,"1.1.","Activo Corriente",2822037062.1700001,9196775857.0599995,7248270264.2399998,4770542654.9899998]
[3.1,"1.1.1.","Efectivo  equivalentes de efectivo",2106811911.3199999,4162651035.98,4395708118.9399996,1873754828.3599999]
[3.1,"1.1.1.01.","Efectivo",2106811911.3199999,3493337325.3000002,4365708118.9399996,1234441117.6800001]
[3.1,"1.1.1.01.02.","Depósitos bancarios",2103561911.3199999,3493337325.3000002,4365708118.9399996,1231191117.6800001]
[3.1,"1.1.1.01.02.02.","Depósitos bancarios en el sector público interno",2103561911.3199999,3493337325.3000002,4365708118.9399996,1231191117.6800001]
[3.1,"1.1.1.01.02.02.2.","Cuentas corrientes en el sector público interno",687233539.54999995,1085346021.28,1640436827.8900001,132142732.94]
[3.1,"1.1.1.01.02.02.2.21101","Banco Costa Rica",372598001.66000003,165661058.38,501879721.37,36379338.670000002]
[3.1,"1.1.1.01.02.02.2.21103","Banco Nacional de Costa Rica",314635537.88999999,919684962.89999998,1138557106.52,95763394.269999996]
[3.1,"1.1.1.01.02.02.3.","Caja Única",1416328371.77,2407991304.02,2725271291.0500002,1099048384.74]
[3.1,"1.1.1.01.02.02.3.11206","Ministerio de Hacienda",1416328371.77,2407991304.02,2725271291.0500002,1099048384.74]
[3.1,"1.1.1.01.03.","Cajas chicas  fondos rotatorios",3250000,0,0,3250000]
[3.1,"1.1.1.01.03.01.","Cajas chicas",2250000,0,0,2250000]
[3.1,"1.1.1.01.03.01.2.","Cajas chicas en el país",2250000,0,0,2250000]
[3.1,"1.1.1.01.03.01.2.99999","Cajas chicas en el país",2250000,0,0,2250000]
[3.1,"1.1.1.01.03.02.","Fondos rotatorios",1000000,0,0,1000000]
[3.1,"1.1.1.01.03.02.2.","Fondos rotatorios en el sector público interno",1000000,0,0,1000000]
[3.1,"1.1.1.01.03.02.2.99999","Fondos rotatorios en el sector público interno",1000000,0,0,1000000]
[3.1,"1.1.1.02.","Equivalentes de efectivo",0,669313710.67999995,30000000,639313710.67999995]
[3.1,"1.1.1.02.99.","Otros equivalentes de efectivo",0,669313710.67999995,30000000,639313710.67999995]
[3.1,"1.1.1.02.99.02.","Otros equivalentes de efectivo en el sector público interno",0,669313710.67999995,30000000,639313710.67999995]
[3.1,"1.1.1.02.99.02.0.","Otros equivalentes de efectivo en el sector público interno",0,669313710.67999995,30000000,639313710.67999995]
[3.1,"1.1.1.02.99.02.0.21101","Banco Costa Rica",0,334652013.35000002,15000000,319652013.35000002]
[3.1,"1.1.1.02.99.02.0.21103","Banco Nacional de Costa Rica",0,334661697.32999998,15000000,319661697.32999998]
[3.1,"1.1.3.","Cuentas a cobrar a c/p",495942436.38999999,4977275919.46,2787364820.4400001,2685853535.4099998]
[3.1,"1.1.3.01.","Impuestos a cobrar a c/p",488369513.36000001,746681273.01999998,824202997.95000005,410847788.43000001]
[3.1,"1.1.3.01.02.","Impuestos sobre la propiedad a cobrar c/p",454864572.41000003,576428574.85000002,645850949.15999997,385442198.10000002]
[3.1,"1.1.3.01.02.01.","Impuesto sobre la propiedad de bienes inmuebles a cobrar c/p",454864572.41000003,576428574.85000002,645850949.15999997,385442198.10000002]
[3.1,"1.1.3.01.02.01.0.","Impuesto sobre la propiedad de bienes inmuebles a cobrar c/p",454864572.41000003,576428574.85000002,645850949.15999997,385442198.10000002]
[3.1,"1.1.3.01.02.01.0.99999","Impuesto sobre la propiedad de bienes inmuebles a cobrar c/p",454864572.41000003,576428574.85000002,645850949.15999997,385442198.10000002]
[3.1,"1.1.3.01.03.","Impuestos sobre bienes y servicios a cobrar c/p",33504940.949999999,170252698.16999999,178352048.78999999,25405590.329999998]
[3.1,"1.1.3.01.03.99.","Otros Impuestos sobre bienes y servicios a cobrar c/p",33504940.949999999,170252698.16999999,178352048.78999999,25405590.329999998]
[3.1,"1.1.3.01.03.99.1.","Licencias profesionales, comerciales y otros permisos a cobrar c/p",30044160.510000002,162077559.87,171233997.47,20887722.91]
[3.1,"1.1.3.01.03.99.1.99999","Licencias profesionales, comerciales y otros permisos a cobrar c/p",30044160.510000002,162077559.87,171233997.47,20887722.91]
[3.1,"1.1.3.01.03.99.9.","Otros impuestos varios sobre bienes y servicios a cobrar c/p",3460780.44,8175138.2999999998,7118051.3200000003,4517867.42]
[3.1,"1.1.3.01.03.99.9.99999","Otros impuestos varios sobre bienes y servicios a cobrar c/p",3460780.44,8175138.2999999998,7118051.3200000003,4517867.42]
[3.1,"1.1.3.04.","Servicios y derechos a cobrar a corto plazo",180183637.80000001,442013787.26999998,380055723.61000001,242141701.46000001]
[3.1,"1.1.3.04.01.","Servicios a cobrar c/p",179741182.80000001,441354308.94,379465228.61000001,241630263.13]
[3.1,"1.1.3.04.01.04.","Servicios comunitarios a cobrar c/p",179741182.80000001,441354308.94,379465228.61000001,241630263.13]
[3.1,"1.1.3.04.01.04.0.","Servicios comunitarios a cobrar c/p",179741182.80000001,441354308.94,379465228.61000001,241630263.13]
[3.1,"1.1.3.04.01.04.0.99999","Servicios comunitarios a cobrar c/p",179741182.80000001,441354308.94,379465228.61000001,241630263.13]
[3.1,"1.1.3.04.02.","Derechos administrativos a cobrar c/p",442455,659478.32999999996,590495,511438.33]
[3.1,"1.1.3.04.02.01.","Derechos administrativos a los servicios de transporte a cobrar c/p",50000,430000,400000,80000]
[3.1,"1.1.3.04.02.01.0.","Derechos administrativos a los servicios de transporte a cobrar c/p",50000,430000,400000,80000]
[3.1,"1.1.3.04.02.01.0.99999","Derechos administrativos a los servicios de transporte a cobrar c/p  Derecho de piso  uso terminal",50000,430000,400000,80000]
[3.1,"1.1.3.04.02.99.","Otros derechos administrativos a cobrar c/p",392455,229478.33,190495,431438.33]
[3.1,"1.1.3.04.02.99.0.","Otros derechos administrativos a cobrar c/p",392455,229478.33,190495,431438.33]
[3.1,"1.1.3.04.02.99.0.99999","Otros derechos administrativos a cobrar c/p Derecho cementerio",392455,229478.33,190495,431438.33]
[3.1,"1.1.3.06.","Transferencias a cobrar a c/p",0,3784139549.0700002,1579396224.78,2204743324.29]
[3.1,"1.1.3.06.02.","Transferencias del sector público interno a cobrar c/p",0,3784139549.0700002,1579396224.78,2204743324.29]
[3.1,"1.1.3.06.02.01.","Transferencias del Gobierno Central a cobrar c/p",0,3772816719,1572006966.21,2200809752.79]
[3.1,"1.1.3.06.02.01.0.","Transferencias del Gobierno Central a cobrar c/p",0,3772816719,1572006966.21,2200809752.79]
[3.1,"1.1.3.06.02.01.0.11206","Ministerio de Hacienda",0,3772816719,1572006966.21,2200809752.79]
[3.1,"1.1.3.06.02.03.","Transferencias de Instituciones Descentralizadas no Empresariales a cobrar c/p",0,11322830.07,7389258.5700000003,3933571.5]
[3.1,"1.1.3.06.02.03.0.","Transferencias de Instituciones Descentralizadas no Empresariales a cobrar c/p",0,11322830.07,7389258.5700000003,3933571.5]
[3.1,"1.1.3.06.02.03.0.14226","Transferencias de Instituciones Descentralizadas no Empresariales a cobrar c/p (Aporte IFAM Licores Nacionales y Ext)",0,11322830.07,7389258.5700000003,3933571.5]
[3.1,"1.1.3.98.","Otras cuentas a cobrar a corto plazo",2767182.6,4441310.0999999996,3709874.1,3498618.6]
[3.1,"1.1.3.98.01.","Multas, sanciones, remates y confiscaciones de origen no tributario a cobrar c/p",2267182.6,4441310.0999999996,3709874.1,2998618.6]
[3.1,"1.1.3.98.01.01.","Multas y sanciones administrativas a cobrar c/p",2267182.6,4441310.0999999996,3709874.1,2998618.6]
[3.1,"1.1.3.98.01.01.0.","Multas y sanciones administrativas a cobrar c/p",2267182.6,4441310.0999999996,3709874.1,2998618.6]
[3.1,"1.1.3.98.01.01.0.99999","Multas y sanciones administrativas a cobrar c/p",2267182.6,4441310.0999999996,3709874.1,2998618.6]
[3.1,"1.1.3.98.03.","Depósitos en garantía c/p",500000,0,0,500000]
[3.1,"1.1.3.98.03.02.","Depósitos en garantía en el sector público interno c/p",500000,0,0,500000]
[3.1,"1.1.3.98.03.02.0.","Depósitos en garantía en el sector público interno c/p",500000,0,0,500000]
[3.1,"1.1.3.98.03.02.0.99999","Depósitos en garantía en el sector público interno c/p",500000,0,0,500000]
[3.1,"1.1.3.99.","Previsiones para deterioro de cuentas a cobrar a corto plazo *",-175377897.37,0,0,-175377897.37]
[3.1,"1.1.3.99.01.","Previsiones para impuestos a cobrar c/p *",-116983004.63,0,0,-116983004.63]
[3.1,"1.1.3.99.01.02.","Previsiones para impuestos sobre la propiedad a cobrar c/p *",-106283608.29000001,0,0,-106283608.29000001]
[3.1,"1.1.3.99.01.02.0.","Previsiones para impuestos sobre la propiedad a cobrar c/p *",-106283608.29000001,0,0,-106283608.29000001]
[3.1,"1.1.3.99.01.02.0.99999","Previsiones para impuestos sobre la propiedad a cobrar c/p *",-106283608.29000001,0,0,-106283608.29000001]
[3.1,"1.1.3.99.01.03.","Previsiones para impuestos sobre bienes y servicios a cobrar c/p *",-9270015.0099999998,0,0,-9270015.0099999998]
[3.1,"1.1.3.99.01.03.0.","Previsiones para impuestos sobre bienes y servicios a cobrar c/p *",-9270015.0099999998,0,0,-9270015.0099999998]
[3.1,"1.1.3.99.01.03.0.99999","Previsiones para impuestos sobre bienes y servicios a cobrar c/p *",-9270015.0099999998,0,0,-9270015.0099999998]
[3.1,"1.1.3.99.01.99.","Previsiones para otros impuestos a cobrar c/p *",-1429381.33,0,0,-1429381.33]
[3.1,"1.1.3.99.01.99.0.","Previsiones para otros impuestos a cobrar c/p *",-1429381.33,0,0,-1429381.33]
[3.1,"1.1.3.99.01.99.0.99999","Previsiones para otros impuestos a cobrar c/p *",-1429381.33,0,0,-1429381.33]
[3.1,"1.1.3.99.04.","Previsiones para servicios a cobrar c/p *",-51378929.549999997,0,0,-51378929.549999997]
[3.1,"1.1.3.99.04.01.","Previsiones para ventas de servicios a cobrar c/p *",-50738208.689999998,0,0,-50738208.689999998]
[3.1,"1.1.3.99.04.01.0.","Previsiones para ventas de servicios a cobrar c/p *",-50738208.689999998,0,0,-50738208.689999998]
[3.1,"1.1.3.99.04.01.0.99999","Previsiones para ventas de servicios a cobrar c/p *",-50738208.689999998,0,0,-50738208.689999998]
[3.1,"1.1.3.99.04.02.","Previsiones para derechos administrativos a cobrar c/p *",-640720.86,0,0,-640720.86]
[3.1,"1.1.3.99.04.02.0.","Previsiones para derechos administrativos a cobrar c/p *",-640720.86,0,0,-640720.86]
[3.1,"1.1.3.99.04.02.0.99999","Previsiones para derechos administrativos a cobrar c/p *",-640720.86,0,0,-640720.86]
[3.1,"1.1.3.99.05.","Previsiones para ingresos de la propiedad a cobrar c/p *",-7015963.1900000004,0,0,-7015963.1900000004]
[3.1,"1.1.3.99.05.01.","Previsiones para alquileres y derechos sobre bienes a cobrar c/p *",-7015963.1900000004,0,0,-7015963.1900000004]
[3.1,"1.1.3.99.05.01.0.","Previsiones para alquileres y derechos sobre bienes a cobrar c/p *",-7015963.1900000004,0,0,-7015963.1900000004]
[3.1,"1.1.3.99.05.01.0.99999","Previsiones para alquileres y derechos sobre bienes a cobrar c/p *",-7015963.1900000004,0,0,-7015963.1900000004]
[3.1,"1.1.4.","Inventarios",192987092.22,34370643.619999997,32995207.93,194362527.91]
[3.1,"1.1.4.01.","Materiales y suministros para consumo y prestación de servicios",192987092.22,34370643.619999997,32995207.93,194362527.91]
[3.1,"1.1.4.01.01.","Productos químicos y conexos",21280495.09,1224651.7,6028183.3899999997,16476963.4]
[3.1,"1.1.4.01.01.01.","Combustibles y lubricantes",17684339.460000001,0,5186785.24,12497554.220000001]
[3.1,"1.1.4.01.01.01.0.","Combustibles y lubricantes",17684339.460000001,0,5186785.24,12497554.220000001]
[3.1,"1.1.4.01.01.01.0.99999","Combustibles y lubricantes",17684339.460000001,0,5186785.24,12497554.220000001]
[3.1,"1.1.4.01.01.02.","Productos farmacéuticos y medicinales",6400,0,6400,0]
[3.1,"1.1.4.01.01.02.0.","Productos farmacéuticos y medicinales",6400,0,6400,0]
[3.1,"1.1.4.01.01.02.0.99999","Productos farmacéuticos y medicinales",6400,0,6400,0]
[3.1,"1.1.4.01.01.04.","Tintas, pinturas y diluyentes",2775593.63,1191051.7,512008.25,3454637.08]
[3.1,"1.1.4.01.01.04.0.","Tintas, pinturas y diluyentes",2775593.63,1191051.7,512008.25,3454637.08]
[3.1,"1.1.4.01.01.04.0.99999","Tintas, pinturas y diluyentes",2775593.63,1191051.7,512008.25,3454637.08]
[3.1,"1.1.4.01.01.99.","Otros productos químicos y conexos",814162,33600,322989.90000000002,524772.1]
[3.1,"1.1.4.01.01.99.0.","Otros productos químicos y conexos",814162,33600,322989.90000000002,524772.1]
[3.1,"1.1.4.01.01.99.0.99999","Otros productos químicos y conexos",814162,33600,322989.90000000002,524772.1]
[3.1,"1.1.4.01.03.","Materiales y productos de uso en la construcción y mantenimiento",30127789.25,3332210.2,9561175.8000000007,23898823.649999999]
[3.1,"1.1.4.01.03.01.","Materiales y productos metálicos",25238704.199999999,263620,4162159.39,21340164.809999999]
[3.1,"1.1.4.01.03.01.0.","Materiales y productos metálicos",25238704.199999999,263620,4162159.39,21340164.809999999]
[3.1,"1.1.4.01.03.01.0.99999","Materiales y productos metálicos",25238704.199999999,263620,4162159.39,21340164.809999999]
[3.1,"1.1.4.01.03.02.","Materiales y productos minerales y asfálticos",3708677,3004645.2,4489554,2223768.2000000002]
[3.1,"1.1.4.01.03.02.0.","Materiales y productos minerales y asfálticos",3708677,3004645.2,4489554,2223768.2000000002]
[3.1,"1.1.4.01.03.02.0.99999","Materiales y productos minerales y asfálticos",3708677,3004645.2,4489554,2223768.2000000002]
[3.1,"1.1.4.01.03.03.","Madera y sus derivados",896515,63945,895210,65250]
[3.1,"1.1.4.01.03.03.0.","Madera y sus derivados",896515,63945,895210,65250]
[3.1,"1.1.4.01.03.03.0.99999","Madera y sus derivados",896515,63945,895210,65250]
[3.1,"1.1.4.01.03.04.","Materiales y productos eléctricos, telefónicos y de cómputo",135171.56,0,14252.41,120919.15]
[3.1,"1.1.4.01.03.04.0.","Materiales y productos eléctricos, telefónicos y de cómputo",135171.56,0,14252.41,120919.15]
[3.1,"1.1.4.01.03.04.0.99999","Materiales y productos eléctricos, telefónicos y de cómputo",135171.56,0,14252.41,120919.15]
[3.1,"1.1.4.01.03.06.","Materiales y productos de plástico",148721.49,0,0,148721.49]
[3.1,"1.1.4.01.03.06.0.","Materiales y productos de plástico",148721.49,0,0,148721.49]
[3.1,"1.1.4.01.03.06.0.99999","Materiales y productos de plástico",148721.49,0,0,148721.49]
[3.1,"1.1.4.01.04.","Herramientas, repuestos y accesorios",131278007.78,16486340.68,6049097.5599999996,141715250.90000001]
[3.1,"1.1.4.01.04.01.","Herramientas e instrumentos",1233641.5,412156.69,387506.69,1258291.5]
[3.1,"1.1.4.01.04.01.0.","Herramientas e instrumentos",1233641.5,412156.69,387506.69,1258291.5]
[3.1,"1.1.4.01.04.01.0.99999","Herramientas e instrumentos",1233641.5,412156.69,387506.69,1258291.5]
[3.1,"1.1.4.01.04.02.","Repuestos y accesorios Nuevos",130044366.28,16074183.99,5661590.8700000001,140456959.40000001]
[3.1,"1.1.4.01.04.02.0.","Repuestos y accesorios Nuevos",130044366.28,16074183.99,5661590.8700000001,140456959.40000001]
[3.1,"1.1.4.01.04.02.0.99999","Repuestos y accesorios Nuevos",130044366.28,16074183.99,5661590.8700000001,140456959.40000001]
[3.1,"1.1.4.01.99.","Útiles, materiales y suministros diversos",10300800.1,13327441.039999999,11356751.18,12271489.960000001]
[3.1,"1.1.4.01.99.01.","Útiles y materiales de oficina y cómputo",1943168.61,434614.23,530781.48,1847001.36]
[3.1,"1.1.4.01.99.01.0.","Útiles y materiales de oficina y cómputo",1943168.61,434614.23,530781.48,1847001.36]
[3.1,"1.1.4.01.99.01.0.99999","Útiles y materiales de oficina y cómputo",1943168.61,434614.23,530781.48,1847001.36]
[3.1,"1.1.4.01.99.02.","Útiles y materiales médico, hospitalario y de investigación",0,675000,486000,189000]
[3.1,"1.1.4.01.99.02.0.","Útiles y materiales médico, hospitalario y de investigación",0,675000,486000,189000]
[3.1,"1.1.4.01.99.02.0.99999","Útiles y materiales médico, hospitalario y de investigación",0,675000,486000,189000]
[3.1,"1.1.4.01.99.03.","Productos de papel, cartón e impresos",2730589.18,607392,616819.09,2721162.09]
[3.1,"1.1.4.01.99.03.0.","Productos de papel, cartón e impresos",2730589.18,607392,616819.09,2721162.09]
[3.1,"1.1.4.01.99.03.0.99999","Productos de papel, cartón e impresos",2730589.18,607392,616819.09,2721162.09]
[3.1,"1.1.4.01.99.04.","Textiles y vestuario",306936.34999999998,5217922,5122114,402744.35]
[3.1,"1.1.4.01.99.04.0.","Textiles y vestuario",306936.34999999998,5217922,5122114,402744.35]
[3.1,"1.1.4.01.99.04.0.99999","Textiles y vestuario",306936.34999999998,5217922,5122114,402744.35]
[3.1,"1.1.4.01.99.05.","Útiles y materiales de limpieza",2737377.74,1523296.77,1336421.2,2924253.31]
[3.1,"1.1.4.01.99.05.0.","Útiles y materiales de limpieza",2737377.74,1523296.77,1336421.2,2924253.31]
[3.1,"1.1.4.01.99.05.0.99999","Útiles y materiales de limpieza",2737377.74,1523296.77,1336421.2,2924253.31]
[3.1,"1.1.4.01.99.06.","Útiles y materiales de resguardo y seguridad",2042904.22,4609053.04,3180245.41,3471711.85]
[3.1,"1.1.4.01.99.06.0.","Útiles y materiales de resguardo y seguridad",2042904.22,4609053.04,3180245.41,3471711.85]
[3.1,"1.1.4.01.99.06.0.99999","Útiles y materiales de resguardo y seguridad",2042904.22,4609053.04,3180245.41,3471711.85]
[3.1,"1.1.4.01.99.99.","Otros útiles, materiales y suministros diversos",539824,260163,84370,715617]
[3.1,"1.1.4.01.99.99.0.","Otros útiles, materiales y suministros diversos",539824,260163,84370,715617]
[3.1,"1.1.4.01.99.99.0.99999","Otros útiles, materiales y suministros diversos",539824,260163,84370,715617]
[3.1,"1.1.9.","Otros activos a corto plazo",26295622.239999998,22478258,32202116.93,16571763.310000001]
[3.1,"1.1.9.01.","Gastos a devengar a corto plazo",26295622.239999998,22478258,32202116.93,16571763.310000001]
[3.1,"1.1.9.01.01.","Servicios a devengar c/p",26295622.239999998,22478258,32202116.93,16571763.310000001]
[3.1,"1.1.9.01.01.01.","Primas y gastos de seguros a devengar c/p",26295622.239999998,22478258,32202116.93,16571763.310000001]
[3.1,"1.1.9.01.01.01.0.","Primas y gastos de seguros a devengar c/p",26295622.239999998,22478258,32202116.93,16571763.310000001]
[3.1,"1.1.9.01.01.01.0.99999","Primas y gastos de seguros a devengar c/p",26295622.239999998,22478258,32202116.93,16571763.310000001]
[3.1,"1.2.","Activo No Corriente",163010808266.62,435691366.44,233147995.58000001,163213351637.48001]
[3.1,"1.2.5.","Bienes no concesionados",163010808266.62,435691366.44,233147995.58000001,163213351637.48001]
[3.1,"1.2.5.01.","Propiedades, planta y equipos explotados",2155163988.3499999,414166124.81999999,222530477.02000001,2346799636.1500001]
[3.1,"1.2.5.01.02.","Edificios",1250873080.6600001,45381425.829999998,42607579.659999996,1253646926.8299999]
[3.1,"1.2.5.01.02.01.","Edificios de oficinas  atención al públ",439702157.05000001,1436968.18,4867888.12,436271237.11000001]
[3.1,"1.2.5.01.02.01.1.","Edificios de oficinas y atención público Valores Origen",258127776.78999999,0,0,258127776.78999999]
[3.1,"1.2.5.01.02.01.1.99999","Edificios de oficinas y atención público Valores Origen",258127776.78999999,0,0,258127776.78999999]
[3.1,"1.2.5.01.02.01.3.","Edificios oficinas y atención público Depreciación Acumulada",-9149119.7400000002,1436968.18,4867888.12,-12580039.68]
[3.1,"1.2.5.01.02.01.3.99999","Edificios oficinas y atención público Depreciación Acumulada",-9149119.7400000002,1436968.18,4867888.12,-12580039.68]
[3.1,"1.2.5.01.02.01.6.","Edificios oficinas y atención público Porción Terreno Valores Origen",190723500,0,0,190723500]
[3.1,"1.2.5.01.02.01.6.99999","Edificios oficinas y atención público Porción Terreno Valores Origen",190723500,0,0,190723500]
[3.1,"1.2.5.01.02.04.","Bodegas",0,15931666.67,8690000.0099999998,7241666.6600000001]
[3.1,"1.2.5.01.02.04.1.","Bodegas Valores de origen",0,15800000,0,15800000]
[3.1,"1.2.5.01.02.04.1.99999","Bodegas Valores de origen",0,15800000,0,15800000]
[3.1,"1.2.5.01.02.04.3.","Bodegas Depreciaciones acumuladas *",0,131666.67000000001,8690000.0099999998,-8558333.3399999999]
[3.1,"1.2.5.01.02.04.3.99999","Bodegas Depreciaciones acumuladas *",0,131666.67000000001,8690000.0099999998,-8558333.3399999999]
[3.1,"1.2.5.01.02.05.","Locales",297585392.31,7750489.0099999998,4833505.83,300502375.49000001]
[3.1,"1.2.5.01.02.05.1.","Locales Valores de origen",198576095.40000001,0,0,198576095.40000001]
[3.1,"1.2.5.01.02.05.1.99999","Locales Valores de origen",198576095.40000001,0,0,198576095.40000001]
[3.1,"1.2.5.01.02.05.3.","Locales Depreciaciones acumuladas *",-6823353.0899999999,2180339.0099999998,4833505.83,-9476519.9100000001]
[3.1,"1.2.5.01.02.05.3.99999","Locales Depreciaciones acumuladas *",-6823353.0899999999,2180339.0099999998,4833505.83,-9476519.9100000001]
[3.1,"1.2.5.01.02.05.5.","Locales Mejoras",0,5570150,0,5570150]
[3.1,"1.2.5.01.02.05.5.99999","Locales Mejoras",0,5570150,0,5570150]
[3.1,"1.2.5.01.02.05.6.","Locales Porción terreno: valores de origen",105832650,0,0,105832650]
[3.1,"1.2.5.01.02.05.6.99999","Locales Porción terreno: valores de origen",105832650,0,0,105832650]
[3.1,"1.2.5.01.02.99.","Otros edificios",513585531.30000001,20262301.969999999,24216185.699999999,509631647.56999999]
[3.1,"1.2.5.01.02.99.1.","Otros edificios Valores de origen",362322050.91000003,20205550,20205550,362322050.91000003]
[3.1,"1.2.5.01.02.99.1.99999","Otros edificios Valores de origen",362322050.91000003,20205550,20205550,362322050.91000003]
[3.1,"1.2.5.01.02.99.3.","Otros edificios Depreciaciones acumuladas *",-10193719.609999999,56751.97,4010635.7,-14147603.34]
[3.1,"1.2.5.01.02.99.3.99999","Otros edificios Depreciaciones acumuladas *",-10193719.609999999,56751.97,4010635.7,-14147603.34]
[3.1,"1.2.5.01.02.99.6.","Otros edificios Porción terreno: valores de origen",161457200,0,0,161457200]
[3.1,"1.2.5.01.02.99.6.99999","Otros edificios Porción terreno: valores de origen",161457200,0,0,161457200]
[3.1,"1.2.5.01.03.","Maquinaria  equipos para la producción",786374545.99000001,283057053.07999998,131104820.52,938326778.54999995]
[3.1,"1.2.5.01.03.01.","Maquinaria para la construcción",754306983.34000003,276310126.19,126061948.34999999,904555161.17999995]
[3.1,"1.2.5.01.03.01.1.","Maquinaria para la construcción Valores de origen",1997638163.9000001,275638032.06,0,2273276195.96]
[3.1,"1.2.5.01.03.01.1.99999","Maquinaria para la construcción Valores de origen",1997638163.9000001,275638032.06,0,2273276195.96]
[3.1,"1.2.5.01.03.01.3.","Maq para la construcción Depreciaciones acumuladas",-1243331180.5599999,672094.13,126061948.34999999,-1368721034.78]
[3.1,"1.2.5.01.03.01.3.99999","Maq para la construcción Depreciaciones acumuladas",-1243331180.5599999,672094.13,126061948.34999999,-1368721034.78]
[3.1,"1.2.5.01.03.03.","Planta eléctrica",3500057.28,0,172989.48,3327067.8]
[3.1,"1.2.5.01.03.03.1.","Planta eléctrica Valores de origen",5189684.8,0,0,5189684.8]
[3.1,"1.2.5.01.03.03.1.99999","Planta eléctrica Valores de origen",5189684.8,0,0,5189684.8]
[3.1,"1.2.5.01.03.03.3.","Planta eléctrica Depreciaciones acumuladas *",-1689627.52,0,172989.48,-1862617]
[3.1,"1.2.5.01.03.03.3.99999","Planta eléctrica Depreciaciones acumuladas *",-1689627.52,0,172989.48,-1862617]
[3.1,"1.2.5.01.03.06.","Equipos hidráulicos",181634.5,0,10580.64,171053.86]
[3.1,"1.2.5.01.03.06.1.","Equipos hidráulicos Valores de origen",280058,0,0,280058]
[3.1,"1.2.5.01.03.06.1.99999","Equipos hidráulicos Valores de origen",280058,0,0,280058]
[3.1,"1.2.5.01.03.06.3.","Equipos hidráulicos Depreciaciones acumuladas *",-98423.5,0,10580.64,-109004.14]
[3.1,"1.2.5.01.03.06.3.99999","Equipos hidráulicos Depreciaciones acumuladas *",-98423.5,0,10580.64,-109004.14]
[3.1,"1.2.5.01.03.08.","Equipos de medición",948171.86,0,318418.69,629753.17000000004]
[3.1,"1.2.5.01.03.08.1.","Equipos de medición Valores de origen",6734898.7300000004,0,0,6734898.7300000004]
[3.1,"1.2.5.01.03.08.1.99999","Equipos de medición Valores de origen",6734898.7300000004,0,0,6734898.7300000004]
[3.1,"1.2.5.01.03.08.3.","Equipos de medición Depreciaciones acumuladas *",-5786726.8700000001,0,318418.69,-6105145.5599999996]
[3.1,"1.2.5.01.03.08.3.99999","Equipos de medición Depreciaciones acumuladas *",-5786726.8700000001,0,318418.69,-6105145.5599999996]
[3.1,"1.2.5.01.03.09.","Bombas",5578043.8700000001,0,368332.74,5209711.13]
[3.1,"1.2.5.01.03.09.1.","Bombas Valores de origen",7392803,0,0,7392803]
[3.1,"1.2.5.01.03.09.1.99999","Bombas Valores de origen",7392803,0,0,7392803]
[3.1,"1.2.5.01.03.09.3.","Bombas Depreciaciones acumuladas *",-1814759.13,0,368332.74,-2183091.87]
[3.1,"1.2.5.01.03.09.3.99999","Bombas Depreciaciones acumuladas *",-1814759.13,0,368332.74,-2183091.87]
[3.1,"1.2.5.01.03.99.","Otra maquinarias y equipos para la producción",21859655.140000001,6746926.8899999997,4172550.62,24434031.41]
[3.1,"1.2.5.01.03.99.1.","Otra maquinarias y equipos para la producción Valor Origen",34343856.07,6686805.8499999996,0,41030661.920000002]
[3.1,"1.2.5.01.03.99.1.99999","Otra maquinarias y equipos para la producción Valor Origen",34343856.07,6686805.8499999996,0,41030661.920000002]
[3.1,"1.2.5.01.03.99.3.","Otra maquinarias y equipos para la producción Depreciación Acumulada",-12484200.93,60121.04,4172550.62,-16596630.51]
[3.1,"1.2.5.01.03.99.3.99999","Otra maquinarias y equipos para la producción Depreciación Acumulada",-12484200.93,60121.04,4172550.62,-16596630.51]
[3.1,"1.2.5.01.04.","Equipos de transporte, tracción  elevación",35355981.640000001,49444630,32135538.370000001,52665073.270000003]
[3.1,"1.2.5.01.04.01.","Motocicletas",1403960.4,0,235250.4,1168710]
[3.1,"1.2.5.01.04.01.1.","Motocicletas Valores de origen",10870894,0,0,10870894]
[3.1,"1.2.5.01.04.01.1.99999","Motocicletas Valores de origen",10870894,0,0,10870894]
[3.1,"1.2.5.01.04.01.3.","Motocicletas Depreciaciones acumuladas *",-9466933.5999999996,0,235250.4,-9702184]
[3.1,"1.2.5.01.04.01.3.99999","Motocicletas Depreciaciones acumuladas *",-9466933.5999999996,0,235250.4,-9702184]
[3.1,"1.2.5.01.04.02.","Vehículos",33329396.640000001,49444630,31866015.07,50908011.57]
[3.1,"1.2.5.01.04.02.1.","Vehículos Valores de origen",159744469.75,49444630,0,209189099.75]
[3.1,"1.2.5.01.04.02.1.99999","Vehículos Valores de origen",159744469.75,49444630,0,209189099.75]
[3.1,"1.2.5.01.04.02.3.","Vehículos Depreciaciones acumuladas *",-126415073.11,0,31866015.07,-158281088.18000001]
[3.1,"1.2.5.01.04.02.3.99999","Vehículos Depreciaciones acumuladas *",-126415073.11,0,31866015.07,-158281088.18000001]
[3.1,"1.2.5.01.04.99.","Otros equipos de transporte",622624.6,0,34272.9,588351.69999999995]
[3.1,"1.2.5.01.04.99.1.","Otros equipos de transporte Valores de origen",685458.25,0,0,685458.25]
[3.1,"1.2.5.01.04.99.1.99999","Otros equipos de transporte Valores de origen",685458.25,0,0,685458.25]
[3.1,"1.2.5.01.04.99.3.","Otros equipos transporte Depreciaciones acumuladas *",-62833.65,0,34272.9,-97106.55]
[3.1,"1.2.5.01.04.99.3.99999","Otros equipos transporte Depreciaciones acumuladas *",-62833.65,0,34272.9,-97106.55]
[3.1,"1.2.5.01.05.","Equipos de comunicación",18834276.370000001,2140124,1705157.96,19269242.41]
[3.1,"1.2.5.01.05.01.","Antenas  radares",617686.27,1586480,33303.800000000003,2170862.4700000002]
[3.1,"1.2.5.01.05.01.1.","Antenas y radares Valores de origen",803325.36,1586480,0,2389805.36]
[3.1,"1.2.5.01.05.01.1.99999","Antenas y radares Valores de origen",803325.36,1586480,0,2389805.36]
[3.1,"1.2.5.01.05.01.3.","Antenas y radares Depreciaciones acumuladas *",-185639.09,0,33303.800000000003,-218942.89]
[3.1,"1.2.5.01.05.01.3.99999","Antenas y radares Depreciaciones acumuladas *",-185639.09,0,33303.800000000003,-218942.89]
[3.1,"1.2.5.01.05.02.","Equipos de telefonía",715883.61,0,91389.42,624494.18999999994]
[3.1,"1.2.5.01.05.02.1.","Equipos de telefonía Valores de origen",3458113.3,0,0,3458113.3]
[3.1,"1.2.5.01.05.02.1.99999","Equipos de telefonía Valores de origen",3458113.3,0,0,3458113.3]
[3.1,"1.2.5.01.05.02.3.","Equipos de telefonía Depreciaciones acumuladas *",-2742229.69,0,91389.42,-2833619.11]
[3.1,"1.2.5.01.05.02.3.99999","Equipos de telefonía Depreciaciones acumuladas *",-2742229.69,0,91389.42,-2833619.11]
[3.1,"1.2.5.01.05.04.","Equipos de audio  video",12505413.4,553644,1315227.96,11743829.439999999]
[3.1,"1.2.5.01.05.04.1.","Equipos de audio y video Valores de origen",22576099.77,553644,0,23129743.77]
[3.1,"1.2.5.01.05.04.1.99999","Equipos de audio y video Valores de origen",22576099.77,553644,0,23129743.77]
[3.1,"1.2.5.01.05.04.3.","Equipos de audio y video Depreciaciones acumuladas",-10070686.369999999,0,1315227.96,-11385914.33]
[3.1,"1.2.5.01.05.04.3.99999","Equipos de audio y video Depreciaciones acumuladas",-10070686.369999999,0,1315227.96,-11385914.33]
[3.1,"1.2.5.01.05.99.","Otros equipos de comunicación",4995293.09,0,265236.78000000003,4730056.3099999996]
[3.1,"1.2.5.01.05.99.1.","Otros equipos de comunicación Valores de origen",5304736,0,0,5304736]
[3.1,"1.2.5.01.05.99.1.99999","Otros equipos de comunicación Valores de origen",5304736,0,0,5304736]
[3.1,"1.2.5.01.05.99.3.","Otros equipos de comunicaciónDepreciaciones acumuladas",-309442.90999999997,0,265236.78000000003,-574679.68999999994]
[3.1,"1.2.5.01.05.99.3.99999","Otros equipos de comunicaciónDepreciaciones acumuladas",-309442.90999999997,0,265236.78000000003,-574679.68999999994]
[3.1,"1.2.5.01.06.","Equipos  mobiliario de oficina",33924782.57,6594728.5700000003,6488649.8600000003,34030861.280000001]
[3.1,"1.2.5.01.06.01.","Archivadores, bibliotecas  armarios",6140371.3799999999,380518.34,666438.30000000005,5854451.4199999999]
[3.1,"1.2.5.01.06.01.1.","Archivadores, bibliotecas y armarios Valor Origen",17592360.27,379225,0,17971585.27]
[3.1,"1.2.5.01.06.01.1.99999","Archivadores, bibliotecas y armarios Valor Origen",17592360.27,379225,0,17971585.27]
[3.1,"1.2.5.01.06.01.3.","Archivadores bibliotecas y armarios Deprec Acum",-11451988.890000001,1293.3399999999999,666438.30000000005,-12117133.85]
[3.1,"1.2.5.01.06.01.3.99999","Archivadores bibliotecas y armarios Deprec Acum",-11451988.890000001,1293.3399999999999,666438.30000000005,-12117133.85]
[3.1,"1.2.5.01.06.02.","Mesas  escritorios",7882463.8700000001,708311,699853.94,7890920.9299999997]
[3.1,"1.2.5.01.06.02.1.","Mesas y escritorios Valores de origen",14653856.369999999,708311,0,15362167.369999999]
[3.1,"1.2.5.01.06.02.1.99999","Mesas y escritorios Valores de origen",14653856.369999999,708311,0,15362167.369999999]
[3.1,"1.2.5.01.06.02.3.","Mesas y escritorios Depreciaciones acumuladas *",-6771392.5,0,699853.94,-7471246.4400000004]
[3.1,"1.2.5.01.06.02.3.99999","Mesas y escritorios Depreciaciones acumuladas *",-6771392.5,0,699853.94,-7471246.4400000004]
[3.1,"1.2.5.01.06.03.","Sillas  bancos",5051640.6900000004,277396,453193.11,4875843.58]
[3.1,"1.2.5.01.06.03.1.","Sillas y bancos Valores de origen",9996276.9199999999,277396,0,10273672.92]
[3.1,"1.2.5.01.06.03.1.99999","Sillas y bancos Valores de origen",9996276.9199999999,277396,0,10273672.92]
[3.1,"1.2.5.01.06.03.3.","Sillas y bancos Depreciaciones acumuladas *",-4944636.2300000004,0,453193.11,-5397829.3399999999]
[3.1,"1.2.5.01.06.03.3.99999","Sillas y bancos Depreciaciones acumuladas *",-4944636.2300000004,0,453193.11,-5397829.3399999999]
[3.1,"1.2.5.01.06.05.","Equipos de ventilación",10651401.060000001,3417145.84,3778629.61,10289917.289999999]
[3.1,"1.2.5.01.06.05.1.","Equipos de ventilación Valores de origen",19490955,3362500,1597500,21255955]
[3.1,"1.2.5.01.06.05.1.99999","Equipos de ventilación Valores de origen",19490955,3362500,1597500,21255955]
[3.1,"1.2.5.01.06.05.3.","Equipos de ventilación Depreciaciones acumuladas *",-8839553.9399999995,54645.84,2181129.61,-10966037.710000001]
[3.1,"1.2.5.01.06.05.3.99999","Equipos de ventilación Depreciaciones acumuladas *",-8839553.9399999995,54645.84,2181129.61,-10966037.710000001]
[3.1,"1.2.5.01.06.99.","Otros equipos  mobiliario",4198905.57,1811357.39,890534.9,5119728.0599999996]
[3.1,"1.2.5.01.06.99.1.","Otros equipos y mobiliario Valores de origen",8129156.3399999999,1809524,0,9938680.3399999999]
[3.1,"1.2.5.01.06.99.1.99999","Otros equipos y mobiliario Valores de origen",8129156.3399999999,1809524,0,9938680.3399999999]
[3.1,"1.2.5.01.06.99.3.","Otros equipos y mobiliario Depreciaciones acumuladas",-3930250.77,1833.39,890534.9,-4818952.28]
[3.1,"1.2.5.01.06.99.3.99999","Otros equipos y mobiliario Depreciaciones acumuladas",-3930250.77,1833.39,890534.9,-4818952.28]
[3.1,"1.2.5.01.07.","Equipos para computación",25812942.670000002,14139652.34,6789270.1699999999,33163324.84]
[3.1,"1.2.5.01.07.01.","Computadoras",15771655.710000001,5567670.2000000002,4157789.91,17181536]
[3.1,"1.2.5.01.07.01.1.","Computadoras Valores de origen",62424668.5,5493835,0,67918503.5]
[3.1,"1.2.5.01.07.01.1.99999","Computadoras Valores de origen",62424668.5,5493835,0,67918503.5]
[3.1,"1.2.5.01.07.01.3.","Computadoras Depreciaciones acumuladas *",-46653012.789999999,73835.199999999997,4157789.91,-50736967.5]
[3.1,"1.2.5.01.07.01.3.99999","Computadoras Depreciaciones acumuladas *",-46653012.789999999,73835.199999999997,4157789.91,-50736967.5]
[3.1,"1.2.5.01.07.02.","Impresoras",4395203.12,483046,1099909.26,3778339.86]
[3.1,"1.2.5.01.07.02.1.","Impresoras Valores de origen",18223755.879999999,483046,0,18706801.879999999]
[3.1,"1.2.5.01.07.02.1.99999","Impresoras Valores de origen",18223755.879999999,483046,0,18706801.879999999]
[3.1,"1.2.5.01.07.02.3.","Impresoras Depreciaciones acumuladas *",-13828552.76,0,1099909.26,-14928462.02]
[3.1,"1.2.5.01.07.02.3.99999","Impresoras Depreciaciones acumuladas *",-13828552.76,0,1099909.26,-14928462.02]
[3.1,"1.2.5.01.07.04.","Monitores",2262347.1800000002,984321.87,760389.18,2486279.87]
[3.1,"1.2.5.01.07.04.1.","Monitores Valores de origen",8849612.7400000002,616590,0,9466202.7400000002]
[3.1,"1.2.5.01.07.04.1.99999","Monitores Valores de origen",8849612.7400000002,616590,0,9466202.7400000002]
[3.1,"1.2.5.01.07.04.3.","Monitores Depreciaciones acumuladas *",-6587265.5599999996,367731.87,760389.18,-6979922.8700000001]
[3.1,"1.2.5.01.07.04.3.99999","Monitores Depreciaciones acumuladas *",-6587265.5599999996,367731.87,760389.18,-6979922.8700000001]
[3.1,"1.2.5.01.07.05.","UPS",161609.03,63274,38042.58,186840.45]
[3.1,"1.2.5.01.07.05.1.","UPS Valores de origen",1260960.6499999999,63274,0,1324234.6499999999]
[3.1,"1.2.5.01.07.05.1.99999","UPS Valores de origen",1260960.6499999999,63274,0,1324234.6499999999]
[3.1,"1.2.5.01.07.05.3.","UPS Depreciaciones acumuladas *",-1099351.6200000001,0,38042.58,-1137394.2]
[3.1,"1.2.5.01.07.05.3.99999","UPS Depreciaciones acumuladas *",-1099351.6200000001,0,38042.58,-1137394.2]
[3.1,"1.2.5.01.07.99.","Otros equipos de cómputo",3222127.63,7041340.2699999996,733139.24,9530328.6600000001]
[3.1,"1.2.5.01.07.99.1.","Otros equipos de cómputo Valores de origen",8565461.8399999999,7041340.2699999996,0,15606802.109999999]
[3.1,"1.2.5.01.07.99.1.99999","Otros equipos de cómputo Valores de origen",8565461.8399999999,7041340.2699999996,0,15606802.109999999]
[3.1,"1.2.5.01.07.99.3.","Otros equipos de cómputo Depreciaciones acumuladas *",-5343334.21,0,733139.24,-6076473.4500000002]
[3.1,"1.2.5.01.07.99.3.99999","Otros equipos de cómputo Depreciaciones acumuladas *",-5343334.21,0,733139.24,-6076473.4500000002]
[3.1,"1.2.5.01.09.","Equipos y  mobiliario educacional deportivo  recreativo",0,12633214.119999999,842214.28,11790999.84]
[3.1,"1.2.5.01.09.05.","Equipos de entretenimiento",0,12633214.119999999,842214.28,11790999.84]
[3.1,"1.2.5.01.09.05.1.","Equipos de entretenimiento Valores de origen",0,12633214.119999999,0,12633214.119999999]
[3.1,"1.2.5.01.09.05.1.99999","Equipos de entretenimiento Valores de origen",0,12633214.119999999,0,12633214.119999999]
[3.1,"1.2.5.01.09.05.3.","Equip de entretenimiento Depreciaciones acumuladas",0,0,842214.28,-842214.28]
[3.1,"1.2.5.01.09.05.3.99999","Equip de entretenimiento Depreciaciones acumuladas",0,0,842214.28,-842214.28]
[3.1,"1.2.5.01.10.","Equipos de seguridad, orden, vigilancia y control público",1566953.8,775296.88,620416.82999999996,1721833.85]
[3.1,"1.2.5.01.10.01.","Equipos de protección contra incendios",1215568.82,210000,49687.75,1375881.07]
[3.1,"1.2.5.01.10.01.1.","Equipos de protección contra incendios Valores Origen",1350632,210000,0,1560632]
[3.1,"1.2.5.01.10.01.1.99999","Equipos de protección contra incendios Valores Origen",1350632,210000,0,1560632]
[3.1,"1.2.5.01.10.01.3.","Equipos de protección contra incendios Depreciación Acumulada",-135063.18,0,49687.75,-184750.93]
[3.1,"1.2.5.01.10.01.3.99999","Equipos de protección contra incendios Depreciación Acumulada",-135063.18,0,49687.75,-184750.93]
[3.1,"1.2.5.01.10.03.","Armas",21562.49,0,5625,15937.49]
[3.1,"1.2.5.01.10.03.1.","Armas Valores de origen",225000,0,0,225000]
[3.1,"1.2.5.01.10.03.1.99999","Armas Valores de origen",225000,0,0,225000]
[3.1,"1.2.5.01.10.03.3.","Armas Depreciaciones acumuladas *",-203437.51,0,5625,-209062.51]
[3.1,"1.2.5.01.10.03.3.99999","Armas Depreciaciones acumuladas *",-203437.51,0,5625,-209062.51]
[3.1,"1.2.5.01.10.99.","Otros equipos de seguridad, orden, vigilancia y control público",329822.49,565296.88,565104.07999999996,330015.28999999998]
[3.1,"1.2.5.01.10.99.1.","Otros Equipos seguridad orden vigilancia control público Valor rigen",758241.92,560625,0,1318866.92]
[3.1,"1.2.5.01.10.99.1.99999","Otros Equipos seguridad orden vigilancia control público Valor rigen",758241.92,560625,0,1318866.92]
[3.1,"1.2.5.01.10.99.3.","Otros Equipos seguridad orden vigilancia control Público Depreciacion Acumulada",-428419.43,4671.88,565104.07999999996,-988851.63]
[3.1,"1.2.5.01.10.99.3.99999","Otros Equipos seguridad orden vigilancia control Público Depreciacion Acumulada",-428419.43,4671.88,565104.07999999996,-988851.63]
[3.1,"1.2.5.01.99.","Maquinarias, equipos  mobiliarios diversos",2421424.65,0,236829.37,2184595.2799999998]
[3.1,"1.2.5.01.99.02.","Equipos  mobiliario doméstico",464154.19,0,65414.879999999997,398739.31]
[3.1,"1.2.5.01.99.02.1.","Equipos y mobiliario doméstico Valores de origen",1551357.89,0,0,1551357.89]
[3.1,"1.2.5.01.99.02.1.99999","Equipos y mobiliario doméstico Valores de origen",1551357.89,0,0,1551357.89]
[3.1,"1.2.5.01.99.02.3.","Equip y Mobiliario doméstico Depreciaciones acumuladas",-1087203.7,0,65414.879999999997,-1152618.58]
[3.1,"1.2.5.01.99.02.3.99999","Equip y Mobiliario doméstico Depreciaciones acumuladas",-1087203.7,0,65414.879999999997,-1152618.58]
[3.1,"1.2.5.01.99.03.","Equipos fotográficos  de revelado",1957270.46,0,171414.49,1785855.97]
[3.1,"1.2.5.01.99.03.1.","Equipos fotográficos y de revelado Valores origen",3870352.18,0,0,3870352.18]
[3.1,"1.2.5.01.99.03.1.99999","Equipos fotográficos y de revelado Valores origen",3870352.18,0,0,3870352.18]
[3.1,"1.2.5.01.99.03.3.","Equip fotográficos y revelado Depreciaioón Acumulada",-1913081.72,0,171414.49,-2084496.21]
[3.1,"1.2.5.01.99.03.3.99999","Equip fotográficos y revelado Depreciaioón Acumulada",-1913081.72,0,171414.49,-2084496.21]
[3.1,"1.2.5.04.","Bienes de infraestructura y de beneficio y uso público en servicio",160765498081.76001,0,0,160765498081.76001]
[3.1,"1.2.5.04.01.","Vías de comunicación terrestre",156731927507.54001,0,0,156731927507.54001]
[3.1,"1.2.5.04.01.01.","Carreteras  caminos",143329792712.5,0,0,143329792712.5]
[3.1,"1.2.5.04.01.01.1.","Carreteras y caminos Valores de origen",22435224766.720001,0,0,22435224766.720001]
[3.1,"1.2.5.04.01.01.1.99999","Carreteras y caminos Valores de origen",22435224766.720001,0,0,22435224766.720001]
[3.1,"1.2.5.04.01.01.6.","Carreteras y caminos Porción terreno: Valor Origen",120894567945.78,0,0,120894567945.78]
[3.1,"1.2.5.04.01.01.6.99999","Carreteras y caminos Porción terreno: Valor Origen",120894567945.78,0,0,120894567945.78]
[3.1,"1.2.5.04.01.03.","Puentes",13385469370.68,0,0,13385469370.68]
[3.1,"1.2.5.04.01.03.1.","Puentes Valores de origen",7882316153.8999996,0,0,7882316153.8999996]
[3.1,"1.2.5.04.01.03.1.99999","Puentes Valores de origen",7882316153.8999996,0,0,7882316153.8999996]
[3.1,"1.2.5.04.01.03.6.","Puentes Porción terreno: valores de origen",5503153216.7799997,0,0,5503153216.7799997]
[3.1,"1.2.5.04.01.03.6.99999","Puentes Porción terreno: valores de origen",5503153216.7799997,0,0,5503153216.7799997]
[3.1,"1.2.5.04.01.99.","Otras vías de comunicación terrestre",16665424.359999999,0,0,16665424.359999999]
[3.1,"1.2.5.04.01.99.1.","Otras vías de comunicación terrestre  Valores Origen",16665424.359999999,0,0,16665424.359999999]
[3.1,"1.2.5.04.01.99.1.99999","Otras vías de comunicación terrestre  Valores Origen",16665424.359999999,0,0,16665424.359999999]
[3.1,"1.2.5.04.03.","Centrales  redes de comunicación  energía",4013723664.2199998,0,0,4013723664.2199998]
[3.1,"1.2.5.04.03.01.","Centrales  redes acuíferas, cloacales  pluviales",4013723664.2199998,0,0,4013723664.2199998]
[3.1,"1.2.5.04.03.01.1.","Centrales  redes acuíferas, cloacales  pluviales Valor Origen",4013723664.2199998,0,0,4013723664.2199998]
[3.1,"1.2.5.04.03.01.1.99999","Centrales  redes acuíferas, cloacales  pluviales Valor Origen",4013723664.2199998,0,0,4013723664.2199998]
[3.1,"1.2.5.04.99.","Otros bienes de infraestructura y de beneficio y uso público en servicio",19846910,0,0,19846910]
[3.1,"1.2.5.04.99.99.","Otros bienes de infraestructura y de beneficio y uso público diversos",19846910,0,0,19846910]
[3.1,"1.2.5.04.99.99.1.","Otros bienes de infraestructura y de beneficio y uso público diversos Valores de origen",19846910,0,0,19846910]
[3.1,"1.2.5.04.99.99.1.99999","Otros bienes de infraestructura y de beneficio y uso público diversos Valores de origen",19846910,0,0,19846910]
[3.1,"1.2.5.08.","Bienes intangibles no concesionados",12565235.460000001,1527054.85,10617518.560000001,3474771.75]
[3.1,"1.2.5.08.03.","Software  programas",12565235.460000001,997294.85,10087758.560000001,3474771.75]
[3.1,"1.2.5.08.03.01.","Software y programas Valores de origen",12565235.460000001,997294.85,10087758.560000001,3474771.75]
[3.1,"1.2.5.08.03.01.0.","Software y programas Valores de origen",12565235.460000001,997294.85,10087758.560000001,3474771.75]
[3.1,"1.2.5.08.03.01.0.99999","Software y programas Valores de origen",12565235.460000001,997294.85,10087758.560000001,3474771.75]
[3.1,"1.2.5.08.99.","Otros bienes intangibles",0,529760,529760,0]
[3.1,"1.2.5.08.99.01.","Otros bienes intangibles Valores de origen",0,529760,529760,0]
[3.1,"1.2.5.08.99.01.0.","Otros bienes intangibles Valores de origen",0,529760,529760,0]
[3.1,"1.2.5.08.99.01.0.99999","Otros bienes intangibles Valores de origen",0,529760,529760,0]
[3.1,"1.2.5.99.","Bienes no concesionados en proceso de producción",77580961.049999997,19998186.77,0,97579147.819999993]
[3.1,"1.2.5.99.08.","Bienes intangibles en proceso de producción",77580961.049999997,19998186.77,0,97579147.819999993]
[3.1,"1.2.5.99.08.03.","Producción en proceso de software y programas",77580961.049999997,19998186.77,0,97579147.819999993]
[3.1,"1.2.5.99.08.03.0.","Producción en proceso de software y programas",77580961.049999997,19998186.77,0,97579147.819999993]
[3.1,"1.2.5.99.08.03.0.99999","Producción en proceso de software y programas",77580961.049999997,19998186.77,0,97579147.819999993]
[3.1,"2.","PASIVO",1698526087.6199999,3779462079.3000002,4017175631.3200002,1936239639.6400001]
[3.1,"2.1.","Pasivo Corriente",152486979.41,2990960770.0999999,3633795707.5,795321916.80999994]
[3.1,"2.1.1.","Deudas a corto plazo",86261732.549999997,2778172716.5999999,2942961901.5900002,251050917.53999999]
[3.1,"2.1.1.01.","Deudas comerciales a corto plazo",1108985.7,1910637324.0999999,2002360185.4400001,92831847.040000007]
[3.1,"2.1.1.01.01.","Deudas por adquisición de inventarios c/p",1108985.7,338429222.05000001,341380896.63,4060660.28]
[3.1,"2.1.1.01.01.01.","Deudas comerciales por adquisición de materiales y suministros para consumo y prestación de servicios c/p",1108985.7,288429222.05000001,291380896.63,4060660.28]
[3.1,"2.1.1.01.01.01.0.","Deudas comerciales por adquisición de materiales y suministros para consumo y prestación de servicios c/p",1108985.7,288429222.05000001,291380896.63,4060660.28]
[3.1,"2.1.1.01.01.01.0.99999","Deudas comerciales por adquisición de materiales y suministros para consumo y prestación de servicios c/p",1108985.7,288429222.05000001,291380896.63,4060660.28]
[3.1,"2.1.1.01.01.02.","Deudas comerciales por adquisición de bienes para la venta c/p",0,50000000,50000000,0]
[3.1,"2.1.1.01.01.02.0.","Deudas comerciales por adquisición de bienes para la venta c/p",0,50000000,50000000,0]
[3.1,"2.1.1.01.01.02.0.99999","Deudas comerciales por adquisición de bienes para la venta c/p",0,50000000,50000000,0]
[3.1,"2.1.1.01.02.","Deudas por adquisición de bienes distintos de inventarios c/p",0,1273123818.8599999,1361866005.6300001,88742186.769999996]
[3.1,"2.1.1.01.02.01.","Deudas comerciales por adquisición de propiedades, planta y equipos en explotación c/p",0,160494784.49000001,229238784.49000001,68744000]
[3.1,"2.1.1.01.02.01.0.","Deudas comerciales por adquisición de propiedades, planta y equipos en explotación c/p",0,160494784.49000001,229238784.49000001,68744000]
[3.1,"2.1.1.01.02.01.0.99999","Deudas comerciales por adquisición de propiedades, planta y equipos en explotación c/p",0,160494784.49000001,229238784.49000001,68744000]
[3.1,"2.1.1.01.02.04.","Deudas comerciales por adquisición de bienes de infraestructura y de beneficio y uso público c/p",0,1110411076.54,1110411076.54,0]
[3.1,"2.1.1.01.02.04.0.","Deudas comerciales por adquisición de bienes de infraestructura y de beneficio y uso público c/p",0,1110411076.54,1110411076.54,0]
[3.1,"2.1.1.01.02.04.0.99999","Deudas comerciales por adquisición de bienes de infraestructura y de beneficio y uso público c/p",0,1110411076.54,1110411076.54,0]
[3.1,"2.1.1.01.02.08.","Deudas comerciales por adquisición de bienes intangibles c/p",0,2217957.83,22216144.600000001,19998186.77]
[3.1,"2.1.1.01.02.08.0.","Deudas comerciales por adquisición de bienes intangibles c/p",0,2217957.83,22216144.600000001,19998186.77]
[3.1,"2.1.1.01.02.08.0.99999","Deudas comerciales por adquisición de bienes intangibles c/p",0,2217957.83,22216144.600000001,19998186.77]
[3.1,"2.1.1.01.04.","Deudas por adquisición de servicios c/p",0,299084283.19,299113283.18000001,28999.99]
[3.1,"2.1.1.01.04.01.","Deudas comerciales por alquileres y derechos sobre bienes c/p",0,77624440.799999997,77624440.799999997,0]
[3.1,"2.1.1.01.04.01.0.","Deudas comerciales por alquileres y derechos sobre bienes c/p",0,77624440.799999997,77624440.799999997,0]
[3.1,"2.1.1.01.04.01.0.99999","Deudas comerciales por alquileres y derechos sobre bienes c/p",0,77624440.799999997,77624440.799999997,0]
[3.1,"2.1.1.01.04.02.","Deudas comerciales por servicios básicos c/p",0,73779322.730000004,73779322.730000004,0]
[3.1,"2.1.1.01.04.02.0.","Deudas comerciales por servicios básicos c/p",0,73779322.730000004,73779322.730000004,0]
[3.1,"2.1.1.01.04.02.0.99999","Deudas comerciales por servicios básicos c/p",0,73779322.730000004,73779322.730000004,0]
[3.1,"2.1.1.01.04.03.","Deudas comerciales por servicios comerciales y financieros c/p",0,8488374.3900000006,8488374.3900000006,0]
[3.1,"2.1.1.01.04.03.0.","Deudas comerciales por servicios comerciales y financieros c/p",0,8488374.3900000006,8488374.3900000006,0]
[3.1,"2.1.1.01.04.03.0.99999","Deudas comerciales por servicios comerciales y financieros c/p",0,8488374.3900000006,8488374.3900000006,0]
[3.1,"2.1.1.01.04.04.","Deudas comerciales por servicios de gestión y apoyo c/p",0,88255273.620000005,88255273.620000005,0]
[3.1,"2.1.1.01.04.04.0.","Deudas comerciales por servicios de gestión y apoyo c/p",0,88255273.620000005,88255273.620000005,0]
[3.1,"2.1.1.01.04.04.0.99999","Deudas comerciales por servicios de gestión y apoyo c/p",0,88255273.620000005,88255273.620000005,0]
[3.1,"2.1.1.01.04.05.","Deudas comerciales por gastos de viaje y transporte c/p",0,3970290,3975290,5000]
[3.1,"2.1.1.01.04.05.0.","Deudas comerciales por gastos de viaje y transporte c/p",0,3970290,3975290,5000]
[3.1,"2.1.1.01.04.05.0.99999","Deudas comerciales por gastos de viaje y transporte c/p",0,3970290,3975290,5000]
[3.1,"2.1.1.01.04.06.","Deudas comerciales por seguros, reaseguros y otras obligaciones c/p",0,6459311,6459311,0]
[3.1,"2.1.1.01.04.06.0.","Deudas comerciales por seguros, reaseguros y otras obligaciones c/p",0,6459311,6459311,0]
[3.1,"2.1.1.01.04.06.0.99999","Deudas comerciales por seguros, reaseguros y otras obligaciones c/p",0,6459311,6459311,0]
[3.1,"2.1.1.01.04.07.","Deudas comerciales por capacitación y protocolo c/p",0,10860000,10860000,0]
[3.1,"2.1.1.01.04.07.0.","Deudas comerciales por capacitación y protocolo c/p",0,10860000,10860000,0]
[3.1,"2.1.1.01.04.07.0.99999","Deudas comerciales por capacitación y protocolo c/p",0,10860000,10860000,0]
[3.1,"2.1.1.01.04.08.","Deudas comerciales por mantenimiento y reparaciones c/p",0,29647270.649999999,29671270.640000001,23999.99]
[3.1,"2.1.1.01.04.08.0.","Deudas comerciales por mantenimiento y reparaciones c/p",0,29647270.649999999,29671270.640000001,23999.99]
[3.1,"2.1.1.01.04.08.0.99999","Deudas comerciales por mantenimiento y reparaciones c/p",0,29647270.649999999,29671270.640000001,23999.99]
[3.1,"2.1.1.02.","Deudas sociales y fiscales a corto plazo",21545672.420000002,668329109.25999999,765636552.17999995,118853115.34]
[3.1,"2.1.1.02.01.","Deudas por beneficios a los empleados c/p",7857628.0099999998,621476228.37,717198544.98000002,103579944.62]
[3.1,"2.1.1.02.01.01.","Remuneraciones básicas y eventuales a pagar c/p",699494.06,520604235.36000001,540906813.25,21002071.949999999]
[3.1,"2.1.1.02.01.01.1.","Remuneraciones",699494.06,520604235.36000001,540906813.25,21002071.949999999]
[3.1,"2.1.1.02.01.01.1.99999","Remuneraciones",699494.06,520604235.36000001,540906813.25,21002071.949999999]
[3.1,"2.1.1.02.01.03.","Incentivos salariales a pagar c/p",7158133.9500000002,1955731.77,43737491.450000003,48939893.630000003]
[3.1,"2.1.1.02.01.03.3.","Decimotercer mes a pagar c/p",7158133.9500000002,1955731.77,43737491.450000003,48939893.630000003]
[3.1,"2.1.1.02.01.03.3.99999","Decimotercer mes a pagar c/p",7158133.9500000002,1955731.77,43737491.450000003,48939893.630000003]
[3.1,"2.1.1.02.01.04.","Contribuciones patronales al desarrollo y la seguridad social a pagar c/p",0,98916261.239999995,132554240.28,33637979.039999999]
[3.1,"2.1.1.02.01.04.0.","Contribuciones patronales al desarrollo y la seguridad social a pagar c/p",0,98916261.239999995,132554240.28,33637979.039999999]
[3.1,"2.1.1.02.01.04.0.14120","Contribuciones patronales al desarrollo y la seguridad social a pagar c/p (Aporte Patronal FCL - CCSS)",0,98916261.239999995,132554240.28,33637979.039999999]
[3.1,"2.1.1.02.01.04.0.31104","Contribuciones patronales al desarrollo y la seguridad social a pagar c/p (Cont. Patronal BPDC)",0,0,0,0]
[3.1,"2.1.1.02.02.","Deudas fiscales c/p",13688044.41,46852880.890000001,48438007.200000003,15273170.720000001]
[3.1,"2.1.1.02.02.02.","Retenciones de impuestos nacionales a pagar c/p",13688044.41,39760203.490000002,41345329.799999997,15273170.720000001]
[3.1,"2.1.1.02.02.02.0.","Retenciones de impuestos nacionales a pagar c/p",13688044.41,39760203.490000002,41345329.799999997,15273170.720000001]
[3.1,"2.1.1.02.02.02.0.11206","Ministerio de Hacienda (MHD)",13688044.41,39760203.490000002,41345329.799999997,15273170.720000001]
[3.1,"2.1.1.02.02.04.","Retenciones de impuestos entidades relacionadas a pagar c/p",0,7092677.4000000004,7092677.4000000004,0]
[3.1,"2.1.1.02.02.04.0.","Retenciones de impuestos entidades relacionadas a pagar c/p",0,7092677.4000000004,7092677.4000000004,0]
[3.1,"2.1.1.02.02.04.0.12784","Retenciones de impuestos entidades relacionadas a pagar c/p",0,7092677.4000000004,7092677.4000000004,0]
[3.1,"2.1.1.03.","Transferencias a pagar a corto plazo",63607074.43,57678053.960000001,33436934.690000001,39365955.159999996]
[3.1,"2.1.1.03.02.","Transferencias al sector público interno a pagar c/p",63607074.43,57678053.960000001,33436934.690000001,39365955.159999996]
[3.1,"2.1.1.03.02.01.","Transferencias al Gobierno Central a pagar c/p",983027.41,0,0,983027.41]
[3.1,"2.1.1.03.02.01.0.","Transferencias al Gobierno Central a pagar c/p",983027.41,0,0,983027.41]
[3.1,"2.1.1.03.02.01.0.11206","Transferencias al Gobierno Central a pagar c/p",648323.05000000005,0,0,648323.05000000005]
[3.1,"2.1.1.03.02.01.0.11219","Transferencias al Gobierno Central a pagar c/p",334704.36,0,0,334704.36]
[3.1,"2.1.1.03.02.02.","Transferencias a Órganos Desconcentrados a pagar c/p",2002155.83,1296646.1100000001,0.01,705509.73]
[3.1,"2.1.1.03.02.02.0.","Transferencias a Órganos Desconcentrados a pagar c/p",2002155.83,1296646.1100000001,0.01,705509.73]
[3.1,"2.1.1.03.02.02.0.12553","Transferencias a Órganos Desconcentrados a pagar c/p",53127.68,0,0,53127.68]
[3.1,"2.1.1.03.02.02.0.12581","Consejo Nacional de Personas con Discapacidad - CONAPDIS",652382.05000000005,0,0,652382.05000000005]
[3.1,"2.1.1.03.02.02.0.12784","Transferencias a Órganos Desconcentrados a pagar c/p",1296646.1000000001,1296646.1100000001,0.01,0]
[3.1,"2.1.1.03.02.03.","Transferencias a Instituciones Descentralizadas no Empresariales a pagar c/p",56381407.850000001,56381407.850000001,33436934.68,33436934.68]
[3.1,"2.1.1.03.02.03.0.","Transferencias a Instituciones Descentralizadas no Empresariales a pagar c/p",56381407.850000001,56381407.850000001,33436934.68,33436934.68]
[3.1,"2.1.1.03.02.03.0.14253","Transferencias a Instituciones Descentralizadas no Empresariales a pagar c/p",56381407.850000001,56381407.850000001,33436934.68,33436934.68]
[3.1,"2.1.1.03.02.99.","Transferencias a otras Instituciones de Gobiernos Locales a pagar c/p",4240483.34,0,0,4240483.34]
[3.1,"2.1.1.03.02.99.0.","Transferencias a otras Instituciones de Gobiernos Locales a pagar c/p",4240483.34,0,0,4240483.34]
[3.1,"2.1.1.03.02.99.0.15910","Comités Cantonales de Deportes y Recreación",3914292.31,0,0,3914292.31]
[3.1,"2.1.1.03.02.99.0.15980","Unión Nacional de Gobiernos Locales",326191.03000000003,0,0,326191.03000000003]
[3.1,"2.1.1.99.","Otras deudas a corto plazo",0,141528229.28,141528229.28,0]
[3.1,"2.1.1.99.99.","Deudas varias c/p",0,141528229.28,141528229.28,0]
[3.1,"2.1.1.99.99.02.","Deudas varias con el sector público interno c/p",0,141528229.28,141528229.28,0]
[3.1,"2.1.1.99.99.02.0.","Deudas varias con el sector público interno c/p",0,141528229.28,141528229.28,0]
[3.1,"2.1.1.99.99.02.0.99999","Deudas varias con el sector público interno c/p",0,141528229.28,141528229.28,0]
[3.1,"2.1.2.","Endeudamiento público a corto plazo",0,194210370.37,679756970,485546599.63]
[3.1,"2.1.2.02.","Préstamos a pagar a corto plazo",0,194210370.37,679756970,485546599.63]
[3.1,"2.1.2.02.02.","Préstamos del sector público interno a pagar c/p",0,194210370.37,679756970,485546599.63]
[3.1,"2.1.2.02.02.99.","Préstamos de otras Instituciones de Gobiernos Locales a pagar c/p",0,194210370.37,679756970,485546599.63]
[3.1,"2.1.2.02.02.99.1.","Préstamos de otras Instituciones de Gobiernos Locales a pagar c/p - Capital",0,194210370.37,679756970,485546599.63]
[3.1,"2.1.2.02.02.99.1.14226","Instituto de Fomento y Asesoría Municipal (IFAM) Préstamo corto Plazo",0,194210370.37,679756970,485546599.63]
[3.1,"2.1.3.","Fondos de terceros y en garantía",66225246.859999999,18577683.129999999,11076835.91,58724399.640000001]
[3.1,"2.1.3.03.","Depósitos en garantía",66225246.859999999,18577683.129999999,11076835.91,58724399.640000001]
[3.1,"2.1.3.03.01.","Depósitos en garantía del sector privado interno",66225246.859999999,18577683.129999999,11076835.91,58724399.640000001]
[3.1,"2.1.3.03.01.02.","Depósitos en garantía de empresas privadas",66225246.859999999,18577683.129999999,11076835.91,58724399.640000001]
[3.1,"2.1.3.03.01.02.0.","Depósitos en garantía de empresas privadas",66225246.859999999,18577683.129999999,11076835.91,58724399.640000001]
[3.1,"2.1.3.03.01.02.0.99999","Depósitos en garantía de empresas privadas",66225246.859999999,18577683.129999999,11076835.91,58724399.640000001]
[3.1,"2.2.","Pasivo No Corriente",1546039108.21,788501309.20000005,383379923.81999999,1140917722.8299999]
[3.1,"2.2.2.","Endeudamiento público a largo plazo",1522925878.21,787417709.20000005,362497193.81999999,1098005362.8299999]
[3.1,"2.2.2.02.","Préstamos a pagar a largo plazo",1522925878.21,787417709.20000005,362497193.81999999,1098005362.8299999]
[3.1,"2.2.2.02.02.","Préstamos del sector público interno a pagar l/p",1522925878.21,787417709.20000005,362497193.81999999,1098005362.8299999]
[3.1,"2.2.2.02.02.99.","Préstamos de otras Instituciones de Gobiernos Locales a pagar l/p",1522925878.21,787417709.20000005,362497193.81999999,1098005362.8299999]
[3.1,"2.2.2.02.02.99.1.","Préstamos de otras Instituciones de Gobiernos Locales a pagar l/p - Capital",1522925878.21,787417709.20000005,362497193.81999999,1098005362.8299999]
[3.1,"2.2.2.02.02.99.1.14226","Instituto de Fomento y Asesoría Municipal (IFAM) P Largo Plazo",1522925878.21,787417709.20000005,362497193.81999999,1098005362.8299999]
[3.1,"2.2.4.","Provisiones y reservas técnicas a largo plazo",23113230,1083600,20882730,42912360]
[3.1,"2.2.4.01.","Provisiones a largo plazo",23113230,1083600,20882730,42912360]
[3.1,"2.2.4.01.03.","Provisiones para beneficios a los empleados l/p",23113230,1083600,20882730,42912360]
[3.1,"2.2.4.01.03.02.","Provisiones para beneficios por terminación l/p",23113230,1083600,20882730,42912360]
[3.1,"2.2.4.01.03.02.0.","Provisiones para beneficios por terminación l/p",23113230,1083600,20882730,42912360]
[3.1,"2.2.4.01.03.02.0.99999","Provisiones para beneficios por terminación l/p",23113230,1083600,20882730,42912360]
[3.1,"3.","PATRIMONIO",164134319241.19,37740586602229.93,37740570764648.242,164118481659.5]
[3.1,"3.1.","Patrimonio público",164134319241.19,37740586602229.93,37740570764648.242,164118481659.5,{"$f":"G499-G615","v":164118328189.34}]
[3.1,"3.1.1.","Capital",524.79999999999995,524.79999999999995,524.79999999999995,524.79999999999995]
[3.1,"3.1.1.01.","Capital inicial",524.79999999999995,524.79999999999995,524.79999999999995,524.79999999999995]
[3.1,"3.1.1.01.01.","Capital inicial a valores históricos",524.79999999999995,524.79999999999995,524.79999999999995,524.79999999999995]
[3.1,"3.1.1.01.01.00.","Capital inicial a valores históricos",524.79999999999995,524.79999999999995,524.79999999999995,524.79999999999995]
[3.1,"3.1.1.01.01.00.0.","Capital inicial a valores históricos",524.79999999999995,524.79999999999995,524.79999999999995,524.79999999999995]
[3.1,"3.1.1.01.01.00.0.11206","Capital inicial a valores históricos ",0,0,524.79999999999995,524.79999999999995]
[3.1,"3.1.1.01.01.00.0.99999","Capital inicial a valores históricos",524.79999999999995,524.79999999999995,0,0]
[3.1,"3.1.4.","Variaciones no asignables a reservas",0,37740406785371.898,37740406785371.898,0]
[3.1,"3.1.4.99.","Otras variaciones no asignables a reservas",0,37740406785371.898,37740406785371.898,0]
[3.1,"3.1.4.99.99.","Otras variaciones no asignables a reservas varias",0,37740406785371.898,37740406785371.898,0]
[3.1,"3.1.4.99.99.00.","Otras variaciones no asignables a reservas varias",0,37740406785371.898,37740406785371.898,0]
[3.1,"3.1.4.99.99.00.0.","Otras variaciones no asignables a reservas varias",0,37740406785371.898,37740406785371.898,0]
[3.1,"3.1.4.99.99.00.0.99999","Otras variaciones no asignables a reservas varias",0,37740406785371.898,37740406785371.898,0]
[3.1,"3.1.5.","Resultados acumulados",164134318716.39001,179816333.22999999,163978751.53999999,164118481134.70001]
[3.1,"3.1.5.01.","Resultados acumulados de ejercicios anteriores",164134318716.39001,179816333.22999999,163978751.53999999,164118481134.70001]
[3.1,"3.1.5.01.01.","Resultados de ejercicios anteriores",164283654503.60001,179816333.22999999,163978751.53999999,164267816921.91]
[3.1,"3.1.5.01.01.00.","Resultados de ejercicios anteriores",164283654503.60001,179816333.22999999,163978751.53999999,164267816921.91]
[3.1,"3.1.5.01.01.00.0.","Resultados de ejercicios anteriores",164283654503.60001,179816333.22999999,163978751.53999999,164267816921.91]
[3.1,"3.1.5.01.01.00.0.99999","Resultados de ejercicios anteriores",164283654503.60001,179816333.22999999,163978751.53999999,164267816921.91]
[3.1,"3.1.5.01.02.","Ajuste de resultados de ejercicios anteriores",-149335787.21000001,0,0,-149335787.21000001]
[3.1,"3.1.5.01.02.06.","Ajuste de resultados acumulados",-149335787.21000001,0,0,-149335787.21000001]
[3.1,"3.1.5.01.02.06.1.","Ajuste por corrección de errores realizados retroactivamente",-149335787.21000001,0,0,-149335787.21000001]
[3.1,"3.1.5.01.02.06.1.99999","Ajuste por corrección de errores realizados retroactivamente",-149335787.21000001,0,0,-149335787.21000001]
[3.1,"4.","INGRESOS",0,6101866.2999999998,4689133620.1800003,4683031753.8800001]
[3.1,"4.1.","Impuestos",0,2194913.17,521645418.32999998,519450505.16000003]
[3.1,"4.1.2.","Impuestos sobre la propiedad",0,471780.17,329029432.45999998,328557652.29000002]
[3.1,"4.1.2.01.","Impuesto sobre la propiedad de bienes inmuebles",0,471780.17,329029432.45999998,328557652.29000002]
[3.1,"4.1.2.01.01.","Impuesto sobre la propiedad de bienes inmuebles",0,471780.17,329029432.45999998,328557652.29000002]
[3.1,"4.1.2.01.01.00.","Impuesto sobre la propiedad de bienes inmuebles",0,471780.17,329029432.45999998,328557652.29000002]
[3.1,"4.1.2.01.01.00.0.","Impuesto sobre la propiedad de bienes inmuebles",0,471780.17,329029432.45999998,328557652.29000002]
[3.1,"4.1.2.01.01.00.0.99999","Impuesto sobre la propiedad de bienes inmuebles",0,471780.17,329029432.45999998,328557652.29000002]
[3.1,"4.1.3.","Impuestos sobre bienes y servicios",0,1723133,192615985.87,190892852.87]
[3.1,"4.1.3.01.","Impuestos generales y selectivos sobre ventas y consumo",0,1619138,161043845.69999999,159424707.69999999]
[3.1,"4.1.3.01.01.","Impuesto general sobre las ventas de bienes y servicios",0,1619138,161043845.69999999,159424707.69999999]
[3.1,"4.1.3.01.01.01.","Impuesto general sobre las ventas de bienes y servicios internos",0,1619138,161043845.69999999,159424707.69999999]
[3.1,"4.1.3.01.01.01.1.","Impuesto general sobre las ventas de bienes y servicios internos",0,1619138,161043845.69999999,159424707.69999999]
[3.1,"4.1.3.01.01.01.1.99999","Impuesto general sobre las ventas de bienes y servicios internos",0,1619138,161043845.69999999,159424707.69999999]
[3.1,"4.1.3.02.","Impuestos específicos sobre la producción y consumo de bienes y servicios",0,103995,28322140.170000002,28218145.170000002]
[3.1,"4.1.3.02.01.","Impuestos específicos sobre la producción y consumo de bienes",0,0,21602767.309999999,21602767.309999999]
[3.1,"4.1.3.02.01.02.","Impuestos específicos sobre la explotación de recursos naturales y minerales",0,0,1489150.05,1489150.05]
[3.1,"4.1.3.02.01.02.1.","Impuestos específicos sobre la explotación de recursos naturales y minerales",0,0,1489150.05,1489150.05]
[3.1,"4.1.3.02.01.02.1.99999","Impuestos específicos sobre la explotación de recursos naturales y minerales",0,0,1489150.05,1489150.05]
[3.1,"4.1.3.02.01.05.","Impuestos específicos sobre la construcción",0,0,20113617.260000002,20113617.260000002]
[3.1,"4.1.3.02.01.05.1.","Impuestos específicos sobre la construcción",0,0,20113617.260000002,20113617.260000002]
[3.1,"4.1.3.02.01.05.1.99999","Impuestos específicos sobre la construcción",0,0,20113617.260000002,20113617.260000002]
[3.1,"4.1.3.02.02.","Impuestos específicos sobre la producción y consumo de servicios",0,103995,6719372.8600000003,6615377.8600000003]
[3.1,"4.1.3.02.02.03.","Impuestos específicos a los servicios de diversión y esparcimiento",0,0,869000,869000]
[3.1,"4.1.3.02.02.03.1.","Impuestos específicos a los servicios de diversión y esparcimiento",0,0,869000,869000]
[3.1,"4.1.3.02.02.03.1.99999","Impuestos específicos a los servicios de diversión y esparcimiento",0,0,869000,869000]
[3.1,"4.1.3.02.02.99.","Otros impuestos específicos sobre la producción y consumo de servicios",0,103995,5850372.8600000003,5746377.8600000003]
[3.1,"4.1.3.02.02.99.1.","Otros impuestos específicos sobre la producción y consumo de servicios",0,103995,5850372.8600000003,5746377.8600000003]
[3.1,"4.1.3.02.02.99.1.99999","Otros impuestos específicos sobre la producción y consumo de servicios",0,103995,5850372.8600000003,5746377.8600000003]
[3.1,"4.1.3.99.","Otros impuestos sobre bienes y servicios",0,0,3250000,3250000]
[3.1,"4.1.3.99.01.","Licencias profesionales, comerciales y otros permisos",0,0,3250000,3250000]
[3.1,"4.1.3.99.01.02.","Multas por licencias profesionales, comerciales y otros permisos",0,0,3250000,3250000]
[3.1,"4.1.3.99.01.02.0.","Multas por licencias profesionales, comerciales y otros permisos",0,0,3250000,3250000]
[3.1,"4.1.3.99.01.02.0.99999","Multas por licencias profesionales, comerciales y otros permisos",0,0,3250000,3250000]
[3.1,"4.4.","Ingresos y resultados positivos por ventas",0,3906953.13,350918584.87,347011631.74000001]
[3.1,"4.4.1.","Ventas de bienes y servicios",0,3906953.13,350549651.54000002,346642698.41000003]
[3.1,"4.4.1.02.","Ventas de servicios",0,3906953.13,350549651.54000002,346642698.41000003]
[3.1,"4.4.1.02.04.","Servicios comunitarios",0,3462064.98,314221994.98000002,310759930]
[3.1,"4.4.1.02.04.03.","Servicios de cementerio",0,67400,18474218.329999998,18406818.329999998]
[3.1,"4.4.1.02.04.03.0.","Servicios de cementerio",0,67400,18474218.329999998,18406818.329999998]
[3.1,"4.4.1.02.04.03.0.99999","Servicios de cementerio",0,67400,18474218.329999998,18406818.329999998]
[3.1,"4.4.1.02.04.04.","Servicios de saneamiento ambiental",0,3394664.98,295747776.64999998,292353111.67000002]
[3.1,"4.4.1.02.04.04.0.","Servicios de saneamiento ambiental",0,3394664.98,295747776.64999998,292353111.67000002]
[3.1,"4.4.1.02.04.04.0.99999","Servicios de saneamiento ambiental",0,3394664.98,295747776.64999998,292353111.67000002]
[3.1,"4.4.1.02.99.","Otras ventas de servicios",0,444888.15,36327656.560000002,35882768.409999996]
[3.1,"4.4.1.02.99.99.","Otras ventas de servicios varios",0,444888.15,36327656.560000002,35882768.409999996]
[3.1,"4.4.1.02.99.99.0.","Otras ventas de servicios varios",0,444888.15,36327656.560000002,35882768.409999996]
[3.1,"4.4.1.02.99.99.0.99999","Otras ventas de servicios varios",0,444888.15,36327656.560000002,35882768.409999996]
[3.1,"4.4.2.","Derechos administrativos",0,0,368933.33,368933.33]
[3.1,"4.4.2.01.","Derechos administrativos a los servicios de transporte",0,0,240000,240000]
[3.1,"4.4.2.01.01.","Derechos administrativos a los servicios de transporte por carretera",0,0,240000,240000]
[3.1,"4.4.2.01.01.00.","Derechos administrativos a los servicios de transporte por carretera",0,0,240000,240000]
[3.1,"4.4.2.01.01.00.0.","Derechos administrativos a los servicios de transporte por carretera",0,0,240000,240000]
[3.1,"4.4.2.01.01.00.0.99999","Derechos administrativos a los servicios de transporte por carretera",0,0,240000,240000]
[3.1,"4.4.2.99.","Otros derechos administrativos",0,0,128933.33,128933.33]
[3.1,"4.4.2.99.99.","Otros derechos administrativos varios",0,0,128933.33,128933.33]
[3.1,"4.4.2.99.99.00.","Otros derechos administrativos varios",0,0,128933.33,128933.33]
[3.1,"4.4.2.99.99.00.0.","Otros derechos administrativos varios",0,0,128933.33,128933.33]
[3.1,"4.4.2.99.99.00.0.99999","Otros derechos administrativos varios",0,0,128933.33,128933.33]
[3.1,"4.5.","Ingresos de la propiedad",0,0,32276597.75,32276597.75]
[3.1,"4.5.1.","Rentas de inversiones y de colocación de efectivo",0,0,10732528.67,10732528.67]
[3.1,"4.5.1.01.","Intereses por equivalentes de efectivo",0,0,1418817.99,1418817.99]
[3.1,"4.5.1.01.02.","Intereses por otros equivalentes de efectivo",0,0,1418817.99,1418817.99]
[3.1,"4.5.1.01.02.02.","Intereses por otros equivalentes de efectivo en el sector público interno",0,0,1418817.99,1418817.99]
[3.1,"4.5.1.01.02.02.0.","Intereses por otros equivalentes de efectivo en el sector público interno",0,0,1418817.99,1418817.99]
[3.1,"4.5.1.01.02.02.0.21101","BANCO DE COSTA RICA (BCR)",0,0,23.48,23.48]
[3.1,"4.5.1.01.02.02.0.21103","BANCO NACIONAL DE COSTA RICA (BNCR)",0,0,1418794.51,1418794.51]
[3.1,"4.5.1.98.","Resultados positivos de otras inversiones",0,0,9313710.6799999997,9313710.6799999997]
[3.1,"4.5.1.98.99.","Intereses por inversiones varias",0,0,9313710.6799999997,9313710.6799999997]
[3.1,"4.5.1.98.99.02.","Intereses por inversiones varias en el sector público interno",0,0,9313710.6799999997,9313710.6799999997]
[3.1,"4.5.1.98.99.02.0.","Intereses por inversiones varias en el sector público interno",0,0,9313710.6799999997,9313710.6799999997]
[3.1,"4.5.1.98.99.02.0.99999","Intereses por inversiones varias en el sector público interno",0,0,9313710.6799999997,9313710.6799999997]
[3.1,"4.5.2.","Alquileres y derechos sobre bienes",0,0,21544069.079999998,21544069.079999998]
[3.1,"4.5.2.01.","Alquileres",0,0,21544069.079999998,21544069.079999998]
[3.1,"4.5.2.01.02.","Alquileres de edificios",0,0,21544069.079999998,21544069.079999998]
[3.1,"4.5.2.01.02.00.","Alquileres de edificios",0,0,21544069.079999998,21544069.079999998]
[3.1,"4.5.2.01.02.00.0.","Alquileres de edificios",0,0,21544069.079999998,21544069.079999998]
[3.1,"4.5.2.01.02.00.0.99999","Alquileres de edificios",0,0,21544069.079999998,21544069.079999998]
[3.1,"4.6.","Transferencias",0,0,3784139549.0700002,3784139549.0700002]
[3.1,"4.6.1.","Transferencias corrientes",0,0,11322830.07,11322830.07]
[3.1,"4.6.1.02.","Transferencias corrientes del sector público interno",0,0,11322830.07,11322830.07]
[3.1,"4.6.1.02.03.","Transferencias corrientes de Instituciones Descentralizadas no Empresariales",0,0,11322830.07,11322830.07]
[3.1,"4.6.1.02.03.06.","Transferencias corrientes de  Instituciones Descentralizadas no Empresariales",0,0,11322830.07,11322830.07]
[3.1,"4.6.1.02.03.06.0.","Transferencias corrientes de  Instituciones Descentralizadas no Empresariales",0,0,11322830.07,11322830.07]
[3.1,"4.6.1.02.03.06.0.14226","Transferencias corrientes de  Instituciones Descentralizadas no Empresariales (Aporte IFAM Licores Nacionales y Ext)",0,0,11322830.07,11322830.07]
[3.1,"4.6.2.","Transferencias de capital",0,0,3772816719,3772816719]
[3.1,"4.6.2.02.","Transferencias de capital del sector público interno",0,0,3772816719,3772816719]
[3.1,"4.6.2.02.01.","Transferencias de capital del Gobierno Central",0,0,3772816719,3772816719]
[3.1,"4.6.2.02.01.06.","Transferencias de capital del Gobierno Central",0,0,3772816719,3772816719]
[3.1,"4.6.2.02.01.06.0.","Transferencias de capital del Gobierno Central",0,0,3772816719,3772816719]
[3.1,"4.6.2.02.01.06.0.11206","Transferencias de capital del Gobierno Central",0,0,3772816719,3772816719]
[3.1,"4.9.","Otros ingresos",0,0,153470.16,153470.16]
[3.1,"4.9.9.","Otros ingresos y resultados positivos",0,0,153470.16,153470.16]
[3.1,"4.9.9.99.","Ingresos y resultados positivos varios",0,0,153470.16,153470.16]
[3.1,"4.9.9.99.99.","Otros resultados positivos",0,0,153470.16,153470.16]
[3.1,"4.9.9.99.99.00.","Otros resultados positivos",0,0,153470.16,153470.16]
[3.1,"4.9.9.99.99.00.0.","Otros resultados positivos",0,0,153470.16,153470.16]
[3.1,"4.9.9.99.99.00.0.99999","Otros resultados positivos",0,0,153470.16,153470.16]
[3.1,"5.","GASTOS",0,2788142951.0100002,34284190.479999997,2753858760.5300002]
[3.1,"5.1.","Gastos de funcionamiento",0,2608456911.0900002,31244858.710000001,2577212052.3800001]
[3.1,"5.1.1.","Gastos en personal",0,753404454.03999996,0,753404454.03999996]
[3.1,"5.1.1.01.","Remuneraciones Básicas",0,379490873.82999998,0,379490873.82999998]
[3.1,"5.1.1.01.01.","Sueldos para cargos fijos",0,340848171.60000002,0,340848171.60000002]
[3.1,"5.1.1.01.01.00.","Sueldos para cargos fijos",0,340848171.60000002,0,340848171.60000002]
[3.1,"5.1.1.01.01.00.0.","Sueldos para cargos fijos",0,340848171.60000002,0,340848171.60000002]
[3.1,"5.1.1.01.01.00.0.99999","Sueldos para cargos fijos",0,340848171.60000002,0,340848171.60000002]
[3.1,"5.1.1.01.02.","Jornales",0,18632481.010000002,0,18632481.010000002]
[3.1,"5.1.1.01.02.00.","Jornales",0,18632481.010000002,0,18632481.010000002]
[3.1,"5.1.1.01.02.00.0.","Jornales",0,18632481.010000002,0,18632481.010000002]
[3.1,"5.1.1.01.02.00.0.99999","Jornales",0,18632481.010000002,0,18632481.010000002]
[3.1,"5.1.1.01.03.","Servicios especiales",0,12754329.529999999,0,12754329.529999999]
[3.1,"5.1.1.01.03.00.","Servicios especiales",0,12754329.529999999,0,12754329.529999999]
[3.1,"5.1.1.01.03.00.0.","Servicios especiales",0,12754329.529999999,0,12754329.529999999]
[3.1,"5.1.1.01.03.00.0.99999","Servicios especiales",0,12754329.529999999,0,12754329.529999999]
[3.1,"5.1.1.01.05.","Suplencias",0,7255891.7000000002,0,7255891.7000000002]
[3.1,"5.1.1.01.05.00.","Suplencias",0,7255891.7000000002,0,7255891.7000000002]
[3.1,"5.1.1.01.05.00.0.","Suplencias",0,7255891.7000000002,0,7255891.7000000002]
[3.1,"5.1.1.01.05.00.0.99999","Suplencias",0,7255891.7000000002,0,7255891.7000000002]
[3.1,"5.1.1.02.","Remuneraciones eventuales",0,50597530.579999998,0,50597530.579999998]
[3.1,"5.1.1.02.01.","Tiempo extraordinario",0,42364357.939999998,0,42364357.939999998]
[3.1,"5.1.1.02.01.00.","Tiempo extraordinario",0,42364357.939999998,0,42364357.939999998]
[3.1,"5.1.1.02.01.00.0.","Tiempo extraordinario",0,42364357.939999998,0,42364357.939999998]
[3.1,"5.1.1.02.01.00.0.99999","Tiempo extraordinario",0,42364357.939999998,0,42364357.939999998]
[3.1,"5.1.1.02.05.","Dietas",0,8233172.6399999997,0,8233172.6399999997]
[3.1,"5.1.1.02.05.00.","Dietas",0,8233172.6399999997,0,8233172.6399999997]
[3.1,"5.1.1.02.05.00.0.","Dietas",0,8233172.6399999997,0,8233172.6399999997]
[3.1,"5.1.1.02.05.00.0.99999","Dietas",0,8233172.6399999997,0,8233172.6399999997]
[3.1,"5.1.1.03.","Incentivos salariales",0,164004260.34999999,0,164004260.34999999]
[3.1,"5.1.1.03.01.","Retribución por años servidos",0,83709068.060000002,0,83709068.060000002]
[3.1,"5.1.1.03.01.00.","Hora",0,83709068.060000002,0,83709068.060000002]
[3.1,"5.1.1.03.01.00.0.","Diario",0,83709068.060000002,0,83709068.060000002]
[3.1,"5.1.1.03.01.00.0.99999","Semanal",0,83709068.060000002,0,83709068.060000002]
[3.1,"5.1.1.03.02.","Restricción al ejercicio liberal de la profesión",0,36557700.850000001,0,36557700.850000001]
[3.1,"5.1.1.03.02.01.","Dedicacion exclusiva",0,36557700.850000001,0,36557700.850000001]
[3.1,"5.1.1.03.02.01.0.","Dedicacion exclusiva",0,36557700.850000001,0,36557700.850000001]
[3.1,"5.1.1.03.02.01.0.99999","Dedicacion exclusiva",0,36557700.850000001,0,36557700.850000001]
[3.1,"5.1.1.03.03.","Decimotercer mes",0,43737491.450000003,0,43737491.450000003]
[3.1,"5.1.1.03.03.00.","Bi-Semanal",0,43737491.450000003,0,43737491.450000003]
[3.1,"5.1.1.03.03.00.0.","Mensual",0,43737491.450000003,0,43737491.450000003]
[3.1,"5.1.1.03.03.00.0.99999","Quincenal",0,43737491.450000003,0,43737491.450000003]
[3.1,"5.1.1.04.","Contribuciones patronales al desarrollo y la seguridad social",0,135466262.91999999,0,135466262.91999999]
[3.1,"5.1.1.04.01.","Contribución patronal al Seguro de Salud de la Caja Costarricense del Seguro Social",0,135316928.41999999,0,135316928.41999999]
[3.1,"5.1.1.04.01.00.","Contribución patronal al Seguro de Salud de la Caja Costarricense del Seguro Social",0,135316928.41999999,0,135316928.41999999]
[3.1,"5.1.1.04.01.00.0.","Contribución patronal al Seguro de Salud de la Caja Costarricense del Seguro Social",0,135316928.41999999,0,135316928.41999999]
[3.1,"5.1.1.04.01.00.0.14120","Contribución Patronal al Seguro de Salud de la Caja",0,135316928.41999999,0,135316928.41999999]
[3.1,"5.1.1.04.05.","Contribución patronal al Banco popular y de Desarrollo Comunal",0,149334.5,0,149334.5]
[3.1,"5.1.1.04.05.00.","Contribución patronal al Banco popular y de Desarrollo Comunal",0,149334.5,0,149334.5]
[3.1,"5.1.1.04.05.00.0.","Contribución patronal al Banco popular y de Desarrollo Comunal",0,149334.5,0,149334.5]
[3.1,"5.1.1.04.05.00.0.31104","Contribución Patronal al Banco Popular y de Desarrollo",0,149334.5,0,149334.5]
[3.1,"5.1.1.05.","Contribuciones patronales a fondos de pensiones y a otros fondos de capitalización",0,2962796.36,0,2962796.36]
[3.1,"5.1.1.05.01.","Contribución patronal al Seguro de Pensiones de la Caja Costarricense del Seguro Social",0,1618785.93,0,1618785.93]
[3.1,"5.1.1.05.01.00.","Contribución patronal al Seguro de Pensiones de la Caja Costarricense del Seguro Social",0,1618785.93,0,1618785.93]
[3.1,"5.1.1.05.01.00.0.","Contribución patronal al Seguro de Pensiones de la Caja Costarricense del Seguro Social",0,1618785.93,0,1618785.93]
[3.1,"5.1.1.05.01.00.0.14120","Contribución Patronal al Seguro de Pensiones de la Caja",0,1618785.93,0,1618785.93]
[3.1,"5.1.1.05.02.","Aporte patronal al Régimen Obligatorio de Pensiones Complementarias",0,896006.96,0,896006.96]
[3.1,"5.1.1.05.02.00.","Aporte patronal al Régimen Obligatorio de Pensiones Complementarias",0,896006.96,0,896006.96]
[3.1,"5.1.1.05.02.00.0.","Aporte patronal al Régimen Obligatorio de Pensiones Complementarias",0,896006.96,0,896006.96]
[3.1,"5.1.1.05.02.00.0.99999","Aporte patronal al Régimen Obligatorio de Pensiones Complementarias",0,896006.96,0,896006.96]
[3.1,"5.1.1.05.03.","Aporte patronal al Fondo de Capitalización Laboral",0,448003.47,0,448003.47]
[3.1,"5.1.1.05.03.00.","Aporte patronal al Fondo de Capitalización Laboral",0,448003.47,0,448003.47]
[3.1,"5.1.1.05.03.00.0.","Aporte patronal al Fondo de Capitalización Laboral",0,448003.47,0,448003.47]
[3.1,"5.1.1.05.03.00.0.14120","Aporte Patronal al Fondo de Capitalización Laboral",0,448003.47,0,448003.47]
[3.1,"5.1.1.06.","Asistencia social y beneficios al personal",0,20882730,0,20882730]
[3.1,"5.1.1.06.08.","Indemnizaciones al personal",0,20882730,0,20882730]
[3.1,"5.1.1.06.08.00.","Indemnizaciones al personal",0,20882730,0,20882730]
[3.1,"5.1.1.06.08.00.0.","Indemnizaciones al personal",0,20882730,0,20882730]
[3.1,"5.1.1.06.08.00.0.99999","Indemnizaciones al personal",0,20882730,0,20882730]
[3.1,"5.1.2.","Servicios",0,1430410833.3699999,304284.31,1430106549.0599999]
[3.1,"5.1.2.01.","Alquileres y derechos sobre bienes",0,79312638.629999995,0,79312638.629999995]
[3.1,"5.1.2.01.01.","Alquiler de terrenos, edificios y locales",0,7200000,0,7200000]
[3.1,"5.1.2.01.01.00.","Alquiler de terrenos, edificios y locales",0,7200000,0,7200000]
[3.1,"5.1.2.01.01.00.0.","Alquiler de terrenos, edificios y locales",0,7200000,0,7200000]
[3.1,"5.1.2.01.01.00.0.99999","Alquiler de terrenos, edificios y locales",0,7200000,0,7200000]
[3.1,"5.1.2.01.02.","Alquiler de maquinarias, equipos y mobiliario",0,70424440.799999997,0,70424440.799999997]
[3.1,"5.1.2.01.02.00.","Alquiler de maquinarias, equipos y mobiliario",0,70424440.799999997,0,70424440.799999997]
[3.1,"5.1.2.01.02.00.0.","Alquiler de maquinarias, equipos y mobiliario",0,70424440.799999997,0,70424440.799999997]
[3.1,"5.1.2.01.02.00.0.99999","Alquiler de maquinarias, equipos y mobiliario",0,70424440.799999997,0,70424440.799999997]
[3.1,"5.1.2.01.05.","Derechos o regalías sobre bienes intangibles",0,1688197.83,0,1688197.83]
[3.1,"5.1.2.01.05.00.","Derechos o regalías sobre bienes intangibles",0,1688197.83,0,1688197.83]
[3.1,"5.1.2.01.05.00.0.","Derechos o regalías sobre bienes intangibles",0,1688197.83,0,1688197.83]
[3.1,"5.1.2.01.05.00.0.99999","Derechos o regalías sobre bienes intangibles",0,1688197.83,0,1688197.83]
[3.1,"5.1.2.02.","Servicios básicos",0,66859511.380000003,0,66859511.380000003]
[3.1,"5.1.2.02.01.","Agua y alcantarillado",0,5563364,0,5563364]
[3.1,"5.1.2.02.01.00.","Agua y alcantarillado",0,5563364,0,5563364]
[3.1,"5.1.2.02.01.00.0.","Agua y alcantarillado",0,5563364,0,5563364]
[3.1,"5.1.2.02.01.00.0.99999","Agua y alcantarillado",0,5563364,0,5563364]
[3.1,"5.1.2.02.02.","Energía eléctrica",0,10430190,0,10430190]
[3.1,"5.1.2.02.02.00.","Energía eléctrica",0,10430190,0,10430190]
[3.1,"5.1.2.02.02.00.0.","Energía eléctrica",0,10430190,0,10430190]
[3.1,"5.1.2.02.02.00.0.99999","Energía eléctrica",0,10430190,0,10430190]
[3.1,"5.1.2.02.04.","Servicios de telecomunicaciones",0,1350347.08,0,1350347.08]
[3.1,"5.1.2.02.04.00.","Servicios de telecomunicaciones",0,1350347.08,0,1350347.08]
[3.1,"5.1.2.02.04.00.0.","Servicios de telecomunicaciones",0,1350347.08,0,1350347.08]
[3.1,"5.1.2.02.04.00.0.99999","Servicios de telecomunicaciones",0,1350347.08,0,1350347.08]
[3.1,"5.1.2.02.99.","Otros servicios básicos",0,49515610.299999997,0,49515610.299999997]
[3.1,"5.1.2.02.99.00.","Otros servicios básicos",0,49515610.299999997,0,49515610.299999997]
[3.1,"5.1.2.02.99.00.0.","Otros servicios básicos",0,49515610.299999997,0,49515610.299999997]
[3.1,"5.1.2.02.99.00.0.99999","Otros servicios básicos",0,49515610.299999997,0,49515610.299999997]
[3.1,"5.1.2.03.","Servicios comerciales y financieros",0,15484721.74,0,15484721.74]
[3.1,"5.1.2.03.01.","Servicios de información",0,457776,0,457776]
[3.1,"5.1.2.03.01.00.","Servicios de información",0,457776,0,457776]
[3.1,"5.1.2.03.01.00.0.","Servicios de información",0,457776,0,457776]
[3.1,"5.1.2.03.01.00.0.99999","Servicios de información",0,457776,0,457776]
[3.1,"5.1.2.03.03.","Impresión, encuadernación y otros",0,10000,0,10000]
[3.1,"5.1.2.03.03.00.","Impresión, encuadernación y otros",0,10000,0,10000]
[3.1,"5.1.2.03.03.00.0.","Impresión, encuadernación y otros",0,10000,0,10000]
[3.1,"5.1.2.03.03.00.0.99999","Impresión, encuadernación y otros",0,10000,0,10000]
[3.1,"5.1.2.03.06.","Comisiones y gastos por servicios financieros y comerciales",0,14867209.74,0,14867209.74]
[3.1,"5.1.2.03.06.00.","Comisiones y gastos por servicios financieros y comerciales",0,14867209.74,0,14867209.74]
[3.1,"5.1.2.03.06.00.0.","Comisiones y gastos por servicios financieros y comerciales",0,14867209.74,0,14867209.74]
[3.1,"5.1.2.03.06.00.0.99999","Comisiones y gastos por servicios financieros y comerciales",0,14867209.74,0,14867209.74]
[3.1,"5.1.2.03.07.","Servicios de transferencia electrónica de información",0,149736,0,149736]
[3.1,"5.1.2.03.07.00.","Servicios de transferencia electrónica de información",0,149736,0,149736]
[3.1,"5.1.2.03.07.00.0.","Servicios de transferencia electrónica de información",0,149736,0,149736]
[3.1,"5.1.2.03.07.00.0.99999","Servicios de transferencia electrónica de información",0,149736,0,149736]
[3.1,"5.1.2.04.","Servicios de gestión y apoyo",0,88303273.620000005,25925,88277348.620000005]
[3.1,"5.1.2.04.03.","Servicios de ingeniería",0,19339999,0,19339999]
[3.1,"5.1.2.04.03.00.","Servicios de ingeniería",0,19339999,0,19339999]
[3.1,"5.1.2.04.03.00.0.","Servicios de ingeniería",0,19339999,0,19339999]
[3.1,"5.1.2.04.03.00.0.99999","Servicios de ingeniería",0,19339999,0,19339999]
[3.1,"5.1.2.04.04.","Servicios en ciencias económicas y sociales",0,14178500,0,14178500]
[3.1,"5.1.2.04.04.00.","Servicios en ciencias económicas y sociales",0,14178500,0,14178500]
[3.1,"5.1.2.04.04.00.0.","Servicios en ciencias económicas y sociales",0,14178500,0,14178500]
[3.1,"5.1.2.04.04.00.0.99999","Servicios en ciencias económicas y sociales",0,14178500,0,14178500]
[3.1,"5.1.2.04.06.","Servicios generales",0,41085352.259999998,0,41085352.259999998]
[3.1,"5.1.2.04.06.00.","Servicios generales",0,41085352.259999998,0,41085352.259999998]
[3.1,"5.1.2.04.06.00.0.","Servicios generales",0,41085352.259999998,0,41085352.259999998]
[3.1,"5.1.2.04.06.00.0.99999","Servicios generales",0,41085352.259999998,0,41085352.259999998]
[3.1,"5.1.2.04.99.","Otros servicios de gestión y apoyo",0,13699422.359999999,25925,13673497.359999999]
[3.1,"5.1.2.04.99.00.","Otros servicios de gestión y apoyo",0,13699422.359999999,25925,13673497.359999999]
[3.1,"5.1.2.04.99.00.0.","Otros servicios de gestión y apoyo",0,13699422.359999999,25925,13673497.359999999]
[3.1,"5.1.2.04.99.00.0.99999","Otros servicios de gestión y apoyo",0,13699422.359999999,25925,13673497.359999999]
[3.1,"5.1.2.05.","Gastos de viaje y transporte",0,4124420,278359.31,3846060.69]
[3.1,"5.1.2.05.01.","Transporte dentro del país",0,26720,0,26720]
[3.1,"5.1.2.05.01.00.","Transporte dentro del país",0,26720,0,26720]
[3.1,"5.1.2.05.01.00.0.","Transporte dentro del país",0,26720,0,26720]
[3.1,"5.1.2.05.01.00.0.99999","Transporte dentro del país",0,26720,0,26720]
[3.1,"5.1.2.05.02.","Viáticos dentro del país",0,4097700,278359.31,3819340.69]
[3.1,"5.1.2.05.02.00.","Viáticos dentro del país",0,4097700,278359.31,3819340.69]
[3.1,"5.1.2.05.02.00.0.","Viáticos dentro del país",0,4097700,278359.31,3819340.69]
[3.1,"5.1.2.05.02.00.0.99999","Viáticos dentro del país",0,4097700,278359.31,3819340.69]
[3.1,"5.1.2.06.","Seguros, reaseguros y otras obligaciones",0,32202116.93,0,32202116.93]
[3.1,"5.1.2.06.01.","Seguros",0,32202116.93,0,32202116.93]
[3.1,"5.1.2.06.01.01.","Seguros contra riesgos de trabajo",0,7546935,0,7546935]
[3.1,"5.1.2.06.01.01.0.","Seguros contra riesgos de trabajo",0,7546935,0,7546935]
[3.1,"5.1.2.06.01.01.0.99999","Seguros contra riesgos de trabajo",0,7546935,0,7546935]
[3.1,"5.1.2.06.01.04.","Seguros voluntarios de automóviles",0,24655181.93,0,24655181.93]
[3.1,"5.1.2.06.01.04.0.","Seguros voluntarios de automóviles",0,24655181.93,0,24655181.93]
[3.1,"5.1.2.06.01.04.0.99999","Seguros voluntarios de automóviles",0,24655181.93,0,24655181.93]
[3.1,"5.1.2.07.","Capacitación y protocolo",0,10860000,0,10860000]
[3.1,"5.1.2.07.01.","Actividades de capacitación",0,4860000,0,4860000]
[3.1,"5.1.2.07.01.00.","Actividades de capacitación",0,4860000,0,4860000]
[3.1,"5.1.2.07.01.00.0.","Actividades de capacitación",0,4860000,0,4860000]
[3.1,"5.1.2.07.01.00.0.99999","Actividades de capacitación",0,4860000,0,4860000]
[3.1,"5.1.2.07.02.","Actividades protocolarias y sociales",0,6000000,0,6000000]
[3.1,"5.1.2.07.02.00.","Actividades protocolarias y sociales",0,6000000,0,6000000]
[3.1,"5.1.2.07.02.00.0.","Actividades protocolarias y sociales",0,6000000,0,6000000]
[3.1,"5.1.2.07.02.00.0.99999","Actividades protocolarias y sociales",0,6000000,0,6000000]
[3.1,"5.1.2.08.","Mantenimiento y reparaciones",0,1133264151.0699999,0,1133264151.0699999]
[3.1,"5.1.2.08.01.","Mantenimiento de terrenos y edificios",0,17808722.5,0,17808722.5]
[3.1,"5.1.2.08.01.99.","Mantenimiento de edificios varios",0,17808722.5,0,17808722.5]
[3.1,"5.1.2.08.01.99.0.","Mantenimiento de edificios varios",0,17808722.5,0,17808722.5]
[3.1,"5.1.2.08.01.99.0.99999","Mantenimiento de edificios varios",0,17808722.5,0,17808722.5]
[3.1,"5.1.2.08.02.","Mantenimiento y reparación de maquinaria y equipos para la producción",0,12081355.9,0,12081355.9]
[3.1,"5.1.2.08.02.00.","Mantenimiento y reparación de maquinaria y equipos para la producción",0,12081355.9,0,12081355.9]
[3.1,"5.1.2.08.02.00.0.","Mantenimiento y reparación de maquinaria y equipos para la producción",0,12081355.9,0,12081355.9]
[3.1,"5.1.2.08.02.00.0.99999","Mantenimiento y reparación de maquinaria y equipos para la producción",0,12081355.9,0,12081355.9]
[3.1,"5.1.2.08.03.","Mantenimiento y reparación de equipos de transporte, tracción y elevación",0,14184192.27,0,14184192.27]
[3.1,"5.1.2.08.03.00.","Mantenimiento y reparación de equipos de transporte, tracción y elevación",0,14184192.27,0,14184192.27]
[3.1,"5.1.2.08.03.00.0.","Mantenimiento y reparación de equipos de transporte, tracción y elevación",0,14184192.27,0,14184192.27]
[3.1,"5.1.2.08.03.00.0.99999","Mantenimiento y reparación de equipos de transporte, tracción y elevación",0,14184192.27,0,14184192.27]
[3.1,"5.1.2.08.05.","Mantenimiento y reparación de equipos y mobiliario de oficina",0,280999.96999999997,0,280999.96999999997]
[3.1,"5.1.2.08.05.00.","Mantenimiento y reparación de equipos y mobiliario de oficina",0,280999.96999999997,0,280999.96999999997]
[3.1,"5.1.2.08.05.00.0.","Mantenimiento y reparación de equipos y mobiliario de oficina",0,280999.96999999997,0,280999.96999999997]
[3.1,"5.1.2.08.05.00.0.99999","Mantenimiento y reparación de equipos y mobiliario de oficina",0,280999.96999999997,0,280999.96999999997]
[3.1,"5.1.2.08.10.","Mantenimiento y reparación de bienes de infraestructura y de beneficio y uso público",0,1088908880.4300001,0,1088908880.4300001]
[3.1,"5.1.2.08.10.00.","Mantenimiento y reparación de bienes de infraestructura y de beneficio y uso público",0,1088908880.4300001,0,1088908880.4300001]
[3.1,"5.1.2.08.10.00.0.","Mantenimiento y reparación de bienes de infraestructura y de beneficio y uso público",0,1088908880.4300001,0,1088908880.4300001]
[3.1,"5.1.2.08.10.00.0.99999","Mantenimiento y reparación de bienes de infraestructura y de beneficio y uso público",0,1088908880.4300001,0,1088908880.4300001]
[3.1,"5.1.3.","Materiales y suministros consumidos",0,320109757.76999998,30849513.84,289260243.93000001]
[3.1,"5.1.3.01.","Productos químicos y conexos",0,94686466.290000007,1899651.7,92786814.590000004]
[3.1,"5.1.3.01.01.","Combustibles y lubricantes",0,90213428.799999997,0,90213428.799999997]
[3.1,"5.1.3.01.01.00.","Combustibles y lubricantes",0,90213428.799999997,0,90213428.799999997]
[3.1,"5.1.3.01.01.00.0.","Combustibles y lubricantes",0,90213428.799999997,0,90213428.799999997]
[3.1,"5.1.3.01.01.00.0.99999","Combustibles y lubricantes",0,90213428.799999997,0,90213428.799999997]
[3.1,"5.1.3.01.02.","Productos farmacéuticos y medicinales",0,1993742.84,675000,1318742.8400000001]
[3.1,"5.1.3.01.02.00.","Productos farmacéuticos y medicinales",0,1993742.84,675000,1318742.8400000001]
[3.1,"5.1.3.01.02.00.0.","Productos farmacéuticos y medicinales",0,1993742.84,675000,1318742.8400000001]
[3.1,"5.1.3.01.02.00.0.99999","Productos farmacéuticos y medicinales",0,1993742.84,675000,1318742.8400000001]
[3.1,"5.1.3.01.04.","Tintas, pinturas y diluyentes",0,1800020.65,1191051.7,608968.94999999995]
[3.1,"5.1.3.01.04.00.","Tintas, pinturas y diluyentes",0,1800020.65,1191051.7,608968.94999999995]
[3.1,"5.1.3.01.04.00.0.","Tintas, pinturas y diluyentes",0,1800020.65,1191051.7,608968.94999999995]
[3.1,"5.1.3.01.04.00.0.99999","Tintas, pinturas y diluyentes",0,1800020.65,1191051.7,608968.94999999995]
[3.1,"5.1.3.01.99.","Otros productos químicos y conexos",0,679274,33600,645674]
[3.1,"5.1.3.01.99.00.","Otros productos químicos y conexos",0,679274,33600,645674]
[3.1,"5.1.3.01.99.00.0.","Otros productos químicos y conexos",0,679274,33600,645674]
[3.1,"5.1.3.01.99.00.0.99999","Otros productos químicos y conexos",0,679274,33600,645674]
[3.1,"5.1.3.02.","Alimentos y productos agropecuarios",0,2759335.77,0,2759335.77]
[3.1,"5.1.3.02.03.","Alimentos y bebidas",0,2759335.77,0,2759335.77]
[3.1,"5.1.3.02.03.00.","Alimentos y bebidas",0,2759335.77,0,2759335.77]
[3.1,"5.1.3.02.03.00.0.","Alimentos y bebidas",0,2759335.77,0,2759335.77]
[3.1,"5.1.3.02.03.00.0.99999","Alimentos y bebidas",0,2759335.77,0,2759335.77]
[3.1,"5.1.3.03.","Material y producto uso en la construc y mantenim",0,114732601.28,3332210.2,111400391.08]
[3.1,"5.1.3.03.01.","Materiales y productos metálicos",0,6881452.8300000001,263620,6617832.8300000001]
[3.1,"5.1.3.03.01.00.","Materiales y productos metálicos",0,6881452.8300000001,263620,6617832.8300000001]
[3.1,"5.1.3.03.01.00.0.","Materiales y productos metálicos",0,6881452.8300000001,263620,6617832.8300000001]
[3.1,"5.1.3.03.01.00.0.99999","Materiales y productos metálicos",0,6881452.8300000001,263620,6617832.8300000001]
[3.1,"5.1.3.03.02.","Materiales y productos minerales y asfálticos",0,103609999,3004645.2,100605353.8]
[3.1,"5.1.3.03.02.00.","Materiales y productos minerales y asfálticos",0,103609999,3004645.2,100605353.8]
[3.1,"5.1.3.03.02.00.0.","Materiales y productos minerales y asfálticos",0,103609999,3004645.2,100605353.8]
[3.1,"5.1.3.03.02.00.0.99999","Materiales y productos minerales y asfálticos",0,103609999,3004645.2,100605353.8]
[3.1,"5.1.3.03.03.","Madera y sus derivados",0,2116995,63945,2053050]
[3.1,"5.1.3.03.03.00.","Madera y sus derivados",0,2116995,63945,2053050]
[3.1,"5.1.3.03.03.00.0.","Madera y sus derivados",0,2116995,63945,2053050]
[3.1,"5.1.3.03.03.00.0.99999","Madera y sus derivados",0,2116995,63945,2053050]
[3.1,"5.1.3.03.04.","Material y producto eléctrico, telefónic y cómputo",0,1790514.63,0,1790514.63]
[3.1,"5.1.3.03.04.00.","Material y producto eléctrico, telefónic y cómputo",0,1790514.63,0,1790514.63]
[3.1,"5.1.3.03.04.00.0.","Material y producto eléctrico, telefónic y cómputo",0,1790514.63,0,1790514.63]
[3.1,"5.1.3.03.04.00.0.99999","Material y producto eléctrico, telefónic y cómputo",0,1790514.63,0,1790514.63]
[3.1,"5.1.3.03.06.","Materiales y productos de plástico",0,246497.32,0,246497.32]
[3.1,"5.1.3.03.06.00.","Materiales y productos de plástico",0,246497.32,0,246497.32]
[3.1,"5.1.3.03.06.00.0.","Materiales y productos de plástico",0,246497.32,0,246497.32]
[3.1,"5.1.3.03.06.00.0.99999","Materiales y productos de plástico",0,246497.32,0,246497.32]
[3.1,"5.1.3.03.99.","Otros material y producto d/uso construcc mantenim",0,87142.5,0,87142.5]
[3.1,"5.1.3.03.99.00.","Otros material y producto d/uso construcc mantenim",0,87142.5,0,87142.5]
[3.1,"5.1.3.03.99.00.0.","Otros material y producto d/uso construcc mantenim",0,87142.5,0,87142.5]
[3.1,"5.1.3.03.99.00.0.99999","Otros material y producto d/uso construcc mantenim",0,87142.5,0,87142.5]
[3.1,"5.1.3.04.","Herramientas, repuestos y accesorios",0,73438261.719999999,16486340.68,56951921.039999999]
[3.1,"5.1.3.04.01.","Herramientas e instrumentos",0,412156.69,412156.69,0]
[3.1,"5.1.3.04.01.00.","Herramientas e instrumentos",0,412156.69,412156.69,0]
[3.1,"5.1.3.04.01.00.0.","Herramientas e instrumentos nuevos",0,412156.69,412156.69,0]
[3.1,"5.1.3.04.01.00.0.99999","Herramientas e instrumentos nuevos",0,412156.69,412156.69,0]
[3.1,"5.1.3.04.02.","Repuestos y accesorios",0,73026105.030000001,16074183.99,56951921.039999999]
[3.1,"5.1.3.04.02.01.","Repuestos y accesorios Nuevos",0,73026105.030000001,16074183.99,56951921.039999999]
[3.1,"5.1.3.04.02.01.0.","Repuestos y accesorios Nuevos",0,73026105.030000001,16074183.99,56951921.039999999]
[3.1,"5.1.3.04.02.01.0.99999","Repuestos y accesorios Nuevos",0,73026105.030000001,16074183.99,56951921.039999999]
[3.1,"5.1.3.99.","Útiles, materiales y suministros diversos",0,34493092.710000001,9131311.2599999998,25361781.449999999]
[3.1,"5.1.3.99.01.","Útiles y materiales de oficina y cómputo",0,1559063.95,443964.45,1115099.5]
[3.1,"5.1.3.99.01.00.","Útiles y materiales de oficina y cómputo",0,1559063.95,443964.45,1115099.5]
[3.1,"5.1.3.99.01.00.0.","Útiles y materiales de oficina y cómputo",0,1559063.95,443964.45,1115099.5]
[3.1,"5.1.3.99.01.00.0.99999","Útiles y materiales de oficina y cómputo",0,1559063.95,443964.45,1115099.5]
[3.1,"5.1.3.99.02.","Útiles y materiales méd, hospital y investigación",0,465932.97,0,465932.97]
[3.1,"5.1.3.99.02.00.","Útiles y materiales méd, hospital y investigación",0,465932.97,0,465932.97]
[3.1,"5.1.3.99.02.00.0.","Útiles y materiales méd, hospital y investigación",0,465932.97,0,465932.97]
[3.1,"5.1.3.99.02.00.0.99999","Útiles y materiales méd, hospital y investigación",0,465932.97,0,465932.97]
[3.1,"5.1.3.99.03.","Productos de papel, cartón e impresos",0,2076236.1,607392,1468844.1]
[3.1,"5.1.3.99.03.00.","Productos de papel, cartón e impresos",0,2076236.1,607392,1468844.1]
[3.1,"5.1.3.99.03.00.0.","Productos de papel, cartón e impresos",0,2076236.1,607392,1468844.1]
[3.1,"5.1.3.99.03.00.0.99999","Productos de papel, cartón e impresos",0,2076236.1,607392,1468844.1]
[3.1,"5.1.3.99.04.","Textiles y vestuario",0,14816979.609999999,1687442,13129537.609999999]
[3.1,"5.1.3.99.04.00.","Textiles y vestuario",0,14816979.609999999,1687442,13129537.609999999]
[3.1,"5.1.3.99.04.00.0.","Textiles y vestuario",0,14816979.609999999,1687442,13129537.609999999]
[3.1,"5.1.3.99.04.00.0.99999","Textiles y vestuario",0,14816979.609999999,1687442,13129537.609999999]
[3.1,"5.1.3.99.05.","Útiles y materiales de limpieza",0,4515785.3499999996,1523296.77,2992488.58]
[3.1,"5.1.3.99.05.00.","Útiles y materiales de limpieza",0,4515785.3499999996,1523296.77,2992488.58]
[3.1,"5.1.3.99.05.00.0.","Útiles y materiales de limpieza",0,4515785.3499999996,1523296.77,2992488.58]
[3.1,"5.1.3.99.05.00.0.99999","Útiles y materiales de limpieza",0,4515785.3499999996,1523296.77,2992488.58]
[3.1,"5.1.3.99.06.","Útiles y materiales de resguardo y seguridad",0,9196078.7300000004,4609053.04,4587025.6900000004]
[3.1,"5.1.3.99.06.00.","Útiles y materiales de resguardo y seguridad",0,9196078.7300000004,4609053.04,4587025.6900000004]
[3.1,"5.1.3.99.06.00.0.","Útiles y materiales de resguardo y seguridad",0,9196078.7300000004,4609053.04,4587025.6900000004]
[3.1,"5.1.3.99.06.00.0.99999","Útiles y materiales de resguardo y seguridad",0,9196078.7300000004,4609053.04,4587025.6900000004]
[3.1,"5.1.3.99.99.","Otros útiles, materiales y suministros diversos",0,1863016,260163,1602853]
[3.1,"5.1.3.99.99.00.","Otros útiles, materiales y suministros diversos",0,1863016,260163,1602853]
[3.1,"5.1.3.99.99.00.0.","Otros útiles, materiales y suministros diversos",0,1863016,260163,1602853]
[3.1,"5.1.3.99.99.00.0.99999","Otros útiles, materiales y suministros diversos",0,1863016,260163,1602853]
[3.1,"5.1.4.","Consumo de bienes distintos de inventarios",0,104531865.91,91060.56,104440805.34999999]
[3.1,"5.1.4.01.","Consumo de bienes no concesionados",0,104531865.91,91060.56,104440805.34999999]
[3.1,"5.1.4.01.01.","Depreciaciones de propiedades, planta y equipos explotados",0,104531865.91,91060.56,104440805.34999999]
[3.1,"5.1.4.01.01.02.","Depreciación de edificios",0,10856346.4,0,10856346.4]
[3.1,"5.1.4.01.01.02.0.","Depreciación de edificios",0,10856346.4,0,10856346.4]
[3.1,"5.1.4.01.01.02.0.99999","Depreciación de edificios",0,10856346.4,0,10856346.4]
[3.1,"5.1.4.01.01.03.","Depreciaciones de maquinaria y equipos para la producción",0,74706439.25,0,74706439.25]
[3.1,"5.1.4.01.01.03.0.","Depreciaciones de maquinaria y equipos para la producción",0,74706439.25,0,74706439.25]
[3.1,"5.1.4.01.01.03.0.99999","Depreciaciones de maquinaria y equipos para la producción",0,74706439.25,0,74706439.25]
[3.1,"5.1.4.01.01.04.","Depreciaciones de equipos de transporte, tracción y elevación",0,7556693.96,0,7556693.96]
[3.1,"5.1.4.01.01.04.0.","Depreciaciones de equipos de transporte, tracción y elevación",0,7556693.96,0,7556693.96]
[3.1,"5.1.4.01.01.04.0.99999","Depreciaciones de equipos de transporte, tracción y elevación",0,7556693.96,0,7556693.96]
[3.1,"5.1.4.01.01.05.","Depreciaciones de equipos de comunicación",0,1625991.31,0,1625991.31]
[3.1,"5.1.4.01.01.05.0.","Depreciaciones de equipos de comunicación",0,1625991.31,0,1625991.31]
[3.1,"5.1.4.01.01.05.0.99999","Depreciaciones de equipos de comunicación",0,1625991.31,0,1625991.31]
[3.1,"5.1.4.01.01.06.","Depreciaciones de equipos y mobiliario de oficina",0,3117886.47,39937.5,3077948.97]
[3.1,"5.1.4.01.01.06.0.","Depreciaciones de equipos y mobiliario de oficina",0,3117886.47,39937.5,3077948.97]
[3.1,"5.1.4.01.01.06.0.99999","Depreciaciones de equipos y mobiliario de oficina",0,3117886.47,39937.5,3077948.97]
[3.1,"5.1.4.01.01.07.","Depreciaciones de equipos para computación",0,5487626.1699999999,51123.06,5436503.1100000003]
[3.1,"5.1.4.01.01.07.0.","Depreciaciones de equipos para computación",0,5487626.1699999999,51123.06,5436503.1100000003]
[3.1,"5.1.4.01.01.07.0.99999","Depreciaciones de equipos para computación",0,5487626.1699999999,51123.06,5436503.1100000003]
[3.1,"5.1.4.01.01.09.","Depreciaciones de equipos y mobiliario educacional, deportivo y recreativo",0,842214.28,0,842214.28]
[3.1,"5.1.4.01.01.09.0.","Depreciaciones de equipos y mobiliario educacional, deportivo y recreativo",0,842214.28,0,842214.28]
[3.1,"5.1.4.01.01.09.0.99999","Depreciaciones de equipos y mobiliario educacional, deportivo y recreativo",0,842214.28,0,842214.28]
[3.1,"5.1.4.01.01.10.","Depreciaciones de equipos de seguridad, orden, vigilancia y control público",0,101838.7,0,101838.7]
[3.1,"5.1.4.01.01.10.0.","Depreciaciones de equipos de seguridad, orden, vigilancia y control público",0,101838.7,0,101838.7]
[3.1,"5.1.4.01.01.10.0.99999","Depreciaciones de equipos de seguridad, orden, vigilancia y control público",0,101838.7,0,101838.7]
[3.1,"5.1.4.01.01.99.","Depreciac maquinaria, equipo y mobiliar diverso",0,236829.37,0,236829.37]
[3.1,"5.1.4.01.01.99.0.","Depreciac maquinaria, equipo y mobiliar diverso",0,236829.37,0,236829.37]
[3.1,"5.1.4.01.01.99.0.99999","Depreciac maquinaria, equipo y mobiliar diverso",0,236829.37,0,236829.37]
[3.1,"5.2.","Gastos financieros",0,54399299.990000002,0,54399299.990000002]
[3.1,"5.2.1.","Intereses sobre endeudamiento público",0,54399299.990000002,0,54399299.990000002]
[3.1,"5.2.1.02.","Intereses sobre préstamos",0,54399299.990000002,0,54399299.990000002]
[3.1,"5.2.1.02.02.","Intereses sobre préstamos del sector público interno",0,54399299.990000002,0,54399299.990000002]
[3.1,"5.2.1.02.02.99.","Intereses sobre préstamos de Otras Instituciones de Gobiernos Locales",0,54399299.990000002,0,54399299.990000002]
[3.1,"5.2.1.02.02.99.0.","Intereses sobre préstamos de Otras Instituciones de Gobiernos Locales",0,54399299.990000002,0,54399299.990000002]
[3.1,"5.2.1.02.02.99.0.14226","Instito de Fomento y Asesoria Municipal IFAM",0,54399299.990000002,0,54399299.990000002]
[3.1,"5.4.","Transferencias",0,125286734.48999999,3039331.77,122247402.72]
[3.1,"5.4.1.","Transferencias corrientes",0,125286734.48999999,3039331.77,122247402.72]
[3.1,"5.4.1.01.","Transferencias corrientes al sector privado interno",0,67537684,3039331.77,64498352.229999997]
[3.1,"5.4.1.01.01.","Transferencias corrientes a personas",0,59640488.869999997,3039331.77,56601157.100000001]
[3.1,"5.4.1.01.01.01.","Prestaciones",0,9640488.8699999992,3039331.77,6601157.0999999996]
[3.1,"5.4.1.01.01.01.1.","Pensiones y jubilaciones contributivas",0,5868989.2000000002,3039331.77,2829657.43]
[3.1,"5.4.1.01.01.01.1.99999","Pensiones y jubilaciones contributivas",0,5868989.2000000002,3039331.77,2829657.43]
[3.1,"5.4.1.01.01.01.9.","Otras prestaciones",0,3771499.67,0,3771499.67]
[3.1,"5.4.1.01.01.01.9.99999","Otras prestaciones",0,3771499.67,0,3771499.67]
[3.1,"5.4.1.01.01.99.","Otras transferencias corrientes a personas",0,50000000,0,50000000]
[3.1,"5.4.1.01.01.99.0.","Otras transferencias corrientes a personas",0,50000000,0,50000000]
[3.1,"5.4.1.01.01.99.0.99999","Otras transferencias corrientes a personas",0,50000000,0,50000000]
[3.1,"5.4.1.01.02.","Transferencias corrientes a entidades del sector privado interno",0,7897195.1299999999,0,7897195.1299999999]
[3.1,"5.4.1.01.02.01.","Transferencias corrientes a entidades privadas sin fines de lucro",0,7897195.1299999999,0,7897195.1299999999]
[3.1,"5.4.1.01.02.01.1.","Transferencias corrientes a asociaciones",0,4144905.13,0,4144905.13]
[3.1,"5.4.1.01.02.01.1.99999","Transferencias corrientes a asociaciones",0,4144905.13,0,4144905.13]
[3.1,"5.4.1.01.02.01.9.","Transferencias corrientes a otras entidades privadas sin fines de lucro",0,3752290,0,3752290]
[3.1,"5.4.1.01.02.01.9.99999","Transferencias corrientes a otras entidades privadas sin fines de lucro",0,3752290,0,3752290]
[3.1,"5.4.1.02.","Transferencias corrientes al sector público interno",0,57749050.490000002,0,57749050.490000002]
[3.1,"5.4.1.02.01.","Transferencias corrientes al Gobierno Central",0,3032078.91,0,3032078.91]
[3.1,"5.4.1.02.01.06.","Transferencias corrientes al Gobierno Central",0,2898728.91,0,2898728.91]
[3.1,"5.4.1.02.01.06.0.","Transferencias corrientes al Gobierno Central",0,2898728.91,0,2898728.91]
[3.1,"5.4.1.02.01.06.0.11206","Transferencias corrientes al Gobierno Central",0,1896682.76,0,1896682.76]
[3.1,"5.4.1.02.01.06.0.11219","Ministerio de Ambiente, Energía y Telecomunicaciones (MINAET)",0,1002046.15,0,1002046.15]
[3.1,"5.4.1.02.01.99.","Otras transferencias corrientes al Gobierno Central",0,133350,0,133350]
[3.1,"5.4.1.02.01.99.0.","Otras transferencias corrientes al Gobierno Central",0,133350,0,133350]
[3.1,"5.4.1.02.01.99.0.11210","Transferencias corrientes  a Instituciones del MEP",0,133350,0,133350]
[3.1,"5.4.1.02.02.","Transferencias corrientes a Órganos Desconcentrados",0,6262769.2999999998,0,6262769.2999999998]
[3.1,"5.4.1.02.02.06.","Transferencias corrientes a Órganos Desconcentrados",0,6262769.2999999998,0,6262769.2999999998]
[3.1,"5.4.1.02.02.06.0.","Transferencias corrientes a Órganos Desconcentrados",0,6262769.2999999998,0,6262769.2999999998]
[3.1,"5.4.1.02.02.06.0.12553","Comision Nacional para la Gestión de la Biodiversidad (CONAGEBIO)",0,159054.94,0,159054.94]
[3.1,"5.4.1.02.02.06.0.12581","Consejo Nacional de Personas con Discapacidad - CONAPDIS",0,2310348.86,0,2310348.86]
[3.1,"5.4.1.02.02.06.0.12784","Junta Administrativa del Registro Nacional",0,3793365.5,0,3793365.5]
[3.1,"5.4.1.02.03.","Transferencias corrientes a Instituciones Descentralizadas no Empresariales",0,33436934.68,0,33436934.68]
[3.1,"5.4.1.02.03.06.","Transferencias corrientes a Instituciones Descentralizadas no Empresariales",0,33436934.68,0,33436934.68]
[3.1,"5.4.1.02.03.06.0.","Transferencias corrientes a Instituciones Descentralizadas no Empresariales",0,33436934.68,0,33436934.68]
[3.1,"5.4.1.02.03.06.0.14253","Transferencias corrientes a Instituciones Descentralizadas no Empresariales",0,33436934.68,0,33436934.68]
[3.1,"5.4.1.02.99.","Transferencias corrientes a otras Instituciones de Gobiernos Locales",0,15017267.6,0,15017267.6]
[3.1,"5.4.1.02.99.06.","Transferencias corrientes a otras Instituciones de Gobiernos Locales",0,15017267.6,0,15017267.6]
[3.1,"5.4.1.02.99.06.0.","Transferencias corrientes a otras Instituciones de Gobiernos Locales",0,15017267.6,0,15017267.6]
[3.1,"5.4.1.02.99.06.0.15910","Comités Cantonales de Deportes y Recreación",0,13862093.17,0,13862093.17]
[3.1,"5.4.1.02.99.06.0.15980","Unión Nacional de Gobiernos Locales",0,1155174.43,0,1155174.43]
[3.1,"5.9.","Otros gastos",0,5.44,0,5.44]
[3.1,"5.9.9.","Otros gastos y resultados negativos",0,5.44,0,5.44]
[3.1,"5.9.9.99.","Gastos y resultados negativos varios",0,5.44,0,5.44]
[3.1,"5.9.9.99.99.","Otros resultados negativos",0,5.44,0,5.44]
[3.1,"5.9.9.99.99.00.","Otros resultados negativos",0,5.44,0,5.44]
[3.1,"5.9.9.99.99.00.0.","Otros resultados negativos",0,5.44,0,5.44]
[3.1,"5.9.9.99.99.00.0.99999","Otros resultados negativos",0,5.44,0,5.44]

{"sheet":"BC_ANTERIOR","index":2,"n_rows":1200,"n_cols":8,"rows_kept":1200,"cut":false,"hidden":false,"merged":[[5,1,5,6],[6,1,6,6],[7,1,7,6]]}
[]
[]
[]
[]
[]
[]
[]
[]
["CODIGO SEGMENTO","CUENTA (REPORTAR MÁXIMO A NIVEL 8)","NOMBRE CUENTA","SALDO INICIAL","DEBITOS PERIODO","CREDITOS PERIODO","SALDO FINAL"]
[3.1,"1.","ACTIVO",166232730219.92999,8884775719.9099998,7336730614.21,167780775325.63]
[3.1,"1.1.","Activo Corriente",3349699857.52,8781486517.5599995,7050042721.0600004,5081143654.0200005]
[3.1,"1.1.1.","Efectivo equivalentes de efectivo",2705767389.21,3497603672.9699998,3981408458.6799998,2221962603.5]
[3.1,"1.1.1.01.","Efectivo",2705767389.21,3035246348.4299998,3981408458.6799998,1759605278.96]
[3.1,"1.1.1.01.02.","Depósitos bancarios",2704317389.21,3031496348.4299998,3979458458.6799998,1756355278.96]
[3.1,"1.1.1.01.02.02.","Depósitos bancarios en el sector público interno",2704317389.21,3031496348.4299998,3979458458.6799998,1756355278.96]
[3.1,"1.1.1.01.02.02.2.","Cuentas corrientes en el sector público interno",600136255.94000006,1010356459.13,1374096966.29,236395748.78]
[3.1,"1.1.1.01.02.02.2.21101","Banco Costa Rica",478691142.26999998,97783946.549999997,513445571.48000002,63029517.340000004]
[3.1,"1.1.1.01.02.02.2.21103","Banco Nacional de Costa Rica",121445113.67,912572512.58000004,860651394.80999994,173366231.44]
[3.1,"1.1.1.01.02.02.3.","Caja Única",2104181133.27,2021139889.3,2605361492.3899999,1519959530.1800001]
[3.1,"1.1.1.01.02.02.3.11206","Ministerio de Hacienda",2104181133.27,2021139889.3,2605361492.3899999,1519959530.1800001]
[3.1,"1.1.1.01.02.02.9.","Otros depósitos bancarios sector público interno",0,0,0,0]
[3.1,"1.1.1.01.02.02.9.99999","Otros depósitos bancarios sector público interno",0,0,0,0]
[3.1,"1.1.1.01.03.","Cajas chicas fondos rotatorios",1450000,3750000,1950000,3250000]
[3.1,"1.1.1.01.03.01.","Cajas chicas",450000,3750000,1950000,2250000]
[3.1,"1.1.1.01.03.01.2.","Cajas chicas en el país",450000,3750000,1950000,2250000]
[3.1,"1.1.1.01.03.01.2.99999","Cajas chicas en el país",450000,3750000,1950000,2250000]
[3.1,"1.1.1.01.03.02.","Fondos rotatorios",1000000,0,0,1000000]
[3.1,"1.1.1.01.03.02.2.","Fondos rotatorios en el sector público interno",1000000,0,0,1000000]
[3.1,"1.1.1.01.03.02.2.99999","Fondos rotatorios en el sector público interno",1000000,0,0,1000000]
[3.1,"1.1.1.02.","Equivalentes de efectivo",0,462357324.54000002,0,462357324.54000002]
[3.1,"1.1.1.02.99.","Otros equivalentes de efectivo",0,462357324.54000002,0,462357324.54000002]
[3.1,"1.1.1.02.99.02.","Otros equivalentes de efectivo en el sector público interno",0,462357324.54000002,0,462357324.54000002]
[3.1,"1.1.1.02.99.02.0.","Otros equivalentes de efectivo en el sector público interno",0,462357324.54000002,0,462357324.54000002]
[3.1,"1.1.1.02.99.02.0.21101","Banco Costa Rica",0,231308253.49000001,0,231308253.49000001]
[3.1,"1.1.1.02.99.02.0.21103","Banco Nacional de Costa Rica",0,231049071.05000001,0,231049071.05000001]
[3.1,"1.1.2.","Inversiones a corto plazo",0,0,0,0]
[3.1,"1.1.2.01.","Títulos y valores a valor razonable a corto plazo",0,0,0,0]
[3.1,"1.1.2.01.02.","Títulos y valores a valor razonable del sector público interno c/p",0,0,0,0]
[3.1,"1.1.2.01.02.06.","Títulos y valores a valor razonable de Instituciones Públicas Financieras c/p",0,0,0,0]
[3.1,"1.1.2.01.02.06.0.","Títulos y valores a valor razonable de Instituciones Públicas Financieras c/p",0,0,0,0]
[3.1,"1.1.2.01.02.06.0.21101","Títulos y valores a valor razonable de Instituciones Públicas Financieras c/p Banco de Costa Rica",0,0,0,0]
[3.1,"1.1.2.01.02.06.0.21103","Titulos y valores a Valores a valor de Instituciones Públicas Dinancieras del Banco Nacional de Costa Rica",0,0,0,0]
[3.1,"1.1.2.98.","Otras inversiones a corto plazo",0,0,0,0]
[3.1,"1.1.2.98.01.","Rentas a cobrar por títulos y valores c/p",0,0,0,0]
[3.1,"1.1.2.98.01.02.","Rentas a cobrar por títulos y valores del sector público interno c/p",0,0,0,0]
[3.1,"1.1.2.98.01.02.0.","Rentas a cobrar por títulos y valores del sector público interno c/p",0,0,0,0]
[3.1,"1.1.2.98.01.02.0.21101","Banco De Costa Rica",0,0,0,0]
[3.1,"1.1.2.98.01.02.0.21103","Banco Nacional De Costa Rica",0,0,0,0]
[3.1,"1.1.3.","Cuentas a cobrar a c/p",616617332.25,5079389403.6400003,3034691806.8000002,2661314929.0900002]
[3.1,"1.1.3.01.","Impuestos a cobrar a c/p",619441745.75999999,943619123.86000001,1125804442.1199999,437256427.5]
[3.1,"1.1.3.01.02.","Impuestos sobre la propiedad a cobrar c/p",583097545.57000005,775445449.21000004,951937099.91999996,406605894.86000001]
[3.1,"1.1.3.01.02.01.","Impuesto sobre la propiedad de bienes inmuebles a cobrar c/p",583097545.57000005,775445449.21000004,951937099.91999996,406605894.86000001]
[3.1,"1.1.3.01.02.01.0.","Impuesto sobre la propiedad de bienes inmuebles a cobrar c/p",583097545.57000005,775445449.21000004,951937099.91999996,406605894.86000001]
[3.1,"1.1.3.01.02.01.0.99999","Impuesto sobre la propiedad de bienes inmuebles a cobrar c/p",583097545.57000005,775445449.21000004,951937099.91999996,406605894.86000001]
[3.1,"1.1.3.01.03.","Impuestos sobre bienes y servicios a cobrar c/p",36344200.189999998,168173674.65000001,173867342.19999999,30650532.640000001]
[3.1,"1.1.3.01.03.02.","Impuestos específicos sobre la producción y consumo de bienes y servicios a cobrar c/p",0,0,0,0]
[3.1,"1.1.3.01.03.02.2.","Impuestos específicos sobre la producción y consumo de servicios a cobrar c/p",0,0,0,0]
[3.1,"1.1.3.01.03.02.2.99999","Impuestos específicos sobre la producción y consumo de servicios a cobrar c/p",0,0,0,0]
[3.1,"1.1.3.01.03.99.","Otros Impuestos sobre bienes y servicios a cobrar c/p",36344200.189999998,168173674.65000001,173867342.19999999,30650532.640000001]
[3.1,"1.1.3.01.03.99.1.","Licencias profesionales, comerciales y otros permisos a cobrar c/p",34052862.939999998,161166962.40000001,166834126.69999999,28385698.640000001]
[3.1,"1.1.3.01.03.99.1.99999","Licencias profesionales, comerciales y otros permisos a cobrar c/p",34052862.939999998,161166962.40000001,166834126.69999999,28385698.640000001]
[3.1,"1.1.3.01.03.99.9.","Otros impuestos varios sobre bienes y servicios a cobrar c/p",2291337.25,7006712.25,7033215.5,2264834]
[3.1,"1.1.3.01.03.99.9.99999","Otros impuestos varios sobre bienes y servicios a cobrar c/p",2291337.25,7006712.25,7033215.5,2264834]
[3.1,"1.1.3.04.","Servicios y derechos a cobrar a corto plazo",171480251.50999999,314200623.35000002,315825163.10000002,169855711.75999999]
[3.1,"1.1.3.04.01.","Servicios a cobrar c/p",170633251.50999999,313586623.35000002,314985918.10000002,169233956.75999999]
[3.1,"1.1.3.04.01.04.","Servicios comunitarios a cobrar c/p",170633251.50999999,313586623.35000002,314985918.10000002,169233956.75999999]
[3.1,"1.1.3.04.01.04.0.","Servicios comunitarios a cobrar c/p",170633251.50999999,313586623.35000002,314985918.10000002,169233956.75999999]
[3.1,"1.1.3.04.01.04.0.99999","Servicios comunitarios a cobrar c/p",170633251.50999999,313586623.35000002,314985918.10000002,169233956.75999999]
[3.1,"1.1.3.04.01.99.","Otras ventas de servicios a cobrar c/p",0,0,0,0]
[3.1,"1.1.3.04.01.99.0.","Otras ventas de servicios a cobrar c/p",0,0,0,0]
[3.1,"1.1.3.04.01.99.0.99999","Otras ventas de servicios a cobrar c/p",0,0,0,0]
[3.1,"1.1.3.04.02.","Derechos administrativos a cobrar c/p",847000,614000,839245,621755]
[3.1,"1.1.3.04.02.01.","Derechos administrativos a los servicios de transporte a cobrar c/p",340000,390000,610000,120000]
[3.1,"1.1.3.04.02.01.0.","Derechos administrativos a los servicios de transporte a cobrar c/p",340000,390000,610000,120000]
[3.1,"1.1.3.04.02.01.0.99999","Derechos administrativos a los servicios de transporte a cobrar c/p Derecho de piso uso terminal",340000,390000,610000,120000]
[3.1,"1.1.3.04.02.99.","Otros derechos administrativos a cobrar c/p",507000,224000,229245,501755]
[3.1,"1.1.3.04.02.99.0.","Otros derechos administrativos a cobrar c/p",507000,224000,229245,501755]
[3.1,"1.1.3.04.02.99.0.99999","Otros derechos administrativos a cobrar c/p Derecho cementerio",507000,224000,229245,501755]
[3.1,"1.1.3.05.","Ingresos de la propiedad a cobrar a corto plazo",0,0,0,0]
[3.1,"1.1.3.05.01.","Alquileres y derechos sobre bienes a cobrar c/p",0,0,0,0]
[3.1,"1.1.3.05.01.01.","Alquileres a cobrar c/p",0,0,0,0]
[3.1,"1.1.3.05.01.01.0.","Alquileres a cobrar c/p",0,0,0,0]
[3.1,"1.1.3.05.01.01.0.99999","Alquileres a cobrar c/p",0,0,0,0]
[3.1,"1.1.3.06.","Transferencias a cobrar a c/p",0,3811623853.7800002,1586331584.0799999,2225292269.6999998]
[3.1,"1.1.3.06.02.","Transferencias del sector público interno a cobrar c/p",0,3811623853.7800002,1586331584.0799999,2225292269.6999998]
[3.1,"1.1.3.06.02.01.","Transferencias del Gobierno Central a cobrar c/p",0,3799661728,1583192386.6500001,2216469341.3499999]
[3.1,"1.1.3.06.02.01.0.","Transferencias del Gobierno Central a cobrar c/p",0,3799661728,1583192386.6500001,2216469341.3499999]
[3.1,"1.1.3.06.02.01.0.11206","Ministerio de Hacienda",0,3799661728,1583192386.6500001,2216469341.3499999]
[3.1,"1.1.3.06.02.02.","Transferencias de Órganos Desconcentrados a cobrar c/p",0,0,0,0]
[3.1,"1.1.3.06.02.02.0.","Transferencias de Órganos Desconcentrados a cobrar c/p",0,0,0,0]
[3.1,"1.1.3.06.02.02.0.12583","Transfrencias de Organos desconcentrados a cobrar.Consejo Nacional de la Política Pública de la Persona Joven (CPJ)",0,0,0,0]
[3.1,"1.1.3.06.02.03.","Transferencias de Instituciones Descentralizadas no Empresariales a cobrar c/p",0,11962125.779999999,3139197.43,8822928.3499999996]
[3.1,"1.1.3.06.02.03.0.","Transferencias de Instituciones Descentralizadas no Empresariales a cobrar c/p",0,11962125.779999999,3139197.43,8822928.3499999996]
[3.1,"1.1.3.06.02.03.0.14226","Transferencias de Instituciones Descentralizadas no Empresariales a cobrar c/p (Aporte IFAM Licores Nacionales y Ext)",0,11962125.779999999,3139197.43,8822928.3499999996]
[3.1,"1.1.3.98.","Otras cuentas a cobrar a corto plazo",1073232.3500000001,9945802.6500000004,6730617.5,4288417.5]
[3.1,"1.1.3.98.01.","Multas, sanciones, remates y confiscaciones de origen no tributario a cobrar c/p",1073232.3500000001,9445802.6500000004,6730617.5,3788417.5]
[3.1,"1.1.3.98.01.01.","Multas y sanciones administrativas a cobrar c/p",1073232.3500000001,9445802.6500000004,6730617.5,3788417.5]
[3.1,"1.1.3.98.01.01.0.","Multas y sanciones administrativas a cobrar c/p",1073232.3500000001,9445802.6500000004,6730617.5,3788417.5]
[3.1,"1.1.3.98.01.01.0.99999","Multas y sanciones administrativas a cobrar c/p",1073232.3500000001,9445802.6500000004,6730617.5,3788417.5]
[3.1,"1.1.3.98.03.","Depósitos en garantía c/p",0,500000,0,500000]
[3.1,"1.1.3.98.03.02.","Depósitos en garantía en el sector público interno c/p",0,500000,0,500000]
[3.1,"1.1.3.98.03.02.0.","Depósitos en garantía en el sector público interno c/p",0,500000,0,500000]
[3.1,"1.1.3.98.03.02.0.99999","Depósitos en garantía en el sector público interno c/p",0,500000,0,500000]
[3.1,"1.1.3.99.","Previsiones para deterioro de cuentas a cobrar a corto plazo *",-175377897.37,0,0,-175377897.37]
[3.1,"1.1.3.99.01.","Previsiones para impuestos a cobrar c/p *",-116983004.63,0,0,-116983004.63]
[3.1,"1.1.3.99.01.02.","Previsiones para impuestos sobre la propiedad a cobrar c/p *",-106283608.29000001,0,0,-106283608.29000001]
[3.1,"1.1.3.99.01.02.0.","Previsiones para impuestos sobre la propiedad a cobrar c/p *",-106283608.29000001,0,0,-106283608.29000001]
[3.1,"1.1.3.99.01.02.0.99999","Previsiones para impuestos sobre la propiedad a cobrar c/p *",-106283608.29000001,0,0,-106283608.29000001]
[3.1,"1.1.3.99.01.03.","Previsiones para impuestos sobre bienes y servicios a cobrar c/p *",-9270015.0099999998,0,0,-9270015.0099999998]
[3.1,"1.1.3.99.01.03.0.","Previsiones para impuestos sobre bienes y servicios a cobrar c/p *",-9270015.0099999998,0,0,-9270015.0099999998]
[3.1,"1.1.3.99.01.03.0.99999","Previsiones para impuestos sobre bienes y servicios a cobrar c/p *",-9270015.0099999998,0,0,-9270015.0099999998]
[3.1,"1.1.3.99.01.99.","Previsiones para otros impuestos a cobrar c/p *",-1429381.33,0,0,-1429381.33]
[3.1,"1.1.3.99.01.99.0.","Previsiones para otros impuestos a cobrar c/p *",-1429381.33,0,0,-1429381.33]
[3.1,"1.1.3.99.01.99.0.99999","Previsiones para otros impuestos a cobrar c/p *",-1429381.33,0,0,-1429381.33]
[3.1,"1.1.3.99.04.","Previsiones para servicios a cobrar c/p *",-51378929.549999997,0,0,-51378929.549999997]
[3.1,"1.1.3.99.04.01.","Previsiones para ventas de servicios a cobrar c/p *",-50738208.689999998,0,0,-50738208.689999998]
[3.1,"1.1.3.99.04.01.0.","Previsiones para ventas de servicios a cobrar c/p *",-50738208.689999998,0,0,-50738208.689999998]
[3.1,"1.1.3.99.04.01.0.99999","Previsiones para ventas de servicios a cobrar c/p *",-50738208.689999998,0,0,-50738208.689999998]
[3.1,"1.1.3.99.04.02.","Previsiones para derechos administrativos a cobrar c/p *",-640720.86,0,0,-640720.86]
[3.1,"1.1.3.99.04.02.0.","Previsiones para derechos administrativos a cobrar c/p *",-640720.86,0,0,-640720.86]
[3.1,"1.1.3.99.04.02.0.99999","Previsiones para derechos administrativos a cobrar c/p *",-640720.86,0,0,-640720.86]
[3.1,"1.1.3.99.05.","Previsiones para ingresos de la propiedad a cobrar c/p *",-7015963.1900000004,0,0,-7015963.1900000004]
[3.1,"1.1.3.99.05.01.","Previsiones para alquileres y derechos sobre bienes a cobrar c/p *",-7015963.1900000004,0,0,-7015963.1900000004]
[3.1,"1.1.3.99.05.01.0.","Previsiones para alquileres y derechos sobre bienes a cobrar c/p *",-7015963.1900000004,0,0,-7015963.1900000004]
[3.1,"1.1.3.99.05.01.0.99999","Previsiones para alquileres y derechos sobre bienes a cobrar c/p *",-7015963.1900000004,0,0,-7015963.1900000004]
[3.1,"1.1.4.","Inventarios",4559673.55,175690912.94999999,3058566.05,177192020.44999999]
[3.1,"1.1.4.01.","Materiales y suministros para consumo y prestación de servicios",4559673.55,175690912.94999999,3058566.05,177192020.44999999]
[3.1,"1.1.4.01.01.","Productos químicos y conexos",1195234.05,12847673.300000001,524066.68,13518840.67]
[3.1,"1.1.4.01.01.01.","Combustibles y lubricantes",0,11254837.9,106558.48,11148279.42]
[3.1,"1.1.4.01.01.01.0.","Combustibles y lubricantes",0,11254837.9,106558.48,11148279.42]
[3.1,"1.1.4.01.01.01.0.99999","Combustibles y lubricantes",0,11254837.9,106558.48,11148279.42]
[3.1,"1.1.4.01.01.02.","Productos farmacéuticos y medicinales",0,0,0,0]
[3.1,"1.1.4.01.01.02.0.","Productos farmacéuticos y medicinales",0,0,0,0]
[3.1,"1.1.4.01.01.02.0.99999","Productos farmacéuticos y medicinales",0,0,0,0]
[3.1,"1.1.4.01.01.03.","Productos veterinarios",0,0,0,0]
[3.1,"1.1.4.01.01.03.0.","Productos veterinarios",0,0,0,0]
[3.1,"1.1.4.01.01.03.0.99999","Productos veterinarios",0,0,0,0]
[3.1,"1.1.4.01.01.04.","Tintas, pinturas y diluyentes",1195234.05,1104744.3999999999,335110.2,1964868.25]
[3.1,"1.1.4.01.01.04.0.","Tintas, pinturas y diluyentes",1195234.05,1104744.3999999999,335110.2,1964868.25]
[3.1,"1.1.4.01.01.04.0.99999","Tintas, pinturas y diluyentes",1195234.05,1104744.3999999999,335110.2,1964868.25]
[3.1,"1.1.4.01.01.99.","Otros productos químicos y conexos",0,488091,82398,405693]
[3.1,"1.1.4.01.01.99.0.","Otros productos químicos y conexos",0,488091,82398,405693]
[3.1,"1.1.4.01.01.99.0.99999","Otros productos químicos y conexos",0,488091,82398,405693]
[3.1,"1.1.4.01.03.","Materiales y productos de uso en la construcción y mantenimiento",0,31431347.68,1318350,30112997.68]
[3.1,"1.1.4.01.03.01.","Materiales y productos metálicos",0,26486657.620000001,116140,26370517.620000001]
[3.1,"1.1.4.01.03.01.0.","Materiales y productos metálicos",0,26486657.620000001,116140,26370517.620000001]
[3.1,"1.1.4.01.03.01.0.99999","Materiales y productos metálicos",0,26486657.620000001,116140,26370517.620000001]
[3.1,"1.1.4.01.03.02.","Materiales y productos minerales y asfálticos",0,3491364,1134400,2356964]
[3.1,"1.1.4.01.03.02.0.","Materiales y productos minerales y asfálticos",0,3491364,1134400,2356964]
[3.1,"1.1.4.01.03.02.0.99999","Materiales y productos minerales y asfálticos",0,3491364,1134400,2356964]
[3.1,"1.1.4.01.03.03.","Madera y sus derivados",0,1062850,26100,1036750]
[3.1,"1.1.4.01.03.03.0.","Madera y sus derivados",0,1062850,26100,1036750]
[3.1,"1.1.4.01.03.03.0.99999","Madera y sus derivados",0,1062850,26100,1036750]
[3.1,"1.1.4.01.03.04.","Materiales y productos eléctricos, telefónicos y de cómputo",0,204931.56,41710,163221.56]
[3.1,"1.1.4.01.03.04.0.","Materiales y productos eléctricos, telefónicos y de cómputo",0,204931.56,41710,163221.56]
[3.1,"1.1.4.01.03.04.0.99999","Materiales y productos eléctricos, telefónicos y de cómputo",0,204931.56,41710,163221.56]
[3.1,"1.1.4.01.03.06.","Materiales y productos de plástico",0,185544.5,0,185544.5]
[3.1,"1.1.4.01.03.06.0.","Materiales y productos de plástico",0,185544.5,0,185544.5]
[3.1,"1.1.4.01.03.06.0.99999","Materiales y productos de plástico",0,185544.5,0,185544.5]
[3.1,"1.1.4.01.04.","Herramientas, repuestos y accesorios",0,127481362.51000001,24413.11,127456949.40000001]
[3.1,"1.1.4.01.04.01.","Herramientas e instrumentos",0,1280251.55,24413.11,1255838.44]
[3.1,"1.1.4.01.04.01.0.","Herramientas e instrumentos",0,1280251.55,24413.11,1255838.44]
[3.1,"1.1.4.01.04.01.0.99999","Herramientas e instrumentos",0,1280251.55,24413.11,1255838.44]
[3.1,"1.1.4.01.04.02.","Repuestos y accesorios Nuevos",0,126201110.95999999,0,126201110.95999999]
[3.1,"1.1.4.01.04.02.0.","Repuestos y accesorios Nuevos",0,126201110.95999999,0,126201110.95999999]
[3.1,"1.1.4.01.04.02.0.99999","Repuestos y accesorios Nuevos",0,126201110.95999999,0,126201110.95999999]
[3.1,"1.1.4.01.99.","Útiles, materiales y suministros diversos",3364439.5,3930529.46,1191736.26,6103232.7000000002]
[3.1,"1.1.4.01.99.01.","Útiles y materiales de oficina y cómputo",788819.78,26855,299237.23,516437.55]
[3.1,"1.1.4.01.99.01.0.","Útiles y materiales de oficina y cómputo",788819.78,26855,299237.23,516437.55]
[3.1,"1.1.4.01.99.01.0.99999","Útiles y materiales de oficina y cómputo",788819.78,26855,299237.23,516437.55]
[3.1,"1.1.4.01.99.02.","Útiles y materiales médico, hospitalario y de investigación",0,0,0,0]
[3.1,"1.1.4.01.99.02.0.","Útiles y materiales médico, hospitalario y de investigación",0,0,0,0]
[3.1,"1.1.4.01.99.02.0.99999","Útiles y materiales médico, hospitalario y de investigación",0,0,0,0]
[3.1,"1.1.4.01.99.03.","Productos de papel, cartón e impresos",2511724.7200000002,0,802212.28,1709512.44]
[3.1,"1.1.4.01.99.03.0.","Productos de papel, cartón e impresos",2511724.7200000002,0,802212.28,1709512.44]
[3.1,"1.1.4.01.99.03.0.99999","Productos de papel, cartón e impresos",2511724.7200000002,0,802212.28,1709512.44]
[3.1,"1.1.4.01.99.04.","Textiles y vestuario",0,764454.3,0,764454.3]
[3.1,"1.1.4.01.99.04.0.","Textiles y vestuario",0,764454.3,0,764454.3]
[3.1,"1.1.4.01.99.04.0.99999","Textiles y vestuario",0,764454.3,0,764454.3]
[3.1,"1.1.4.01.99.05.","Útiles y materiales de limpieza",0,498654.3,65061.75,433592.55]
[3.1,"1.1.4.01.99.05.0.","Útiles y materiales de limpieza",0,498654.3,65061.75,433592.55]
[3.1,"1.1.4.01.99.05.0.99999","Útiles y materiales de limpieza",0,498654.3,65061.75,433592.55]
[3.1,"1.1.4.01.99.06.","Útiles y materiales de resguardo y seguridad",0,2184565.86,0,2184565.86]
[3.1,"1.1.4.01.99.06.0.","Útiles y materiales de resguardo y seguridad",0,2184565.86,0,2184565.86]
[3.1,"1.1.4.01.99.06.0.99999","Útiles y materiales de resguardo y seguridad",0,2184565.86,0,2184565.86]
[3.1,"1.1.4.01.99.99.","Otros útiles, materiales y suministros diversos",63895,456000,25225,494670]
[3.1,"1.1.4.01.99.99.0.","Otros útiles, materiales y suministros diversos",63895,456000,25225,494670]
[3.1,"1.1.4.01.99.99.0.99999","Otros útiles, materiales y suministros diversos",63895,456000,25225,494670]
[3.1,"1.1.9.","Otros activos a corto plazo",22755462.510000002,28802528,30883889.530000001,20674100.98]
[3.1,"1.1.9.01.","Gastos a devengar a corto plazo",22755462.510000002,28802528,30883889.530000001,20674100.98]
[3.1,"1.1.9.01.01.","Servicios a devengar c/p",22755462.510000002,28802528,30883889.530000001,20674100.98]
[3.1,"1.1.9.01.01.01.","Primas y gastos de seguros a devengar c/p",22755462.510000002,28802528,30883889.530000001,20674100.98]
[3.1,"1.1.9.01.01.01.0.","Primas y gastos de seguros a devengar c/p",22755462.510000002,28802528,30883889.530000001,20674100.98]
[3.1,"1.1.9.01.01.01.0.99999","Primas y gastos de seguros a devengar c/p",22755462.510000002,28802528,30883889.530000001,20674100.98]
[3.1,"1.1.9.99.","Activos a corto plazo sujetos a depuración contable",0,0,0,0]
[3.1,"1.1.9.99.03.","Cuentas a cobrar a corto plazo sujetas a depuración",0,0,0,0]
[3.1,"1.1.9.99.03.98.","Otras cuentas a cobrar a corto plazo sujetas a depuración",0,0,0,0]
[3.1,"1.1.9.99.03.98.0.","Otras cuentas a cobrar a corto plazo sujetas a depuración",0,0,0,0]
[3.1,"1.1.9.99.03.98.0.99999","Otras cuentas a cobrar a corto plazo sujetas a depuración",0,0,0,0]
[3.1,"1.2.","Activo No Corriente",162883030362.41,103289202.34999999,286687893.14999998,162699631671.60999]
[3.1,"1.2.5.","Bienes no concesionados",162883030362.41,103289202.34999999,286687893.14999998,162699631671.60999]
[3.1,"1.2.5.01.","Propiedades, planta y equipos explotados",2087610295.49,22572034.75,261616995.58000001,1848565334.6600001]
[3.1,"1.2.5.01.02.","Edificios",1191815588.46,0,117620174.45999999,1074195414]
[3.1,"1.2.5.01.02.01.","Edificios de oficinas atención al públ",421403917.47000003,0,41171038.979999997,380232878.49000001]
[3.1,"1.2.5.01.02.01.1.","Edificios de oficinas y atención público Valores Origen",258127776.78999999,0,0,258127776.78999999]
[3.1,"1.2.5.01.02.01.1.99999","Edificios de oficinas y atención público Valores Origen",258127776.78999999,0,0,258127776.78999999]
[3.1,"1.2.5.01.02.01.3.","Edificios oficinas y atención público Depreciación Acumulada",-27447359.32,0,41171038.979999997,-68618398.299999997]
[3.1,"1.2.5.01.02.01.3.99999","Edificios oficinas y atención público Depreciación Acumulada",-27447359.32,0,41171038.979999997,-68618398.299999997]
[3.1,"1.2.5.01.02.01.6.","Edificios oficinas y atención público Porción Terreno Valores Origen",190723500,0,0,190723500]
[3.1,"1.2.5.01.02.01.6.99999","Edificios oficinas y atención público Porción Terreno Valores Origen",190723500,0,0,190723500]
[3.1,"1.2.5.01.02.05.","Locales",283938685.92000002,0,30705089.219999999,253233596.69999999]
[3.1,"1.2.5.01.02.05.1.","Locales Valores de origen",198576095.40000001,0,0,198576095.40000001]
[3.1,"1.2.5.01.02.05.1.99999","Locales Valores de origen",198576095.40000001,0,0,198576095.40000001]
[3.1,"1.2.5.01.02.05.3.","Locales Depreciaciones acumuladas *",-20470059.48,0,30705089.219999999,-51175148.700000003]
[3.1,"1.2.5.01.02.05.3.99999","Locales Depreciaciones acumuladas *",-20470059.48,0,30705089.219999999,-51175148.700000003]
[3.1,"1.2.5.01.02.05.6.","Locales Porción terreno: valores de origen",105832650,0,0,105832650]
[3.1,"1.2.5.01.02.05.6.99999","Locales Porción terreno: valores de origen",105832650,0,0,105832650]
[3.1,"1.2.5.01.02.99.","Otros edificios",486472985.06999999,0,45744046.259999998,440728938.81]
[3.1,"1.2.5.01.02.99.1.","Otros edificios Valores de origen",355511815.91000003,0,0,355511815.91000003]
[3.1,"1.2.5.01.02.99.1.99999","Otros edificios Valores de origen",355511815.91000003,0,0,355511815.91000003]
[3.1,"1.2.5.01.02.99.3.","Otros edificios Depreciaciones acumuladas *",-30496030.84,0,45744046.259999998,-76240077.099999994]
[3.1,"1.2.5.01.02.99.3.99999","Otros edificios Depreciaciones acumuladas *",-30496030.84,0,45744046.259999998,-76240077.099999994]
[3.1,"1.2.5.01.02.99.6.","Otros edificios Porción terreno: valores de origen",161457200,0,0,161457200]
[3.1,"1.2.5.01.02.99.6.99999","Otros edificios Porción terreno: valores de origen",161457200,0,0,161457200]
[3.1,"1.2.5.01.03.","Maquinaria equipos para la producción",772667317.13,612934.09,127497537.02,645782714.20000005]
[3.1,"1.2.5.01.03.01.","Maquinaria para la construcción",743342363.57000005,0,124973247.17,618369116.39999998]
[3.1,"1.2.5.01.03.01.1.","Maquinaria para la construcción Valores de origen",1801678962.4000001,0,0,1801678962.4000001]
[3.1,"1.2.5.01.03.01.1.99999","Maquinaria para la construcción Valores de origen",1801678962.4000001,0,0,1801678962.4000001]
[3.1,"1.2.5.01.03.01.3.","Maq para la construcción Depreciaciones acumuladas",-1058336598.83,0,124973247.17,-1183309846]
[3.1,"1.2.5.01.03.01.3.99999","Maq para la construcción Depreciaciones acumuladas",-1058336598.83,0,124973247.17,-1183309846]
[3.1,"1.2.5.01.03.03.","Planta eléctrica",3846036.26,65652.08,238641.57,3673046.77]
[3.1,"1.2.5.01.03.03.1.","Planta eléctrica Valores de origen",5189684.8,0,0,5189684.8]
[3.1,"1.2.5.01.03.03.1.99999","Planta eléctrica Valores de origen",5189684.8,0,0,5189684.8]
[3.1,"1.2.5.01.03.03.3.","Planta eléctrica Depreciaciones acumuladas *",-1343648.54,65652.08,238641.57,-1516638.03]
[3.1,"1.2.5.01.03.03.3.99999","Planta eléctrica Depreciaciones acumuladas *",-1343648.54,65652.08,238641.57,-1516638.03]
[3.1,"1.2.5.01.03.06.","Equipos hidráulicos",202795.79,127510.46,138091.10999999999,192215.14]
[3.1,"1.2.5.01.03.06.1.","Equipos hidráulicos Valores de origen",280058,0,0,280058]
[3.1,"1.2.5.01.03.06.1.99999","Equipos hidráulicos Valores de origen",280058,0,0,280058]
[3.1,"1.2.5.01.03.06.3.","Equipos hidráulicos Depreciaciones acumuladas *",-77262.210000000006,127510.46,138091.10999999999,-87842.86]
[3.1,"1.2.5.01.03.06.3.99999","Equipos hidráulicos Depreciaciones acumuladas *",-77262.210000000006,127510.46,138091.10999999999,-87842.86]
[3.1,"1.2.5.01.03.08.","Equipos de medición",1274259.18,0,304293.65000000002,969965.53]
[3.1,"1.2.5.01.03.08.1.","Equipos de medición Valores de origen",6452398.7300000004,0,0,6452398.7300000004]
[3.1,"1.2.5.01.03.08.1.99999","Equipos de medición Valores de origen",6452398.7300000004,0,0,6452398.7300000004]
[3.1,"1.2.5.01.03.08.3.","Equipos de medición Depreciaciones acumuladas *",-5178139.55,0,304293.65000000002,-5482433.2000000002]
[3.1,"1.2.5.01.03.08.3.99999","Equipos de medición Depreciaciones acumuladas *",-5178139.55,0,304293.65000000002,-5482433.2000000002]
[3.1,"1.2.5.01.03.09.","Bombas",4185504.18,419771.55,736407.44,3868868.29]
[3.1,"1.2.5.01.03.09.1.","Bombas Valores de origen",5429803,0,0,5429803]
[3.1,"1.2.5.01.03.09.1.99999","Bombas Valores de origen",5429803,0,0,5429803]
[3.1,"1.2.5.01.03.09.3.","Bombas Depreciaciones acumuladas *",-1244298.82,419771.55,736407.44,-1560934.71]
[3.1,"1.2.5.01.03.09.3.99999","Bombas Depreciaciones acumuladas *",-1244298.82,419771.55,736407.44,-1560934.71]
[3.1,"1.2.5.01.03.99.","Otra maquinarias y equipos para la producción",19816358.149999999,0,1106856.08,18709502.07]
[3.1,"1.2.5.01.03.99.1.","Otra maquinarias y equipos para la producción Valor Origen",29939008.93,0,0,29939008.93]
[3.1,"1.2.5.01.03.99.1.99999","Otra maquinarias y equipos para la producción Valor Origen",29939008.93,0,0,29939008.93]
[3.1,"1.2.5.01.03.99.3.","Otra maquinarias y equipos para la producción Depreciación Acumulada",-10122650.779999999,0,1106856.08,-11229506.859999999]
[3.1,"1.2.5.01.03.99.3.99999","Otra maquinarias y equipos para la producción Depreciación Acumulada",-10122650.779999999,0,1106856.08,-11229506.859999999]
[3.1,"1.2.5.01.04.","Equipos de transporte, tracción elevación",45024017.759999998,730958.25,5219391.1100000003,40535584.899999999]
[3.1,"1.2.5.01.04.01.","Motocicletas",2064742.8,45500,375891.20000000001,1734351.6]
[3.1,"1.2.5.01.04.01.1.","Motocicletas Valores de origen",10870894,0,0,10870894]
[3.1,"1.2.5.01.04.01.1.99999","Motocicletas Valores de origen",10870894,0,0,10870894]
[3.1,"1.2.5.01.04.01.3.","Motocicletas Depreciaciones acumuladas *",-8806151.1999999993,45500,375891.20000000001,-9136542.4000000004]
[3.1,"1.2.5.01.04.01.3.99999","Motocicletas Depreciaciones acumuladas *",-8806151.1999999993,45500,375891.20000000001,-9136542.4000000004]
[3.1,"1.2.5.01.04.02.","Vehículos",42959274.960000001,0,4814939.16,38144335.799999997]
[3.1,"1.2.5.01.04.02.1.","Vehículos Valores de origen",159744469.75,0,0,159744469.75]
[3.1,"1.2.5.01.04.02.1.99999","Vehículos Valores de origen",159744469.75,0,0,159744469.75]
[3.1,"1.2.5.01.04.02.3.","Vehículos Depreciaciones acumuladas *",-116785194.79000001,0,4814939.16,-121600133.95]
[3.1,"1.2.5.01.04.02.3.99999","Vehículos Depreciaciones acumuladas *",-116785194.79000001,0,4814939.16,-121600133.95]
[3.1,"1.2.5.01.04.99.","Otros equipos de transporte",0,685458.25,28560.75,656897.5]
[3.1,"1.2.5.01.04.99.1.","Otros equipos de transporte Valores de origen",0,685458.25,0,685458.25]
[3.1,"1.2.5.01.04.99.1.99999","Otros equipos de transporte Valores de origen",0,685458.25,0,685458.25]
[3.1,"1.2.5.01.04.99.3.","Otros equipos transporte Depreciaciones acumuladas *",0,0,28560.75,-28560.75]
[3.1,"1.2.5.01.04.99.3.99999","Otros equipos transporte Depreciaciones acumuladas *",0,0,28560.75,-28560.75]
[3.1,"1.2.5.01.05.","Equipos de comunicación",16532530.539999999,5922141,2013318.25,20441353.289999999]
[3.1,"1.2.5.01.05.01.","Antenas radares",657852.55000000005,0,20083.14,637769.41]
[3.1,"1.2.5.01.05.01.1.","Antenas y radares Valores de origen",803325.36,0,0,803325.36]
[3.1,"1.2.5.01.05.01.1.99999","Antenas y radares Valores de origen",803325.36,0,0,803325.36]
[3.1,"1.2.5.01.05.01.3.","Antenas y radares Depreciaciones acumuladas *",-145472.81,0,20083.14,-165555.95000000001]
[3.1,"1.2.5.01.05.01.3.99999","Antenas y radares Depreciaciones acumuladas *",-145472.81,0,20083.14,-165555.95000000001]
[3.1,"1.2.5.01.05.02.","Equipos de telefonía",928263.45,0,111123.42,817140.03]
[3.1,"1.2.5.01.05.02.1.","Equipos de telefonía Valores de origen",3458113.3,0,0,3458113.3]
[3.1,"1.2.5.01.05.02.1.99999","Equipos de telefonía Valores de origen",3458113.3,0,0,3458113.3]
[3.1,"1.2.5.01.05.02.3.","Equipos de telefonía Depreciaciones acumuladas *",-2529849.85,0,111123.42,-2640973.27]
[3.1,"1.2.5.01.05.02.3.99999","Equipos de telefonía Depreciaciones acumuladas *",-2529849.85,0,111123.42,-2640973.27]
[3.1,"1.2.5.01.05.04.","Equipos de audio video",14946414.539999999,0,1220500.56,13725913.98]
[3.1,"1.2.5.01.05.04.1.","Equipos de audio y video Valores de origen",22576099.77,0,0,22576099.77]
[3.1,"1.2.5.01.05.04.1.99999","Equipos de audio y video Valores de origen",22576099.77,0,0,22576099.77]
[3.1,"1.2.5.01.05.04.3.","Equipos de audio y video Depreciaciones acumuladas",-7629685.2300000004,0,1220500.56,-8850185.7899999991]
[3.1,"1.2.5.01.05.04.3.99999","Equipos de audio y video Depreciaciones acumuladas",-7629685.2300000004,0,1220500.56,-8850185.7899999991]
[3.1,"1.2.5.01.05.99.","Otros equipos de comunicación",0,5922141,661611.13,5260529.87]
[3.1,"1.2.5.01.05.99.1.","Otros equipos de comunicación Valores de origen",0,5922141,617405,5304736]
[3.1,"1.2.5.01.05.99.1.99999","Otros equipos de comunicación Valores de origen",0,5922141,617405,5304736]
[3.1,"1.2.5.01.05.99.3.","Otros equipos de comunicaciónDepreciaciones acumuladas",0,0,44206.13,-44206.13]
[3.1,"1.2.5.01.05.99.3.99999","Otros equipos de comunicaciónDepreciaciones acumuladas",0,0,44206.13,-44206.13]
[3.1,"1.2.5.01.06.","Equipos mobiliario de oficina",34631846.890000001,14172.29,2757460.76,31888558.420000002]
[3.1,"1.2.5.01.06.01.","Archivadores, bibliotecas armarios",7398872.25,12588.96,651308.22,6760152.9900000002]
[3.1,"1.2.5.01.06.01.1.","Archivadores, bibliotecas y armarios Valor Origen",17592360.27,0,0,17592360.27]
[3.1,"1.2.5.01.06.01.1.99999","Archivadores, bibliotecas y armarios Valor Origen",17592360.27,0,0,17592360.27]
[3.1,"1.2.5.01.06.01.3.","Archivadores bibliotecas y armarios Deprec Acum",-10193488.02,12588.96,651308.22,-10832207.279999999]
[3.1,"1.2.5.01.06.01.3.99999","Archivadores bibliotecas y armarios Deprec Acum",-10193488.02,12588.96,651308.22,-10832207.279999999]
[3.1,"1.2.5.01.06.02.","Mesas escritorios",6685288.3499999996,1583.33,543413.06000000006,6143458.6200000001]
[3.1,"1.2.5.01.06.02.1.","Mesas y escritorios Valores de origen",12381246.369999999,0,0,12381246.369999999]
[3.1,"1.2.5.01.06.02.1.99999","Mesas y escritorios Valores de origen",12381246.369999999,0,0,12381246.369999999]
[3.1,"1.2.5.01.06.02.3.","Mesas y escritorios Depreciaciones acumuladas *",-5695958.0199999996,1583.33,543413.06000000006,-6237787.75]
[3.1,"1.2.5.01.06.02.3.99999","Mesas y escritorios Depreciaciones acumuladas *",-5695958.0199999996,1583.33,543413.06000000006,-6237787.75]
[3.1,"1.2.5.01.06.03.","Sillas bancos",5394926.5099999998,0,443762.88,4951163.63]
[3.1,"1.2.5.01.06.03.1.","Sillas y bancos Valores de origen",9514769.1600000001,0,0,9514769.1600000001]
[3.1,"1.2.5.01.06.03.1.99999","Sillas y bancos Valores de origen",9514769.1600000001,0,0,9514769.1600000001]
[3.1,"1.2.5.01.06.03.3.","Sillas y bancos Depreciaciones acumuladas *",-4119842.65,0,443762.88,-4563605.53]
[3.1,"1.2.5.01.06.03.3.99999","Sillas y bancos Depreciaciones acumuladas *",-4119842.65,0,443762.88,-4563605.53]
[3.1,"1.2.5.01.06.05.","Equipos de ventilación",10223268.539999999,0,753683.76,9469584.7799999993]
[3.1,"1.2.5.01.06.05.1.","Equipos de ventilación Valores de origen",17907955,0,0,17907955]
[3.1,"1.2.5.01.06.05.1.99999","Equipos de ventilación Valores de origen",17907955,0,0,17907955]
[3.1,"1.2.5.01.06.05.3.","Equipos de ventilación Depreciaciones acumuladas *",-7684686.46,0,753683.76,-8438370.2200000007]
[3.1,"1.2.5.01.06.05.3.99999","Equipos de ventilación Depreciaciones acumuladas *",-7684686.46,0,753683.76,-8438370.2200000007]
[3.1,"1.2.5.01.06.99.","Otros equipos mobiliario",4929491.24,0,365292.84,4564198.4000000004]
[3.1,"1.2.5.01.06.99.1.","Otros equipos y mobiliario Valores de origen",8129156.3399999999,0,0,8129156.3399999999]
[3.1,"1.2.5.01.06.99.1.99999","Otros equipos y mobiliario Valores de origen",8129156.3399999999,0,0,8129156.3399999999]
[3.1,"1.2.5.01.06.99.3.","Otros equipos y mobiliario Depreciaciones acumuladas",-3199665.1,0,365292.84,-3564957.94]
[3.1,"1.2.5.01.06.99.3.99999","Otros equipos y mobiliario Depreciaciones acumuladas",-3199665.1,0,365292.84,-3564957.94]
[3.1,"1.2.5.01.07.","Equipos para computación",22314302.170000002,15291829.119999999,6185462.5199999996,31420668.77]
[3.1,"1.2.5.01.07.01.","Computadoras",13240865.390000001,9530113.3200000003,3829898.42,18941080.289999999]
[3.1,"1.2.5.01.07.01.1.","Computadoras Valores de origen",53728298.5,9492380,796010,62424668.5]
[3.1,"1.2.5.01.07.01.1.99999","Computadoras Valores de origen",53728298.5,9492380,796010,62424668.5]
[3.1,"1.2.5.01.07.01.3.","Computadoras Depreciaciones acumuladas *",-40487433.109999999,37733.32,3033888.42,-43483588.210000001]
[3.1,"1.2.5.01.07.01.3.99999","Computadoras Depreciaciones acumuladas *",-40487433.109999999,37733.32,3033888.42,-43483588.210000001]
[3.1,"1.2.5.01.07.02.","Impresoras",4585992.41,2225140.7999999998,1159788.72,5651344.4900000002]
[3.1,"1.2.5.01.07.02.1.","Impresoras Valores de origen",15998615.08,2225140.7999999998,0,18223755.879999999]
[3.1,"1.2.5.01.07.02.1.99999","Impresoras Valores de origen",15998615.08,2225140.7999999998,0,18223755.879999999]
[3.1,"1.2.5.01.07.02.3.","Impresoras Depreciaciones acumuladas *",-11412622.67,0,1159788.72,-12572411.390000001]
[3.1,"1.2.5.01.07.02.3.99999","Impresoras Depreciaciones acumuladas *",-11412622.67,0,1159788.72,-12572411.390000001]
[3.1,"1.2.5.01.07.04.","Monitores",1497367.16,1705925,507790.94,2695501.22]
[3.1,"1.2.5.01.07.04.1.","Monitores Valores de origen",7143687.7400000002,1705925,0,8849612.7400000002]
[3.1,"1.2.5.01.07.04.1.99999","Monitores Valores de origen",7143687.7400000002,1705925,0,8849612.7400000002]
[3.1,"1.2.5.01.07.04.3.","Monitores Depreciaciones acumuladas *",-5646320.5800000001,0,507790.94,-6154111.5199999996]
[3.1,"1.2.5.01.07.04.3.99999","Monitores Depreciaciones acumuladas *",-5646320.5800000001,0,507790.94,-6154111.5199999996]
[3.1,"1.2.5.01.07.05.","UPS",234681.11,0,36536.04,198145.07]
[3.1,"1.2.5.01.07.05.1.","UPS Valores de origen",1260960.6499999999,0,0,1260960.6499999999]
[3.1,"1.2.5.01.07.05.1.99999","UPS Valores de origen",1260960.6499999999,0,0,1260960.6499999999]
[3.1,"1.2.5.01.07.05.3.","UPS Depreciaciones acumuladas *",-1026279.54,0,36536.04,-1062815.58]
[3.1,"1.2.5.01.07.05.3.99999","UPS Depreciaciones acumuladas *",-1026279.54,0,36536.04,-1062815.58]
[3.1,"1.2.5.01.07.99.","Otros equipos de cómputo",2755396.1,1830650,651448.4,3934597.7]
[3.1,"1.2.5.01.07.99.1.","Otros equipos de cómputo Valores de origen",6734811.8399999999,1830650,0,8565461.8399999999]
[3.1,"1.2.5.01.07.99.1.99999","Otros equipos de cómputo Valores de origen",6734811.8399999999,1830650,0,8565461.8399999999]
[3.1,"1.2.5.01.07.99.3.","Otros equipos de cómputo Depreciaciones acumuladas *",-3979415.74,0,651448.4,-4630864.1399999997]
[3.1,"1.2.5.01.07.99.3.99999","Otros equipos de cómputo Depreciaciones acumuladas *",-3979415.74,0,651448.4,-4630864.1399999997]
[3.1,"1.2.5.01.10.","Equipos de seguridad, orden, vigilancia y control público",1712015.39,0,75920.83,1636094.56]
[3.1,"1.2.5.01.10.01.","Equipos de protección contra incendios",1305610.93,0,45021.06,1260589.8700000001]
[3.1,"1.2.5.01.10.01.1.","Equipos de protección contra incendios Valores Origen",1350632,0,0,1350632]
[3.1,"1.2.5.01.10.01.1.99999","Equipos de protección contra incendios Valores Origen",1350632,0,0,1350632]
[3.1,"1.2.5.01.10.01.3.","Equipos de protección contra incendios Depreciación Acumulada",-45021.07,0,45021.06,-90042.13]
[3.1,"1.2.5.01.10.01.3.99999","Equipos de protección contra incendios Depreciación Acumulada",-45021.07,0,45021.06,-90042.13]
[3.1,"1.2.5.01.10.02.","Sistemas de alarmas seguridad",0,0,0,0]
[3.1,"1.2.5.01.10.02.1.","Sistemas de alarmas y seguridad Valores de origen",0,0,0,0]
[3.1,"1.2.5.01.10.02.1.99999","Sistemas de alarmas y seguridad Valores de origen",0,0,0,0]
[3.1,"1.2.5.01.10.02.3.","Sistemas alarmas y seguridad Depreciaicón Acumulada",0,0,0,0]
[3.1,"1.2.5.01.10.02.3.99999","Sistemas alarmas y seguridad Depreciaicón Acumulada",0,0,0,0]
[3.1,"1.2.5.01.10.03.","Armas",32812.5,0,5625.01,27187.49]
[3.1,"1.2.5.01.10.03.1.","Armas Valores de origen",225000,0,0,225000]
[3.1,"1.2.5.01.10.03.1.99999","Armas Valores de origen",225000,0,0,225000]
[3.1,"1.2.5.01.10.03.3.","Armas Depreciaciones acumuladas *",-192187.5,0,5625.01,-197812.51]
[3.1,"1.2.5.01.10.03.3.99999","Armas Depreciaciones acumuladas *",-192187.5,0,5625.01,-197812.51]
[3.1,"1.2.5.01.10.99.","Otros equipos de seguridad, orden, vigilancia y control público",373591.96,0,25274.76,348317.2]
[3.1,"1.2.5.01.10.99.1.","Otros Equipos seguridad orden vigilancia control público Valor rigen",758241.92,0,0,758241.92]
[3.1,"1.2.5.01.10.99.1.99999","Otros Equipos seguridad orden vigilancia control público Valor rigen",758241.92,0,0,758241.92]
[3.1,"1.2.5.01.10.99.3.","Otros Equipos seguridad orden vigilancia control Público Depreciacion Acumulada",-384649.96,0,25274.76,-409924.72]
[3.1,"1.2.5.01.10.99.3.99999","Otros Equipos seguridad orden vigilancia control Público Depreciacion Acumulada",-384649.96,0,25274.76,-409924.72]
[3.1,"1.2.5.01.99.","Maquinarias, equipos mobiliarios diversos",2912677.15,0,247730.63,2664946.52]
[3.1,"1.2.5.01.99.02.","Equipos mobiliario doméstico",600158.93999999994,0,68864.87,531294.06999999995]
[3.1,"1.2.5.01.99.02.1.","Equipos y mobiliario doméstico Valores de origen",1551357.89,0,0,1551357.89]
[3.1,"1.2.5.01.99.02.1.99999","Equipos y mobiliario doméstico Valores de origen",1551357.89,0,0,1551357.89]
[3.1,"1.2.5.01.99.02.3.","Equip y Mobiliario doméstico Depreciaciones acumuladas",-951198.95,0,68864.87,-1020063.82]
[3.1,"1.2.5.01.99.02.3.99999","Equip y Mobiliario doméstico Depreciaciones acumuladas",-951198.95,0,68864.87,-1020063.82]
[3.1,"1.2.5.01.99.03.","Equipos fotográficos de revelado",2312518.21,0,178865.76,2133652.4500000002]
[3.1,"1.2.5.01.99.03.1.","Equipos fotográficos y de revelado Valores origen",3870352.18,0,0,3870352.18]
[3.1,"1.2.5.01.99.03.1.99999","Equipos fotográficos y de revelado Valores origen",3870352.18,0,0,3870352.18]
[3.1,"1.2.5.01.99.03.3.","Equip fotográficos y revelado Depreciaioón Acumulada",-1557833.97,0,178865.76,-1736699.73]
[3.1,"1.2.5.01.99.03.3.99999","Equip fotográficos y revelado Depreciaioón Acumulada",-1557833.97,0,178865.76,-1736699.73]
[3.1,"1.2.5.04.","Bienes de infraestructura y de beneficio y uso público en servicio",160765498081.76001,0,0,160765498081.76001]
[3.1,"1.2.5.04.01.","Vías de comunicación terrestre",156731927507.54001,0,0,156731927507.54001]
[3.1,"1.2.5.04.01.01.","Carreteras caminos",143329792712.5,0,0,143329792712.5]
[3.1,"1.2.5.04.01.01.1.","Carreteras y caminos Valores de origen",22435224766.720001,0,0,22435224766.720001]
[3.1,"1.2.5.04.01.01.1.99999","Carreteras y caminos Valores de origen",22435224766.720001,0,0,22435224766.720001]
[3.1,"1.2.5.04.01.01.6.","Carreteras y caminos Porción terreno: Valor Origen",120894567945.78,0,0,120894567945.78]
[3.1,"1.2.5.04.01.01.6.99999","Carreteras y caminos Porción terreno: Valor Origen",120894567945.78,0,0,120894567945.78]
[3.1,"1.2.5.04.01.03.","Puentes",13385469370.68,0,0,13385469370.68]
[3.1,"1.2.5.04.01.03.1.","Puentes Valores de origen",7882316153.8999996,0,0,7882316153.8999996]
[3.1,"1.2.5.04.01.03.1.99999","Puentes Valores de origen",7882316153.8999996,0,0,7882316153.8999996]
[3.1,"1.2.5.04.01.03.6.","Puentes Porción terreno: valores de origen",5503153216.7799997,0,0,5503153216.7799997]
[3.1,"1.2.5.04.01.03.6.99999","Puentes Porción terreno: valores de origen",5503153216.7799997,0,0,5503153216.7799997]
[3.1,"1.2.5.04.01.99.","Otras vías de comunicación terrestre",16665424.359999999,0,0,16665424.359999999]
[3.1,"1.2.5.04.01.99.1.","Otras vías de comunicación terrestre Valores Origen",16665424.359999999,0,0,16665424.359999999]
[3.1,"1.2.5.04.01.99.1.99999","Otras vías de comunicación terrestre Valores Origen",16665424.359999999,0,0,16665424.359999999]
[3.1,"1.2.5.04.03.","Centrales redes de comunicación energía",4013723664.2199998,0,0,4013723664.2199998]
[3.1,"1.2.5.04.03.01.","Centrales redes acuíferas, cloacales pluviales",4013723664.2199998,0,0,4013723664.2199998]
[3.1,"1.2.5.04.03.01.1.","Centrales redes acuíferas, cloacales pluviales Valor Origen",4013723664.2199998,0,0,4013723664.2199998]
[3.1,"1.2.5.04.03.01.1.99999","Centrales redes acuíferas, cloacales pluviales Valor Origen",4013723664.2199998,0,0,4013723664.2199998]
[3.1,"1.2.5.04.99.","Otros bienes de infraestructura y de beneficio y uso público en servicio",19846910,0,0,19846910]
[3.1,"1.2.5.04.99.99.","Otros bienes de infraestructura y de beneficio y uso público diversos",19846910,0,0,19846910]
[3.1,"1.2.5.04.99.99.1.","Otros bienes de infraestructura y de beneficio y uso público diversos Valores de origen",19846910,0,0,19846910]
[3.1,"1.2.5.04.99.99.1.99999","Otros bienes de infraestructura y de beneficio y uso público diversos Valores de origen",19846910,0,0,19846910]
[3.1,"1.2.5.08.","Bienes intangibles no concesionados",29921985.16,3136206.55,25070897.57,7987294.1399999997]
[3.1,"1.2.5.08.03.","Software programas",3414532.73,3136206.55,0,6550739.2800000003]
[3.1,"1.2.5.08.03.01.","Software y programas Valores de origen",3414532.73,3136206.55,0,6550739.2800000003]
[3.1,"1.2.5.08.03.01.0.","Software y programas Valores de origen",3414532.73,3136206.55,0,6550739.2800000003]
[3.1,"1.2.5.08.03.01.0.99999","Software y programas Valores de origen",3414532.73,3136206.55,0,6550739.2800000003]
[3.1,"1.2.5.08.99.","Otros bienes intangibles",26507452.43,0,25070897.57,1436554.86]
[3.1,"1.2.5.08.99.01.","Otros bienes intangibles Valores de origen",26507452.43,0,25070897.57,1436554.86]
[3.1,"1.2.5.08.99.01.0.","Otros bienes intangibles Valores de origen",26507452.43,0,25070897.57,1436554.86]
[3.1,"1.2.5.08.99.01.0.99999","Otros bienes intangibles Valores de origen",26507452.43,0,25070897.57,1436554.86]
[3.1,"1.2.5.99.","Bienes no concesionados en proceso de producción",0,77580961.049999997,0,77580961.049999997]
[3.1,"1.2.5.99.08.","Bienes intangibles en proceso de producción",0,77580961.049999997,0,77580961.049999997]
[3.1,"1.2.5.99.08.03.","Producción en proceso de software y programas",0,77580961.049999997,0,77580961.049999997]
[3.1,"1.2.5.99.08.03.0.","Producción en proceso de software y programas",0,77580961.049999997,0,77580961.049999997]
[3.1,"1.2.5.99.08.03.0.99999","Producción en proceso de software y programas",0,77580961.049999997,0,77580961.049999997]
[3.1,"1.2.6.","Bienes concesionados",0,0,0,0]
[3.1,"1.2.6.01.","Propiedades, planta equipos concesionados",0,0,0,0]
[3.1,"1.2.6.01.03.","Maquinaria equipos para la producción",0,0,0,0]
[3.1,"1.2.6.01.03.03.","Planta eléctrica",0,0,0,0]
[3.1,"1.2.6.01.03.03.1.","Planta eléctrica Valores de origen",0,0,0,0]
[3.1,"1.2.6.01.03.03.1.99999","Planta eléctrica Valores de origen",0,0,0,0]
[3.1,"1.2.6.01.03.03.3.","Planta eléctrica Depreciaciones acumuladas *",0,0,0,0]
[3.1,"1.2.6.01.03.03.3.99999","Planta eléctrica Depreciaciones acumuladas *",0,0,0,0]
[3.1,"1.2.6.01.10.","Equipos de seguridad, orden, vigilancia y control público",0,0,0,0]
[3.1,"1.2.6.01.10.01.","Equipos de protección contra incendios",0,0,0,0]
[3.1,"1.2.6.01.10.01.3.","Equipos protección contra incendios Depreción Acumulada",0,0,0,0]
[3.1,"1.2.6.01.10.01.3.99999","Equipos protección contra incendios Depreción Acumulada",0,0,0,0]
[3.1,"2.","PASIVO",2704416039.96,3447559890.77,3711070900.1599998,2967927049.3499999]
[3.1,"2.1.","Pasivo Corriente",1061814949.3099999,2958059890.77,3708116740.1599998,1811871798.7]
[3.1,"2.1.1.","Deudas a corto plazo",133675962.95,2775766951.4499998,3215124191.96,573033203.46000004]
[3.1,"2.1.1.01.","Deudas comerciales a corto plazo",21148224.449999999,1884344255.1400001,2260530287.79,397334257.10000002]
[3.1,"2.1.1.01.01.","Deudas por adquisición de inventarios c/p",10746474.77,198403118.49000001,319290698.5,131634054.78]
[3.1,"2.1.1.01.01.01.","Deudas comerciales por adquisición de materiales y suministros para consumo y prestación de servicios c/p",10746474.77,198121618.49000001,319009198.5,131634054.78]
[3.1,"2.1.1.01.01.01.0.","Deudas comerciales por adquisición de materiales y suministros para consumo y prestación de servicios c/p",10746474.77,198121618.49000001,319009198.5,131634054.78]
[3.1,"2.1.1.01.01.01.0.99999","Deudas comerciales por adquisición de materiales y suministros para consumo y prestación de servicios c/p",10746474.77,198121618.49000001,319009198.5,131634054.78]
[3.1,"2.1.1.01.01.02.","Deudas comerciales por adquisición de bienes para la venta c/p",0,281500,281500,0]
[3.1,"2.1.1.01.01.02.0.","Deudas comerciales por adquisición de bienes para la venta c/p",0,281500,281500,0]
[3.1,"2.1.1.01.01.02.0.99999","Deudas comerciales por adquisición de bienes para la venta c/p",0,281500,281500,0]
[3.1,"2.1.1.01.02.","Deudas por adquisición de bienes distintos de inventarios c/p",10401749.68,1362506134.05,1610984064.8699999,258879680.5]
[3.1,"2.1.1.01.02.01.","Deudas comerciales por adquisición de propiedades, planta y equipos en explotación c/p",5403337.2000000002,22903611.550000001,22903611.550000001,5403337.2000000002]
[3.1,"2.1.1.01.02.01.0.","Deudas comerciales por adquisición de propiedades, planta y equipos en explotación c/p",5403337.2000000002,22903611.550000001,22903611.550000001,5403337.2000000002]
[3.1,"2.1.1.01.02.01.0.99999","Deudas comerciales por adquisición de propiedades, planta y equipos en explotación c/p",5403337.2000000002,22903611.550000001,22903611.550000001,5403337.2000000002]
[3.1,"2.1.1.01.02.04.","Deudas comerciales por adquisición de bienes de infraestructura y de beneficio y uso público c/p",4998412.4800000004,1335966315.95,1560934183.29,229966279.81999999]
[3.1,"2.1.1.01.02.04.0.","Deudas comerciales por adquisición de bienes de infraestructura y de beneficio y uso público c/p",4998412.4800000004,1335966315.95,1560934183.29,229966279.81999999]
[3.1,"2.1.1.01.02.04.0.99999","Deudas comerciales por adquisición de bienes de infraestructura y de beneficio y uso público c/p",4998412.4800000004,1335966315.95,1560934183.29,229966279.81999999]
[3.1,"2.1.1.01.02.08.","Deudas comerciales por adquisición de bienes intangibles c/p",0,3636206.55,27146270.030000001,23510063.48]
[3.1,"2.1.1.01.02.08.0.","Deudas comerciales por adquisición de bienes intangibles c/p",0,3636206.55,27146270.030000001,23510063.48]
[3.1,"2.1.1.01.02.08.0.99999","Deudas comerciales por adquisición de bienes intangibles c/p",0,3636206.55,27146270.030000001,23510063.48]
[3.1,"2.1.1.01.04.","Deudas por adquisición de servicios c/p",0,323435002.60000002,330255524.42000002,6820521.8200000003]
[3.1,"2.1.1.01.04.01.","Deudas comerciales por alquileres y derechos sobre bienes c/p",0,107134451.26000001,107134451.26000001,0]
[3.1,"2.1.1.01.04.01.0.","Deudas comerciales por alquileres y derechos sobre bienes c/p",0,107134451.26000001,107134451.26000001,0]
[3.1,"2.1.1.01.04.01.0.99999","Deudas comerciales por alquileres y derechos sobre bienes c/p",0,107134451.26000001,107134451.26000001,0]
[3.1,"2.1.1.01.04.02.","Deudas comerciales por servicios básicos c/p",0,66647610.840000004,66647610.840000004,0]
[3.1,"2.1.1.01.04.02.0.","Deudas comerciales por servicios básicos c/p",0,66647610.840000004,66647610.840000004,0]
[3.1,"2.1.1.01.04.02.0.99999","Deudas comerciales por servicios básicos c/p",0,66647610.840000004,66647610.840000004,0]
[3.1,"2.1.1.01.04.03.","Deudas comerciales por servicios comerciales y financieros c/p",0,12193224.970000001,12434064.970000001,240840]
[3.1,"2.1.1.01.04.03.0.","Deudas comerciales por servicios comerciales y financieros c/p",0,12193224.970000001,12434064.970000001,240840]
[3.1,"2.1.1.01.04.03.0.12782","Deudas comerciales por servicios comerciales y financieros c/p",0,12193224.970000001,12434064.970000001,240840]
[3.1,"2.1.1.01.04.04.","Deudas comerciales por servicios de gestión y apoyo c/p",0,83160074.319999993,83525860.319999993,365786]
[3.1,"2.1.1.01.04.04.0.","Deudas comerciales por servicios de gestión y apoyo c/p",0,83160074.319999993,83525860.319999993,365786]
[3.1,"2.1.1.01.04.04.0.99999","Deudas comerciales por servicios de gestión y apoyo c/p",0,83160074.319999993,83525860.319999993,365786]
[3.1,"2.1.1.01.04.05.","Deudas comerciales por gastos de viaje y transporte c/p",0,3321614.49,3639014.49,317400]
[3.1,"2.1.1.01.04.05.0.","Deudas comerciales por gastos de viaje y transporte c/p",0,3321614.49,3639014.49,317400]
[3.1,"2.1.1.01.04.05.0.99999","Deudas comerciales por gastos de viaje y transporte c/p",0,3321614.49,3639014.49,317400]
[3.1,"2.1.1.01.04.06.","Deudas comerciales por seguros, reaseguros y otras obligaciones c/p",0,14633735,14633735,0]
[3.1,"2.1.1.01.04.06.0.","Deudas comerciales por seguros, reaseguros y otras obligaciones c/p",0,14633735,14633735,0]
[3.1,"2.1.1.01.04.06.0.99999","Deudas comerciales por seguros, reaseguros y otras obligaciones c/p",0,14633735,14633735,0]
[3.1,"2.1.1.01.04.07.","Deudas comerciales por capacitación y protocolo c/p",0,0,0,0]
[3.1,"2.1.1.01.04.07.0.","Deudas comerciales por capacitación y protocolo c/p",0,0,0,0]
[3.1,"2.1.1.01.04.07.0.99999","Deudas comerciales por capacitación y protocolo c/p",0,0,0,0]
[3.1,"2.1.1.01.04.08.","Deudas comerciales por mantenimiento y reparaciones c/p",0,36194291.719999999,42090787.539999999,5896495.8200000003]
[3.1,"2.1.1.01.04.08.0.","Deudas comerciales por mantenimiento y reparaciones c/p",0,36194291.719999999,42090787.539999999,5896495.8200000003]
[3.1,"2.1.1.01.04.08.0.99999","Deudas comerciales por mantenimiento y reparaciones c/p",0,36194291.719999999,42090787.539999999,5896495.8200000003]
[3.1,"2.1.1.01.04.99.","Deudas comerciales por otros servicios c/p",0,150000,150000,0]
[3.1,"2.1.1.01.04.99.0.","Deudas comerciales por otros servicios c/p",0,150000,150000,0]
[3.1,"2.1.1.01.04.99.0.99999","Deudas comerciales por otros servicios c/p",0,150000,150000,0]
[3.1,"2.1.1.02.","Deudas sociales y fiscales a corto plazo",48810740.979999997,618616627.02999997,709171169.49000001,139365283.44]
[3.1,"2.1.1.02.01.","Deudas por beneficios a los empleados c/p",34978094.859999999,573305870.03999996,663002047.47000003,124674272.29000001]
[3.1,"2.1.1.02.01.01.","Remuneraciones básicas y eventuales a pagar c/p",7191132.3899999997,368215634.80000001,403819121.45999998,42794619.049999997]
[3.1,"2.1.1.02.01.01.1.","Remuneraciones",7191132.3899999997,368215634.80000001,403819121.45999998,42794619.049999997]
[3.1,"2.1.1.02.01.01.1.99999","Remuneraciones",7191132.3899999997,368215634.80000001,403819121.45999998,42794619.049999997]
[3.1,"2.1.1.02.01.03.","Incentivos salariales a pagar c/p",6574739.1100000003,3137599.44,43134914.149999999,46572053.82]
[3.1,"2.1.1.02.01.03.3.","Decimotercer mes a pagar c/p",6574739.1100000003,3137599.44,43134914.149999999,46572053.82]
[3.1,"2.1.1.02.01.03.3.99999","Decimotercer mes a pagar c/p",6574739.1100000003,3137599.44,43134914.149999999,46572053.82]
[3.1,"2.1.1.02.01.04.","Contribuciones patronales al desarrollo y la seguridad social a pagar c/p",15035231.66,91858440.650000006,103402969.15000001,26579760.16]
[3.1,"2.1.1.02.01.04.0.","Contribuciones patronales al desarrollo y la seguridad social a pagar c/p",15035231.66,91858440.650000006,103402969.15000001,26579760.16]
[3.1,"2.1.1.02.01.04.0.14120","Contribuciones patronales al desarrollo y la seguridad social a pagar c/p (Aporte Patronal FCL - CCSS)",15035231.66,91858440.650000006,103402969.15000001,26579760.16]
[3.1,"2.1.1.02.01.04.0.31104","Contribuciones patronales al desarrollo y la seguridad social a pagar c/p (Cont. Patronal BPDC)",0,0,0,0]
[3.1,"2.1.1.02.01.05.","Contribuciones patronales a fondos de pensiones y a otros fondos de capitalización a pagar c/p",0,0,0,0]
[3.1,"2.1.1.02.01.05.0.","Contribuciones patronales a fondos de pensiones y a otros fondos de capitalización a pagar c/p",0,0,0,0]
[3.1,"2.1.1.02.01.05.0.14120","Contribuciones patronales a fondos de pensiones y a otros fondos de capitalización a pagar c/p (Contribución patronal al IVM - CCSS)",0,0,0,0]
[3.1,"2.1.1.02.01.06.","Retenciones al personal a pagar c/p",0,0,0,0]
[3.1,"2.1.1.02.01.06.0.","Retenciones al personal a pagar c/p",0,0,0,0]
[3.1,"2.1.1.02.01.06.0.14120","Retenciones al personal a pagar c/p - CCSS",0,0,0,0]
[3.1,"2.1.1.02.01.06.0.31104","Retenciones al personal a pagar c/p - BPDC",0,0,0,0]
[3.1,"2.1.1.02.01.99.","Otros deudas por beneficios a los empleados c/p",6176991.7000000002,110094195.15000001,112645042.70999999,8727839.2599999998]
[3.1,"2.1.1.02.01.99.0.","Otros deudas por beneficios a los empleados c/p",6176991.7000000002,110094195.15000001,112645042.70999999,8727839.2599999998]
[3.1,"2.1.1.02.01.99.0.99999","Otros deudas por beneficios a los empleados c/p",6176991.7000000002,110094195.15000001,112645042.70999999,8727839.2599999998]
[3.1,"2.1.1.02.02.","Deudas fiscales c/p",13832646.119999999,45310756.990000002,46169122.020000003,14691011.15,{"$f":"G497-G614","v":-370335352.29000002}]
[3.1,"2.1.1.02.02.02.","Retenciones de impuestos nacionales a pagar c/p",13832646.119999999,41548056.990000002,41854846.520000003,14139435.65]
[3.1,"2.1.1.02.02.02.0.","Retenciones de impuestos nacionales a pagar c/p",13832646.119999999,41548056.990000002,41854846.520000003,14139435.65]
[3.1,"2.1.1.02.02.02.0.11206","Ministerio de Hacienda (MHD)",13832646.119999999,41548056.990000002,41854846.520000003,14139435.65]
[3.1,"2.1.1.02.02.04.","Retenciones de impuestos entidades relacionadas a pagar c/p",0,3762700,4314275.5,551575.5]
[3.1,"2.1.1.02.02.04.0.","Retenciones de impuestos entidades relacionadas a pagar c/p",0,3762700,4314275.5,551575.5]
[3.1,"2.1.1.02.02.04.0.12784","Retenciones de impuestos entidades relacionadas a pagar c/p",0,3762700,4314275.5,551575.5]
[3.1,"2.1.1.03.","Transferencias a pagar a corto plazo",63716997.520000003,56554142.619999997,28989308.02,36152162.920000002]
[3.1,"2.1.1.03.01.","Transferencias al sector privado interno a pagar c/p",0,0,0,0]
[3.1,"2.1.1.03.01.01.","Transferencias a personas a pagar c/p",0,0,0,0]
[3.1,"2.1.1.03.01.01.1.","Prestaciones a pagar c/p",0,0,0,0]
[3.1,"2.1.1.03.01.01.1.99999","Prestaciones a pagar c/p",0,0,0,0]
[3.1,"2.1.1.03.02.","Transferencias al sector público interno a pagar c/p",63716997.520000003,56554142.619999997,28989308.02,36152162.920000002]
[3.1,"2.1.1.03.02.01.","Transferencias al Gobierno Central a pagar c/p",981946.16,0,0,981946.16]
[3.1,"2.1.1.03.02.01.0.","Transferencias al Gobierno Central a pagar c/p",981946.16,0,0,981946.16]
[3.1,"2.1.1.03.02.01.0.11206","Transferencias al Gobierno Central a pagar c/p",637887.6,0,0,637887.6]
[3.1,"2.1.1.03.02.01.0.11219","Transferencias al Gobierno Central a pagar c/p",344058.56,0,0,344058.56]
[3.1,"2.1.1.03.02.02.","Transferencias a Órganos Desconcentrados a pagar c/p",2080490.05,1275775.21,0,804714.84]
[3.1,"2.1.1.03.02.02.0.","Transferencias a Órganos Desconcentrados a pagar c/p",2080490.05,1275775.21,0,804714.84]
[3.1,"2.1.1.03.02.02.0.12553","Transferencias a Órganos Desconcentrados a pagar c/p",54612.47,0,0,54612.47]
[3.1,"2.1.1.03.02.02.0.12554","Comisión Nacional de Prevención de Riesgos y Atención de Emergencias (CNE)",0,0,0,0]
[3.1,"2.1.1.03.02.02.0.12581","Consejo Nacional de Personas con Discapacidad - CONAPDIS",750102.37,0,0,750102.37]
[3.1,"2.1.1.03.02.02.0.12784","Transferencias a Órganos Desconcentrados a pagar c/p",1275775.21,1275775.21,0,0]
[3.1,"2.1.1.03.02.03.","Transferencias a Instituciones Descentralizadas no Empresariales a pagar c/p",55778895.890000001,55278367.409999996,28989308.02,29489836.5]
[3.1,"2.1.1.03.02.03.0.","Transferencias a Instituciones Descentralizadas no Empresariales a pagar c/p",55778895.890000001,55278367.409999996,28989308.02,29489836.5]
[3.1,"2.1.1.03.02.03.0.14226","Instituto de Fomento y Asesoría Municipal",0,0,0,0]
[3.1,"2.1.1.03.02.03.0.14253","Transferencias a Instituciones Descentralizadas no Empresariales a pagar c/p",55778895.890000001,55278367.409999996,28989308.02,29489836.5]
[3.1,"2.1.1.03.02.99.","Transferencias a otras Instituciones de Gobiernos Locales a pagar c/p",4875665.42,0,0,4875665.42]
[3.1,"2.1.1.03.02.99.0.","Transferencias a otras Instituciones de Gobiernos Locales a pagar c/p",4875665.42,0,0,4875665.42]
[3.1,"2.1.1.03.02.99.0.15910","Comités Cantonales de Deportes y Recreación",4500614.2300000004,0,0,4500614.2300000004]
[3.1,"2.1.1.03.02.99.0.15933","Transferencias a FEDEMSUR",0,0,0,0]
[3.1,"2.1.1.03.02.99.0.15980","Unión Nacional de Gobiernos Locales",375051.19,0,0,375051.19]
[3.1,"2.1.1.04.","Documentos a pagar a corto plazo",0,40115,40115,0]
[3.1,"2.1.1.04.04.","Documentos a pagar por adquisición de servicios c/p",0,40115,40115,0]
[3.1,"2.1.1.04.04.01.","Documentos a pagar por alquileres y derechos sobre bienes c/p",0,40115,40115,0]
[3.1,"2.1.1.04.04.01.1.","Documentos a pagar por alquileres y derechos sobre bienes c/p - Valor nominal",0,40115,40115,0]
[3.1,"2.1.1.04.04.01.1.99999","Documentos a pagar por alquileres y derechos sobre bienes c/p - Valor nominal",0,40115,40115,0]
[3.1,"2.1.1.99.","Otras deudas a corto plazo",0,216211811.66,216393311.66,181500]
[3.1,"2.1.1.99.99.","Deudas varias c/p",0,216211811.66,216393311.66,181500]
[3.1,"2.1.1.99.99.01.","Deudas varias con el sector privado interno c/p",0,0,181500,181500]
[3.1,"2.1.1.99.99.01.0.","Deudas varias con el sector privado interno c/p",0,0,181500,181500]
[3.1,"2.1.1.99.99.01.0.99999","Deudas varias con el sector privado interno c/p",0,0,181500,181500]
[3.1,"2.1.1.99.99.02.","Deudas varias con el sector público interno c/p",0,216211811.66,216211811.66,0]
[3.1,"2.1.1.99.99.02.0.","Deudas varias con el sector público interno c/p",0,216211811.66,216211811.66,0]
[3.1,"2.1.1.99.99.02.0.99999","Deudas varias con el sector público interno c/p",0,216211811.66,216211811.66,0]
[3.1,"2.1.2.","Endeudamiento público a corto plazo",0,159704012.03999999,489500000,329795987.95999998]
[3.1,"2.1.2.02.","Préstamos a pagar a corto plazo",0,159704012.03999999,489500000,329795987.95999998]
[3.1,"2.1.2.02.02.","Préstamos del sector público interno a pagar c/p",0,159704012.03999999,489500000,329795987.95999998]
[3.1,"2.1.2.02.02.99.","Préstamos de otras Instituciones de Gobiernos Locales a pagar c/p",0,159704012.03999999,489500000,329795987.95999998]
[3.1,"2.1.2.02.02.99.1.","Préstamos de otras Instituciones de Gobiernos Locales a pagar c/p - Capital",0,159704012.03999999,489500000,329795987.95999998]
[3.1,"2.1.2.02.02.99.1.14226","Instituto de Fomento y Asesoría Municipal (IFAM) Préstamo corto Plazo",0,159704012.03999999,489500000,329795987.95999998]
[3.1,"2.1.3.","Fondos de terceros y en garantía",927582449.87,22588927.280000001,3492548.2,908486070.78999996]
[3.1,"2.1.3.03.","Depósitos en garantía",86634112.200000003,22588927.280000001,3492548.2,67537733.120000005]
[3.1,"2.1.3.03.01.","Depósitos en garantía del sector privado interno",86634112.200000003,22588927.280000001,3492548.2,67537733.120000005]
[3.1,"2.1.3.03.01.02.","Depósitos en garantía de empresas privadas",86634112.200000003,22588927.280000001,3492548.2,67537733.120000005]
[3.1,"2.1.3.03.01.02.0.","Depósitos en garantía de empresas privadas",86634112.200000003,22588927.280000001,3492548.2,67537733.120000005]
[3.1,"2.1.3.03.01.02.0.99999","Depósitos en garantía de empresas privadas",86634112.200000003,22588927.280000001,3492548.2,67537733.120000005]
[3.1,"2.1.3.99.","Otros fondos de terceros",840948337.66999996,0,0,840948337.66999996]
[3.1,"2.1.3.99.02.","Otros fondos del sector público interno",840948337.66999996,0,0,840948337.66999996]
[3.1,"2.1.3.99.02.04.","Otros fondos de gobiernos locales",840948337.66999996,0,0,840948337.66999996]
[3.1,"2.1.3.99.02.04.0.","Otros fondos de gobiernos locales",840948337.66999996,0,0,840948337.66999996]
[3.1,"2.1.3.99.02.04.0.99999","Otros fondos de gobiernos locales",840948337.66999996,0,0,840948337.66999996]
[3.1,"2.1.9.","Otros pasivos a corto plazo",556536.49,0,0,556536.49]
[3.1,"2.1.9.99.","Pasivos a c/plazo sujetos a depuración contable",556536.49,0,0,556536.49]
[3.1,"2.1.9.99.01.","Deudas a corto plazo sujetas a depuración",556536.49,0,0,556536.49]
[3.1,"2.1.9.99.01.99.","Otras deudas a corto plazo sujetas a depuración",556536.49,0,0,556536.49]
[3.1,"2.1.9.99.01.99.0.","Otras deudas a corto plazo sujetas a depuración",556536.49,0,0,556536.49]
[3.1,"2.1.9.99.01.99.0.99999","Otras deudas a corto plazo sujetas a depuración",556536.49,0,0,556536.49]
[3.1,"2.2.","Pasivo No Corriente",1642601090.6500001,489500000,2954160,1156055250.6500001]
[3.1,"2.2.2.","Endeudamiento público a largo plazo",1642601090.6500001,489500000,0,1153101090.6500001]
[3.1,"2.2.2.02.","Préstamos a pagar a largo plazo",1642601090.6500001,489500000,0,1153101090.6500001]
[3.1,"2.2.2.02.02.","Préstamos del sector público interno a pagar l/p",1642601090.6500001,489500000,0,1153101090.6500001]
[3.1,"2.2.2.02.02.99.","Préstamos de otras Instituciones de Gobiernos Locales a pagar l/p",1642601090.6500001,489500000,0,1153101090.6500001]
[3.1,"2.2.2.02.02.99.1.","Préstamos de otras Instituciones de Gobiernos Locales a pagar l/p - Capital",1642601090.6500001,489500000,0,1153101090.6500001]
[3.1,"2.2.2.02.02.99.1.14226","Instituto de Fomento y Asesoría Municipal (IFAM) P Largo Plazo",1642601090.6500001,489500000,0,1153101090.6500001]
[3.1,"2.2.4.","Provisiones y reservas técnicas a largo plazo",0,0,2954160,2954160]
[3.1,"2.2.4.01.","Provisiones a largo plazo",0,0,2954160,2954160]
[3.1,"2.2.4.01.03.","Provisiones para beneficios a los empleados l/p",0,0,2954160,2954160]
[3.1,"2.2.4.01.03.02.","Provisiones para beneficios por terminación l/p",0,0,2954160,2954160]
[3.1,"2.2.4.01.03.02.0.","Provisiones para beneficios por terminación l/p",0,0,2954160,2954160]
[3.1,"2.2.4.01.03.02.0.99999","Provisiones para beneficios por terminación l/p",0,0,2954160,2954160]
[3.1,"3.","PATRIMONIO",163528314179.98001,6083400683.1400003,5900336542.3400002,163345250039.17999]
[3.1,"3.1.","Patrimonio público",163528314179.98001,6083400683.1400003,5900336542.3400002,163345250039.17999]
[3.1,"3.1.1.","Capital",524.79999999999995,1500000,1500000,524.79999999999995]
[3.1,"3.1.1.01.","Capital inicial",524.79999999999995,1500000,1500000,524.79999999999995]
[3.1,"3.1.1.01.01.","Capital inicial a valores históricos",524.79999999999995,1500000,1500000,524.79999999999995]
[3.1,"3.1.1.01.01.00.","Capital inicial a valores históricos",524.79999999999995,1500000,1500000,524.79999999999995]
[3.1,"3.1.1.01.01.00.0.","Capital inicial a valores históricos",524.79999999999995,1500000,1500000,524.79999999999995]
[3.1,"3.1.1.01.01.00.0.99999","Capital inicial a valores históricos",524.79999999999995,1500000,1500000,524.79999999999995]
[3.1,"3.1.4.","Variaciones no asignables a reservas",0,5738296960.4799995,5738296960.4799995,0]
[3.1,"3.1.4.99.","Otras variaciones no asignables a reservas",0,5738296960.4799995,5738296960.4799995,0]
[3.1,"3.1.4.99.99.","Otras variaciones no asignables a reservas varias",0,5738296960.4799995,5738296960.4799995,0]
[3.1,"3.1.4.99.99.00.","Otras variaciones no asignables a reservas varias",0,5738296960.4799995,5738296960.4799995,0]
[3.1,"3.1.4.99.99.00.0.","Otras variaciones no asignables a reservas varias",0,5738296960.4799995,5738296960.4799995,0]
[3.1,"3.1.4.99.99.00.0.99999","Otras variaciones no asignables a reservas varias",0,5738296960.4799995,5738296960.4799995,0]
[3.1,"3.1.5.","Resultados acumulados",163528313655.17999,343603722.66000003,160539581.86000001,163345249514.38]
[3.1,"3.1.5.01.","Resultados acumulados de ejercicios anteriores",163528313655.17999,343603722.66000003,160539581.86000001,163345249514.38]
[3.1,"3.1.5.01.01.","Resultados de ejercicios anteriores",163614764613.42001,280667547.12,160488235.28999999,163494585301.59]
[3.1,"3.1.5.01.01.00.","Resultados de ejercicios anteriores",163614764613.42001,280667547.12,160488235.28999999,163494585301.59]
[3.1,"3.1.5.01.01.00.0.","Resultados de ejercicios anteriores",163614764613.42001,280667547.12,160488235.28999999,163494585301.59]
[3.1,"3.1.5.01.01.00.0.99999","Resultados de ejercicios anteriores",163614764613.42001,280667547.12,160488235.28999999,163494585301.59]
[3.1,"3.1.5.01.02.","Ajuste de resultados de ejercicios anteriores",-86450958.239999995,62936175.539999999,51346.57,-149335787.21000001]
[3.1,"3.1.5.01.02.06.","Ajuste de resultados acumulados",-86450958.239999995,62936175.539999999,51346.57,-149335787.21000001]
[3.1,"3.1.5.01.02.06.1.","Ajuste por corrección de errores realizados retroactivamente",-86450958.239999995,62936175.539999999,51346.57,-149335787.21000001]
[3.1,"3.1.5.01.02.06.1.99999","Ajuste por corrección de errores realizados retroactivamente",-86450958.239999995,62936175.539999999,51346.57,-149335787.21000001]
[3.1,"3.1.5.02.","Resultado del ejercicio",0,0,0,0]
[3.1,"3.1.5.02.01.","Cierre cuentas de ingresos",0,0,0,0]
[3.1,"3.1.5.02.01.00.","Cierre cuentas de ingresos",0,0,0,0]
[3.1,"3.1.5.02.01.00.0.","Cierre cuentas de ingresos",0,0,0,0]
[3.1,"3.1.5.02.01.00.0.99999","Cierre cuentas de ingresos",0,0,0,0]
[3.1,"3.1.5.02.02.","Cierre cuentas de gastos",0,0,0,0]
[3.1,"3.1.5.02.02.00.","Cierre cuentas de gastos",0,0,0,0]
[3.1,"3.1.5.02.02.00.0.","Cierre cuentas de gastos",0,0,0,0]
[3.1,"3.1.5.02.02.00.0.99999","Cierre cuentas de gastos",0,0,0,0]
[3.1,"4.","INGRESOS",0,83384,4632174905.8400002,4632091521.8400002]
[3.1,"4.1.","Impuestos",0,0,567315442.66999996,567315442.66999996]
[3.1,"4.1.2.","Impuestos sobre la propiedad",0,0,385026363.44,385026363.44]
[3.1,"4.1.2.01.","Impuesto sobre la propiedad de bienes inmuebles",0,0,385026363.44,385026363.44]
[3.1,"4.1.2.01.01.","Impuesto sobre la propiedad de bienes inmuebles",0,0,385026363.44,385026363.44]
[3.1,"4.1.2.01.01.00.","Impuesto sobre la propiedad de bienes inmuebles",0,0,385026363.44,385026363.44]
[3.1,"4.1.2.01.01.00.0.","Impuesto sobre la propiedad de bienes inmuebles",0,0,385026363.44,385026363.44]
[3.1,"4.1.2.01.01.00.0.99999","Impuesto sobre la propiedad de bienes inmuebles",0,0,385026363.44,385026363.44]
[3.1,"4.1.2.04.","Impuesto sobre los traspasos de bienes inmuebles",0,0,0,0]
[3.1,"4.1.2.04.01.","Impuesto sobre los traspasos de bienes inmuebles",0,0,0,0]
[3.1,"4.1.2.04.01.00.","Impuesto sobre los traspasos de bienes inmuebles",0,0,0,0]
[3.1,"4.1.2.04.01.00.0.","Impuesto sobre los traspasos de bienes inmuebles",0,0,0,0]
[3.1,"4.1.2.04.01.00.0.99999","Impuesto sobre los traspasos de bienes inmuebles",0,0,0,0]
[3.1,"4.1.3.","Impuestos sobre bienes y servicios",0,0,182289079.22999999,182289079.22999999]
[3.1,"4.1.3.01.","Impuestos generales y selectivos sobre ventas y consumo",0,0,152176322.50999999,152176322.50999999]
[3.1,"4.1.3.01.01.","Impuesto general sobre las ventas de bienes y servicios",0,0,152176322.50999999,152176322.50999999]
[3.1,"4.1.3.01.01.01.","Impuesto general sobre las ventas de bienes y servicios internos",0,0,152176322.50999999,152176322.50999999]
[3.1,"4.1.3.01.01.01.1.","Impuesto general sobre las ventas de bienes y servicios internos",0,0,152176322.50999999,152176322.50999999]
[3.1,"4.1.3.01.01.01.1.99999","Impuesto general sobre las ventas de bienes y servicios internos",0,0,152176322.50999999,152176322.50999999]
[3.1,"4.1.3.02.","Impuestos específicos sobre la producción y consumo de bienes y servicios",0,0,27362756.719999999,27362756.719999999]
[3.1,"4.1.3.02.01.","Impuestos específicos sobre la producción y consumo de bienes",0,0,20685396.719999999,20685396.719999999]
[3.1,"4.1.3.02.01.02.","Impuestos específicos sobre la explotación de recursos naturales y minerales",0,0,1722966.41,1722966.41]
[3.1,"4.1.3.02.01.02.1.","Impuestos específicos sobre la explotación de recursos naturales y minerales",0,0,1722966.41,1722966.41]
[3.1,"4.1.3.02.01.02.1.99999","Impuestos específicos sobre la explotación de recursos naturales y minerales",0,0,1722966.41,1722966.41]
[3.1,"4.1.3.02.01.04.","Impuestos específicos sobre bienes manufacturados",0,0,0,0]
[3.1,"4.1.3.02.01.04.1.","Impuestos específicos sobre bienes manufacturados",0,0,0,0]
[3.1,"4.1.3.02.01.04.1.11206","Ministerio de Hacienda",0,0,0,0]
[3.1,"4.1.3.02.01.05.","Impuestos específicos sobre la construcción",0,0,18962430.309999999,18962430.309999999]
[3.1,"4.1.3.02.01.05.1.","Impuestos específicos sobre la construcción",0,0,18962430.309999999,18962430.309999999]
[3.1,"4.1.3.02.01.05.1.99999","Impuestos específicos sobre la construcción",0,0,18962430.309999999,18962430.309999999]
[3.1,"4.1.3.02.02.","Impuestos específicos sobre la producción y consumo de servicios",0,0,6677360,6677360]
[3.1,"4.1.3.02.02.03.","Impuestos específicos a los servicios de diversión y esparcimiento",0,0,1038400,1038400]
[3.1,"4.1.3.02.02.03.1.","Impuestos específicos a los servicios de diversión y esparcimiento",0,0,1038400,1038400]
[3.1,"4.1.3.02.02.03.1.99999","Impuestos específicos a los servicios de diversión y esparcimiento",0,0,1038400,1038400]
[3.1,"4.1.3.02.02.99.","Otros impuestos específicos sobre la producción y consumo de servicios",0,0,5638960,5638960]
[3.1,"4.1.3.02.02.99.1.","Otros impuestos específicos sobre la producción y consumo de servicios",0,0,5638960,5638960]
[3.1,"4.1.3.02.02.99.1.99999","Otros impuestos específicos sobre la producción y consumo de servicios",0,0,5638960,5638960]
[3.1,"4.1.3.99.","Otros impuestos sobre bienes y servicios",0,0,2750000,2750000]
[3.1,"4.1.3.99.01.","Licencias profesionales, comerciales y otros permisos",0,0,2750000,2750000]
[3.1,"4.1.3.99.01.02.","Multas por licencias profesionales, comerciales y otros permisos",0,0,2750000,2750000]
[3.1,"4.1.3.99.01.02.0.","Multas por licencias profesionales, comerciales y otros permisos",0,0,2750000,2750000]
[3.1,"4.1.3.99.01.02.0.99999","Multas por licencias profesionales, comerciales y otros permisos",0,0,2750000,2750000]
[3.1,"4.1.3.99.99.","Otros impuestos varios sobre bienes y servicios",0,0,0,0]
[3.1,"4.1.3.99.99.01.","Otros impuestos varios sobre bienes y servicios",0,0,0,0]
[3.1,"4.1.3.99.99.01.0.","Otros impuestos varios sobre bienes y servicios",0,0,0,0]
[3.1,"4.1.3.99.99.01.0.99999","Otros impuestos varios sobre bienes y servicios",0,0,0,0]
[3.1,"4.4.","Ingresos y resultados positivos por ventas",0,83384,218995083.69,218911699.69]
[3.1,"4.4.1.","Ventas de bienes y servicios",0,83384,218657083.69,218573699.69]
[3.1,"4.4.1.02.","Ventas de servicios",0,83384,218657083.69,218573699.69]
[3.1,"4.4.1.02.04.","Servicios comunitarios",0,0,185911592.72999999,185911592.72999999]
[3.1,"4.4.1.02.04.03.","Servicios de cementerio",0,0,10225615,10225615]
[3.1,"4.4.1.02.04.03.0.","Servicios de cementerio",0,0,10225615,10225615]
[3.1,"4.4.1.02.04.03.0.99999","Servicios de cementerio",0,0,10225615,10225615]
[3.1,"4.4.1.02.04.04.","Servicios de saneamiento ambiental",0,0,175685977.72999999,175685977.72999999]
[3.1,"4.4.1.02.04.04.0.","Servicios de saneamiento ambiental",0,0,175685977.72999999,175685977.72999999]
[3.1,"4.4.1.02.04.04.0.99999","Servicios de saneamiento ambiental",0,0,175685977.72999999,175685977.72999999]
[3.1,"4.4.1.02.04.99.","Otros servicios comunitarios",0,0,0,0]
[3.1,"4.4.1.02.04.99.0.","Otros servicios comunitarios",0,0,0,0]
[3.1,"4.4.1.02.04.99.0.99999","Otros servicios comunitarios",0,0,0,0]
[3.1,"4.4.1.02.99.","Otras ventas de servicios",0,83384,32745490.960000001,32662106.960000001]
[3.1,"4.4.1.02.99.99.","Otras ventas de servicios varios",0,83384,32745490.960000001,32662106.960000001]
[3.1,"4.4.1.02.99.99.0.","Otras ventas de servicios varios",0,83384,32745490.960000001,32662106.960000001]
[3.1,"4.4.1.02.99.99.0.99999","Otras ventas de servicios varios",0,83384,32745490.960000001,32662106.960000001]
[3.1,"4.4.2.","Derechos administrativos",0,0,338000,338000]
[3.1,"4.4.2.01.","Derechos administrativos a los servicios de transporte",0,0,240000,240000]
[3.1,"4.4.2.01.01.","Derechos administrativos a los servicios de transporte por carretera",0,0,240000,240000]
[3.1,"4.4.2.01.01.00.","Derechos administrativos a los servicios de transporte por carretera",0,0,240000,240000]
[3.1,"4.4.2.01.01.00.0.","Derechos administrativos a los servicios de transporte por carretera",0,0,240000,240000]
[3.1,"4.4.2.01.01.00.0.99999","Derechos administrativos a los servicios de transporte por carretera",0,0,240000,240000]
[3.1,"4.4.2.99.","Otros derechos administrativos",0,0,98000,98000]
[3.1,"4.4.2.99.99.","Otros derechos administrativos varios",0,0,98000,98000]
[3.1,"4.4.2.99.99.00.","Otros derechos administrativos varios",0,0,98000,98000]
[3.1,"4.4.2.99.99.00.0.","Otros derechos administrativos varios",0,0,98000,98000]
[3.1,"4.4.2.99.99.00.0.99999","Otros derechos administrativos varios",0,0,98000,98000]
[3.1,"4.5.","Ingresos de la propiedad",0,0,33969611.039999999,33969611.039999999]
[3.1,"4.5.1.","Rentas de inversiones y de colocación de efectivo",0,0,13009264.800000001,13009264.800000001]
[3.1,"4.5.1.01.","Intereses por equivalentes de efectivo",0,0,651940.26,651940.26]
[3.1,"4.5.1.01.02.","Intereses por otros equivalentes de efectivo",0,0,651940.26,651940.26]
[3.1,"4.5.1.01.02.02.","Intereses por otros equivalentes de efectivo en el sector público interno",0,0,651940.26,651940.26]
[3.1,"4.5.1.01.02.02.0.","Intereses por otros equivalentes de efectivo en el sector público interno",0,0,651940.26,651940.26]
[3.1,"4.5.1.01.02.02.0.21101","BANCO DE COSTA RICA (BCR)",0,0,49.16,49.16]
[3.1,"4.5.1.01.02.02.0.21103","BANCO NACIONAL DE COSTA RICA (BNCR)",0,0,651891.1,651891.1]
[3.1,"4.5.1.98.","Resultados positivos de otras inversiones",0,0,12357324.539999999,12357324.539999999]
[3.1,"4.5.1.98.99.","Intereses por inversiones varias",0,0,12357324.539999999,12357324.539999999]
[3.1,"4.5.1.98.99.02.","Intereses por inversiones varias en el sector público interno",0,0,12357324.539999999,12357324.539999999]
[3.1,"4.5.1.98.99.02.0.","Intereses por inversiones varias en el sector público interno",0,0,12357324.539999999,12357324.539999999]
[3.1,"4.5.1.98.99.02.0.99999","Intereses por inversiones varias en el sector público interno",0,0,12357324.539999999,12357324.539999999]
[3.1,"4.5.2.","Alquileres y derechos sobre bienes",0,0,20960346.239999998,20960346.239999998]
[3.1,"4.5.2.01.","Alquileres",0,0,20960346.239999998,20960346.239999998]
[3.1,"4.5.2.01.02.","Alquileres de edificios",0,0,20960346.239999998,20960346.239999998]
[3.1,"4.5.2.01.02.00.","Alquileres de edificios",0,0,20960346.239999998,20960346.239999998]
[3.1,"4.5.2.01.02.00.0.","Alquileres de edificios",0,0,20960346.239999998,20960346.239999998]
[3.1,"4.5.2.01.02.00.0.99999","Alquileres de edificios",0,0,20960346.239999998,20960346.239999998]
[3.1,"4.6.","Transferencias",0,0,3811623853.7800002,3811623853.7800002]
[3.1,"4.6.1.","Transferencias corrientes",0,0,11962125.779999999,11962125.779999999]
[3.1,"4.6.1.02.","Transferencias corrientes del sector público interno",0,0,11962125.779999999,11962125.779999999]
[3.1,"4.6.1.02.02.","Transferencias corrientes de Órganos Desconcentrados",0,0,0,0]
[3.1,"4.6.1.02.02.06.","Transferencias corrientes de Órganos Desconcentrados",0,0,0,0]
[3.1,"4.6.1.02.02.06.0.","Transferencias corrientes de Órganos Desconcentrados",0,0,0,0]
[3.1,"4.6.1.02.02.06.0.12583","Transferencias corrientes de Organos Desconcentrados. Consejo Nacional de la Política Pública de la Persona Joven (CPJ)",0,0,0,0]
[3.1,"4.6.1.02.03.","Transferencias corrientes de Instituciones Descentralizadas no Empresariales",0,0,11962125.779999999,11962125.779999999]
[3.1,"4.6.1.02.03.02.","Servicios corrientes en especie de Instituciones Descentralizadas no Empresariales",0,0,0,0]
[3.1,"4.6.1.02.03.02.0.","Servicios corrientes en especie de Instituciones Descentralizadas no Empresariales",0,0,0,0]
[3.1,"4.6.1.02.03.02.0.14226","IFAM",0,0,0,0]
[3.1,"4.6.1.02.03.06.","Transferencias corrientes de Instituciones Descentralizadas no Empresariales",0,0,11962125.779999999,11962125.779999999]
[3.1,"4.6.1.02.03.06.0.","Transferencias corrientes de Instituciones Descentralizadas no Empresariales",0,0,11962125.779999999,11962125.779999999]
[3.1,"4.6.1.02.03.06.0.14226","Transferencias corrientes de Instituciones Descentralizadas no Empresariales (Aporte IFAM Licores Nacionales y Ext)",0,0,11962125.779999999,11962125.779999999]
[3.1,"4.6.2.","Transferencias de capital",0,0,3799661728,3799661728]
[3.1,"4.6.2.02.","Transferencias de capital del sector público interno",0,0,3799661728,3799661728]
[3.1,"4.6.2.02.01.","Transferencias de capital del Gobierno Central",0,0,3799661728,3799661728]
[3.1,"4.6.2.02.01.06.","Transferencias de capital del Gobierno Central",0,0,3799661728,3799661728]
[3.1,"4.6.2.02.01.06.0.","Transferencias de capital del Gobierno Central",0,0,3799661728,3799661728]
[3.1,"4.6.2.02.01.06.0.11206","Transferencias de capital del Gobierno Central",0,0,3799661728,3799661728]
[3.1,"4.9.","Otros ingresos",0,0,270914.65999999997,270914.65999999997]
[3.1,"4.9.9.","Otros ingresos y resultados positivos",0,0,270914.65999999997,270914.65999999997]
[3.1,"4.9.9.99.","Ingresos y resultados positivos varios",0,0,270914.65999999997,270914.65999999997]
[3.1,"4.9.9.99.99.","Otros resultados positivos",0,0,270914.65999999997,270914.65999999997]
[3.1,"4.9.9.99.99.00.","Otros resultados positivos",0,0,270914.65999999997,270914.65999999997]
[3.1,"4.9.9.99.99.00.0.","Otros resultados positivos",0,0,270914.65999999997,270914.65999999997]
[3.1,"4.9.9.99.99.00.0.99999","Otros resultados positivos",0,0,270914.65999999997,270914.65999999997]
[3.1,"5.","GASTOS",0,3237575761.0999999,73082476.379999995,3164493284.7199998]
[3.1,"5.1.","Gastos de funcionamiento",0,3094752233.8200002,57186364.649999999,3037565869.1700001]
[3.1,"5.1.1.","Gastos en personal",0,675149916.30999994,0,675149916.30999994]
[3.1,"5.1.1.01.","Remuneraciones Básicas",0,418371238.05000001,0,418371238.05000001]
[3.1,"5.1.1.01.01.","Sueldos para cargos fijos",0,395884201.77999997,0,395884201.77999997]
[3.1,"5.1.1.01.01.00.","Sueldos para cargos fijos",0,395884201.77999997,0,395884201.77999997]
[3.1,"5.1.1.01.01.00.0.","Sueldos para cargos fijos",0,395884201.77999997,0,395884201.77999997]
[3.1,"5.1.1.01.01.00.0.99999","Sueldos para cargos fijos",0,395884201.77999997,0,395884201.77999997]
[3.1,"5.1.1.01.02.","Jornales",0,11800942.41,0,11800942.41]
[3.1,"5.1.1.01.02.00.","Jornales",0,11800942.41,0,11800942.41]
[3.1,"5.1.1.01.02.00.0.","Jornales",0,11800942.41,0,11800942.41]
[3.1,"5.1.1.01.02.00.0.99999","Jornales",0,11800942.41,0,11800942.41]
[3.1,"5.1.1.01.03.","Servicios especiales",0,6026083,0,6026083]
[3.1,"5.1.1.01.03.00.","Servicios especiales",0,6026083,0,6026083]
[3.1,"5.1.1.01.03.00.0.","Servicios especiales",0,6026083,0,6026083]
[3.1,"5.1.1.01.03.00.0.99999","Servicios especiales",0,6026083,0,6026083]
[3.1,"5.1.1.01.05.","Suplencias",0,4660010.8600000003,0,4660010.8600000003]
[3.1,"5.1.1.01.05.00.","Suplencias",0,4660010.8600000003,0,4660010.8600000003]
[3.1,"5.1.1.01.05.00.0.","Suplencias",0,4660010.8600000003,0,4660010.8600000003]
[3.1,"5.1.1.01.05.00.0.99999","Suplencias",0,4660010.8600000003,0,4660010.8600000003]
[3.1,"5.1.1.02.","Remuneraciones eventuales",0,36532530.07,0,36532530.07]
[3.1,"5.1.1.02.01.","Tiempo extraordinario",0,25500409.210000001,0,25500409.210000001]
[3.1,"5.1.1.02.01.00.","Tiempo extraordinario",0,25500409.210000001,0,25500409.210000001]
[3.1,"5.1.1.02.01.00.0.","Tiempo extraordinario",0,25500409.210000001,0,25500409.210000001]
[3.1,"5.1.1.02.01.00.0.99999","Tiempo extraordinario",0,25500409.210000001,0,25500409.210000001]
[3.1,"5.1.1.02.04.","Compensación de vacaciones",0,4438530.78,0,4438530.78]
[3.1,"5.1.1.02.04.00.","Compensación de vacaciones",0,4438530.78,0,4438530.78]
[3.1,"5.1.1.02.04.00.0.","Compensación de vacaciones",0,4438530.78,0,4438530.78]
[3.1,"5.1.1.02.04.00.0.99999","Compensación de vacaciones",0,4438530.78,0,4438530.78]
[3.1,"5.1.1.02.05.","Dietas",0,6593590.0800000001,0,6593590.0800000001]
[3.1,"5.1.1.02.05.00.","Dietas",0,6593590.0800000001,0,6593590.0800000001]
[3.1,"5.1.1.02.05.00.0.","Dietas",0,6593590.0800000001,0,6593590.0800000001]
[3.1,"5.1.1.02.05.00.0.99999","Dietas",0,6593590.0800000001,0,6593590.0800000001]
[3.1,"5.1.1.02.99.","Otras remuneraciones eventuales",0,0,0,0]
[3.1,"5.1.1.02.99.00.","Otras remuneraciones eventuales",0,0,0,0]
[3.1,"5.1.1.02.99.00.0.","Otras remuneraciones eventuales",0,0,0,0]
[3.1,"5.1.1.02.99.00.0.99999","Otras remuneraciones eventuales",0,0,0,0]
[3.1,"5.1.1.03.","Incentivos salariales",0,113560920.04000001,0,113560920.04000001]
[3.1,"5.1.1.03.01.","Retribución por años servidos",0,50225692.960000001,0,50225692.960000001]
[3.1,"5.1.1.03.01.00.","Hora",0,50225692.960000001,0,50225692.960000001]
[3.1,"5.1.1.03.01.00.0.","Diario",0,50225692.960000001,0,50225692.960000001]
[3.1,"5.1.1.03.01.00.0.99999","Semanal",0,50225692.960000001,0,50225692.960000001]
[3.1,"5.1.1.03.02.","Restricción al ejercicio liberal de la profesión",0,22950704.199999999,0,22950704.199999999]
[3.1,"5.1.1.03.02.01.","Dedicacion exclusiva",0,22950704.199999999,0,22950704.199999999]
[3.1,"5.1.1.03.02.01.0.","Dedicacion exclusiva",0,22950704.199999999,0,22950704.199999999]
[3.1,"5.1.1.03.02.01.0.99999","Dedicacion exclusiva",0,22950704.199999999,0,22950704.199999999]
[3.1,"5.1.1.03.02.02.","Prohibicion al ejercicio liberal de la profesión",0,0,0,0]
[3.1,"5.1.1.03.02.02.0.","Prohibicion al ejercicio liberal de la profesión",0,0,0,0]
[3.1,"5.1.1.03.02.02.0.99999","Prohibicion al ejercicio liberal de la profesión",0,0,0,0]
[3.1,"5.1.1.03.03.","Decimotercer mes",0,40384522.880000003,0,40384522.880000003]
[3.1,"5.1.1.03.03.00.","Bi-Semanal",0,40384522.880000003,0,40384522.880000003]
[3.1,"5.1.1.03.03.00.0.","Mensual",0,40384522.880000003,0,40384522.880000003]
[3.1,"5.1.1.03.03.00.0.99999","Quincenal",0,40384522.880000003,0,40384522.880000003]
[3.1,"5.1.1.03.99.","Otros incentivos salariales",0,0,0,0]
[3.1,"5.1.1.03.99.99.","Otros incentivos salariales varios",0,0,0,0]
[3.1,"5.1.1.03.99.99.0.","Otros incentivos salariales varios",0,0,0,0]
[3.1,"5.1.1.03.99.99.0.99999","Otros incentivos salariales varios",0,0,0,0]
[3.1,"5.1.1.04.","Contribuciones patronales al desarrollo y la seguridad social",0,103565600.84,0,103565600.84]
[3.1,"5.1.1.04.01.","Contribución patronal al Seguro de Salud de la Caja Costarricense del Seguro Social",0,103557260.75,0,103557260.75]
[3.1,"5.1.1.04.01.00.","Contribución patronal al Seguro de Salud de la Caja Costarricense del Seguro Social",0,103557260.75,0,103557260.75]
[3.1,"5.1.1.04.01.00.0.","Contribución patronal al Seguro de Salud de la Caja Costarricense del Seguro Social",0,103557260.75,0,103557260.75]
[3.1,"5.1.1.04.01.00.0.14120","Contribución Patronal al Seguro de Salud de la Caja",0,103557260.75,0,103557260.75]
[3.1,"5.1.1.04.01.00.0.99999","Contribución patronal al Seguro de Salud de la Caja Costarricense del Seguro Social",0,0,0,0]
[3.1,"5.1.1.04.05.","Contribución patronal al Banco popular y de Desarrollo Comunal",0,8340.09,0,8340.09]
[3.1,"5.1.1.04.05.00.","Contribución patronal al Banco popular y de Desarrollo Comunal",0,8340.09,0,8340.09]
[3.1,"5.1.1.04.05.00.0.","Contribución patronal al Banco popular y de Desarrollo Comunal",0,8340.09,0,8340.09]
[3.1,"5.1.1.04.05.00.0.31104","Contribución Patronal al Banco Popular y de Desarrollo",0,8340.09,0,8340.09]
[3.1,"5.1.1.04.05.00.0.99999","Contribución patronal al Banco popular y de Desarrollo Comunal",0,0,0,0]
[3.1,"5.1.1.05.","Contribuciones patronales a fondos de pensiones y a otros fondos de capitalización",0,165467.31,0,165467.31]
[3.1,"5.1.1.05.01.","Contribución patronal al Seguro de Pensiones de la Caja Costarricense del Seguro Social",0,90406.54,0,90406.54]
[3.1,"5.1.1.05.01.00.","Contribución patronal al Seguro de Pensiones de la Caja Costarricense del Seguro Social",0,90406.54,0,90406.54]
[3.1,"5.1.1.05.01.00.0.","Contribución patronal al Seguro de Pensiones de la Caja Costarricense del Seguro Social",0,90406.54,0,90406.54]
[3.1,"5.1.1.05.01.00.0.14120","Contribución Patronal al Seguro de Pensiones de la Caja",0,90406.54,0,90406.54]
[3.1,"5.1.1.05.01.00.0.99999","Contribución patronal al Seguro de Pensiones de la Caja Costarricense del Seguro Social",0,0,0,0]
[3.1,"5.1.1.05.02.","Aporte patronal al Régimen Obligatorio de Pensiones Complementarias",0,50040.52,0,50040.52]
[3.1,"5.1.1.05.02.00.","Aporte patronal al Régimen Obligatorio de Pensiones Complementarias",0,50040.52,0,50040.52]
[3.1,"5.1.1.05.02.00.0.","Aporte patronal al Régimen Obligatorio de Pensiones Complementarias",0,50040.52,0,50040.52]
[3.1,"5.1.1.05.02.00.0.99999","Aporte patronal al Régimen Obligatorio de Pensiones Complementarias",0,50040.52,0,50040.52]
[3.1,"5.1.1.05.03.","Aporte patronal al Fondo de Capitalización Laboral",0,25020.25,0,25020.25]
[3.1,"5.1.1.05.03.00.","Aporte patronal al Fondo de Capitalización Laboral",0,25020.25,0,25020.25]
[3.1,"5.1.1.05.03.00.0.","Aporte patronal al Fondo de Capitalización Laboral",0,25020.25,0,25020.25]
[3.1,"5.1.1.05.03.00.0.14120","Aporte Patronal al Fondo de Capitalización Laboral",0,25020.25,0,25020.25]
[3.1,"5.1.1.05.03.00.0.99999","Aporte patronal al Fondo de Capitalización Laboral",0,0,0,0]
[3.1,"5.1.1.06.","Asistencia social y beneficios al personal",0,2954160,0,2954160]
[3.1,"5.1.1.06.08.","Indemnizaciones al personal",0,2954160,0,2954160]
[3.1,"5.1.1.06.08.00.","Indemnizaciones al personal",0,2954160,0,2954160]
[3.1,"5.1.1.06.08.00.0.","Indemnizaciones al personal",0,2954160,0,2954160]
[3.1,"5.1.1.06.08.00.0.99999","Indemnizaciones al personal",0,2954160,0,2954160]
[3.1,"5.1.2.","Servicios",0,1909395238.5799999,3530993.62,1905864244.96]
[3.1,"5.1.2.01.","Alquileres y derechos sobre bienes",0,110270657.81,3136206.55,107134451.26000001]
[3.1,"5.1.2.01.01.","Alquiler de terrenos, edificios y locales",0,7200000,0,7200000]
[3.1,"5.1.2.01.01.00.","Alquiler de terrenos, edificios y locales",0,7200000,0,7200000]
[3.1,"5.1.2.01.01.00.0.","Alquiler de terrenos, edificios y locales",0,7200000,0,7200000]
[3.1,"5.1.2.01.01.00.0.99999","Alquiler de terrenos, edificios y locales",0,7200000,0,7200000]
[3.1,"5.1.2.01.02.","Alquiler de maquinarias, equipos y mobiliario",0,99934451.260000005,0,99934451.260000005]
[3.1,"5.1.2.01.02.00.","Alquiler de maquinarias, equipos y mobiliario",0,99934451.260000005,0,99934451.260000005]
[3.1,"5.1.2.01.02.00.0.","Alquiler de maquinarias, equipos y mobiliario",0,99934451.260000005,0,99934451.260000005]
[3.1,"5.1.2.01.02.00.0.99999","Alquiler de maquinarias, equipos y mobiliario",0,99934451.260000005,0,99934451.260000005]
[3.1,"5.1.2.01.05.","Derechos o regalías sobre bienes intangibles",0,3136206.55,3136206.55,0]
[3.1,"5.1.2.01.05.00.","Derechos o regalías sobre bienes intangibles",0,3136206.55,3136206.55,0]
[3.1,"5.1.2.01.05.00.0.","Derechos o regalías sobre bienes intangibles",0,3136206.55,3136206.55,0]
[3.1,"5.1.2.01.05.00.0.99999","Derechos o regalías sobre bienes intangibles",0,3136206.55,3136206.55,0]
[3.1,"5.1.2.02.","Servicios básicos",0,59675486.859999999,0,59675486.859999999]
[3.1,"5.1.2.02.01.","Agua y alcantarillado",0,5587914,0,5587914]
[3.1,"5.1.2.02.01.00.","Agua y alcantarillado",0,5587914,0,5587914]
[3.1,"5.1.2.02.01.00.0.","Agua y alcantarillado",0,5587914,0,5587914]
[3.1,"5.1.2.02.01.00.0.99999","Agua y alcantarillado",0,5587914,0,5587914]
[3.1,"5.1.2.02.02.","Energía eléctrica",0,8495505,0,8495505]
[3.1,"5.1.2.02.02.00.","Energía eléctrica",0,8495505,0,8495505]
[3.1,"5.1.2.02.02.00.0.","Energía eléctrica",0,8495505,0,8495505]
[3.1,"5.1.2.02.02.00.0.99999","Energía eléctrica",0,8495505,0,8495505]
[3.1,"5.1.2.02.04.","Servicios de telecomunicaciones",0,2015515.26,0,2015515.26]
[3.1,"5.1.2.02.04.00.","Servicios de telecomunicaciones",0,2015515.26,0,2015515.26]
[3.1,"5.1.2.02.04.00.0.","Servicios de telecomunicaciones",0,2015515.26,0,2015515.26]
[3.1,"5.1.2.02.04.00.0.99999","Servicios de telecomunicaciones",0,2015515.26,0,2015515.26]
[3.1,"5.1.2.02.99.","Otros servicios básicos",0,43576552.600000001,0,43576552.600000001]
[3.1,"5.1.2.02.99.00.","Otros servicios básicos",0,43576552.600000001,0,43576552.600000001]
[3.1,"5.1.2.02.99.00.0.","Otros servicios básicos",0,43576552.600000001,0,43576552.600000001]
[3.1,"5.1.2.02.99.00.0.99999","Otros servicios básicos",0,43576552.600000001,0,43576552.600000001]
[3.1,"5.1.2.03.","Servicios comerciales y financieros",0,19406188.949999999,0,19406188.949999999]
[3.1,"5.1.2.03.01.","Servicios de información",0,798060,0,798060]
[3.1,"5.1.2.03.01.00.","Servicios de información",0,798060,0,798060]
[3.1,"5.1.2.03.01.00.0.","Servicios de información",0,798060,0,798060]
[3.1,"5.1.2.03.01.00.0.99999","Servicios de información",0,798060,0,798060]
[3.1,"5.1.2.03.02.","Publicidad y propaganda",0,0,0,0]
[3.1,"5.1.2.03.02.00.","Publicidad y propaganda",0,0,0,0]
[3.1,"5.1.2.03.02.00.0.","Publicidad y propaganda",0,0,0,0]
[3.1,"5.1.2.03.02.00.0.99999","Publicidad y propaganda",0,0,0,0]
[3.1,"5.1.2.03.03.","Impresión, encuadernación y otros",0,942000,0,942000]
[3.1,"5.1.2.03.03.00.","Impresión, encuadernación y otros",0,942000,0,942000]
[3.1,"5.1.2.03.03.00.0.","Impresión, encuadernación y otros",0,942000,0,942000]
[3.1,"5.1.2.03.03.00.0.99999","Impresión, encuadernación y otros",0,942000,0,942000]
[3.1,"5.1.2.03.06.","Comisiones y gastos por servicios financieros y comerciales",0,17592928.949999999,0,17592928.949999999]
[3.1,"5.1.2.03.06.00.","Comisiones y gastos por servicios financieros y comerciales",0,17592928.949999999,0,17592928.949999999]
[3.1,"5.1.2.03.06.00.0.","Comisiones y gastos por servicios financieros y comerciales",0,17592928.949999999,0,17592928.949999999]
[3.1,"5.1.2.03.06.00.0.99999","Comisiones y gastos por servicios financieros y comerciales",0,17592928.949999999,0,17592928.949999999]
[3.1,"5.1.2.03.07.","Servicios de transferencia electrónica de información",0,73200,0,73200]
[3.1,"5.1.2.03.07.00.","Servicios de transferencia electrónica de información",0,73200,0,73200]
[3.1,"5.1.2.03.07.00.0.","Servicios de transferencia electrónica de información",0,73200,0,73200]
[3.1,"5.1.2.03.07.00.0.99999","Servicios de transferencia electrónica de información",0,73200,0,73200]
[3.1,"5.1.2.04.","Servicios de gestión y apoyo",0,83525860.319999993,163010.82999999999,83362849.489999995]
[3.1,"5.1.2.04.02.","Servicios jurídicos",0,0,0,0]
[3.1,"5.1.2.04.02.00.","Servicios jurídicos",0,0,0,0]
[3.1,"5.1.2.04.02.00.0.","Servicios jurídicos",0,0,0,0]
[3.1,"5.1.2.04.02.00.0.99999","Servicios jurídicos",0,0,0,0]
[3.1,"5.1.2.04.03.","Servicios de ingeniería",0,40970874,0,40970874]
[3.1,"5.1.2.04.03.00.","Servicios de ingeniería",0,40970874,0,40970874]
[3.1,"5.1.2.04.03.00.0.","Servicios de ingeniería",0,40970874,0,40970874]
[3.1,"5.1.2.04.03.00.0.99999","Servicios de ingeniería",0,40970874,0,40970874]
[3.1,"5.1.2.04.04.","Servicios en ciencias económicas y sociales",0,6049100,0,6049100]
[3.1,"5.1.2.04.04.00.","Servicios en ciencias económicas y sociales",0,6049100,0,6049100]
[3.1,"5.1.2.04.04.00.0.","Servicios en ciencias económicas y sociales",0,6049100,0,6049100]
[3.1,"5.1.2.04.04.00.0.99999","Servicios en ciencias económicas y sociales",0,6049100,0,6049100]
[3.1,"5.1.2.04.06.","Servicios generales",0,30939006.32,0,30939006.32]
[3.1,"5.1.2.04.06.00.","Servicios generales",0,30939006.32,0,30939006.32]
[3.1,"5.1.2.04.06.00.0.","Servicios generales",0,30939006.32,0,30939006.32]
[3.1,"5.1.2.04.06.00.0.99999","Servicios generales",0,30939006.32,0,30939006.32]
[3.1,"5.1.2.04.99.","Otros servicios de gestión y apoyo",0,5566880,163010.82999999999,5403869.1699999999]
[3.1,"5.1.2.04.99.00.","Otros servicios de gestión y apoyo",0,5566880,163010.82999999999,5403869.1699999999]
[3.1,"5.1.2.04.99.00.0.","Otros servicios de gestión y apoyo",0,5566880,163010.82999999999,5403869.1699999999]
[3.1,"5.1.2.04.99.00.0.99999","Otros servicios de gestión y apoyo",0,5566880,163010.82999999999,5403869.1699999999]
[3.1,"5.1.2.05.","Gastos de viaje y transporte",0,3639014.49,231776.24,3407238.25]
[3.1,"5.1.2.05.01.","Transporte dentro del país",0,31000,0,31000]
[3.1,"5.1.2.05.01.00.","Transporte dentro del país",0,31000,0,31000]
[3.1,"5.1.2.05.01.00.0.","Transporte dentro del país",0,31000,0,31000]
[3.1,"5.1.2.05.01.00.0.99999","Transporte dentro del país",0,31000,0,31000]
[3.1,"5.1.2.05.02.","Viáticos dentro del país",0,3608014.49,231776.24,3376238.25]
[3.1,"5.1.2.05.02.00.","Viáticos dentro del país",0,3608014.49,231776.24,3376238.25]
[3.1,"5.1.2.05.02.00.0.","Viáticos dentro del país",0,3608014.49,231776.24,3376238.25]
[3.1,"5.1.2.05.02.00.0.99999","Viáticos dentro del país",0,3608014.49,231776.24,3376238.25]
[3.1,"5.1.2.06.","Seguros, reaseguros y otras obligaciones",0,30883889.530000001,0,30883889.530000001]
[3.1,"5.1.2.06.01.","Seguros",0,30883889.530000001,0,30883889.530000001]
[3.1,"5.1.2.06.01.01.","Seguros contra riesgos de trabajo",0,7415089.2599999998,0,7415089.2599999998]
[3.1,"5.1.2.06.01.01.0.","Seguros contra riesgos de trabajo",0,7415089.2599999998,0,7415089.2599999998]
[3.1,"5.1.2.06.01.01.0.99999","Seguros contra riesgos de trabajo",0,7415089.2599999998,0,7415089.2599999998]
[3.1,"5.1.2.06.01.04.","Seguros voluntarios de automóviles",0,23468800.27,0,23468800.27]
[3.1,"5.1.2.06.01.04.0.","Seguros voluntarios de automóviles",0,23468800.27,0,23468800.27]
[3.1,"5.1.2.06.01.04.0.99999","Seguros voluntarios de automóviles",0,23468800.27,0,23468800.27]
[3.1,"5.1.2.06.01.99.","Otros seguros",0,0,0,0]
[3.1,"5.1.2.06.01.99.0.","Otros seguros",0,0,0,0]
[3.1,"5.1.2.06.01.99.0.99999","Otros seguros",0,0,0,0]
[3.1,"5.1.2.07.","Capacitación y protocolo",0,0,0,0]
[3.1,"5.1.2.07.01.","Actividades de capacitación",0,0,0,0]
[3.1,"5.1.2.07.01.00.","Actividades de capacitación",0,0,0,0]
[3.1,"5.1.2.07.01.00.0.","Actividades de capacitación",0,0,0,0]
[3.1,"5.1.2.07.01.00.0.99999","Actividades de capacitación",0,0,0,0]
[3.1,"5.1.2.08.","Mantenimiento y reparaciones",0,1601844140.6199999,0,1601844140.6199999]
[3.1,"5.1.2.08.01.","Mantenimiento de terrenos y edificios",0,15364230,0,15364230]
[3.1,"5.1.2.08.01.03.","Mantenimiento de áreas deportivas y recreativas",0,0,0,0]
[3.1,"5.1.2.08.01.03.0.","Mantenimiento de áreas deportivas y recreativas",0,0,0,0]
[3.1,"5.1.2.08.01.03.0.99999","Mantenimiento de áreas deportivas y recreativas",0,0,0,0]
[3.1,"5.1.2.08.01.99.","Mantenimiento de edificios varios",0,15364230,0,15364230]
[3.1,"5.1.2.08.01.99.0.","Mantenimiento de edificios varios",0,15364230,0,15364230]
[3.1,"5.1.2.08.01.99.0.99999","Mantenimiento de edificios varios",0,15364230,0,15364230]
[3.1,"5.1.2.08.02.","Mantenimiento y reparación de maquinaria y equipos para la producción",0,20794139.27,0,20794139.27]
[3.1,"5.1.2.08.02.00.","Mantenimiento y reparación de maquinaria y equipos para la producción",0,20794139.27,0,20794139.27]
[3.1,"5.1.2.08.02.00.0.","Mantenimiento y reparación de maquinaria y equipos para la producción",0,20794139.27,0,20794139.27]
[3.1,"5.1.2.08.02.00.0.99999","Mantenimiento y reparación de maquinaria y equipos para la producción",0,20794139.27,0,20794139.27]
[3.1,"5.1.2.08.03.","Mantenimiento y reparación de equipos de transporte, tracción y elevación",0,6027363.2699999996,0,6027363.2699999996]
[3.1,"5.1.2.08.03.00.","Mantenimiento y reparación de equipos de transporte, tracción y elevación",0,6027363.2699999996,0,6027363.2699999996]
[3.1,"5.1.2.08.03.00.0.","Mantenimiento y reparación de equipos de transporte, tracción y elevación",0,6027363.2699999996,0,6027363.2699999996]
[3.1,"5.1.2.08.03.00.0.99999","Mantenimiento y reparación de equipos de transporte, tracción y elevación",0,6027363.2699999996,0,6027363.2699999996]
[3.1,"5.1.2.08.05.","Mantenimiento y reparación de equipos y mobiliario de oficina",0,0,0,0]
[3.1,"5.1.2.08.05.00.","Mantenimiento y reparación de equipos y mobiliario de oficina",0,0,0,0]
[3.1,"5.1.2.08.05.00.0.","Mantenimiento y reparación de equipos y mobiliario de oficina",0,0,0,0]
[3.1,"5.1.2.08.05.00.0.99999","Mantenimiento y reparación de equipos y mobiliario de oficina",0,0,0,0]
[3.1,"5.1.2.08.06.","Mantenimiento y reparación de equipos para computación",0,0,0,0]
[3.1,"5.1.2.08.06.00.","Mantenimiento y reparación de equipos para computación",0,0,0,0]
[3.1,"5.1.2.08.06.00.0.","Mantenimiento y reparación de equipos para computación",0,0,0,0]
[3.1,"5.1.2.08.06.00.0.99999","Mantenimiento y reparación de equipos para computación",0,0,0,0]
[3.1,"5.1.2.08.10.","Mantenimiento y reparación de bienes de infraestructura y de beneficio y uso público",0,1559658408.0799999,0,1559658408.0799999]
[3.1,"5.1.2.08.10.00.","Mantenimiento y reparación de bienes de infraestructura y de beneficio y uso público",0,1559658408.0799999,0,1559658408.0799999]
[3.1,"5.1.2.08.10.00.0.","Mantenimiento y reparación de bienes de infraestructura y de beneficio y uso público",0,1559658408.0799999,0,1559658408.0799999]
[3.1,"5.1.2.08.10.00.0.99999","Mantenimiento y reparación de bienes de infraestructura y de beneficio y uso público",0,1559658408.0799999,0,1559658408.0799999]
[3.1,"5.1.2.99.","Otros servicios",0,150000,0,150000]
[3.1,"5.1.2.99.99.","Otros servicios varios",0,150000,0,150000]
[3.1,"5.1.2.99.99.00.","Otros servicios varios",0,150000,0,150000]
[3.1,"5.1.2.99.99.00.0.","Otros servicios varios",0,150000,0,150000]
[3.1,"5.1.2.99.99.00.0.99999","Otros servicios varios",0,150000,0,150000]
[3.1,"5.1.3.","Materiales y suministros consumidos",0,312829881.37,53068085.380000003,259761795.99000001]
[3.1,"5.1.3.01.","Productos químicos y conexos",0,77838214.099999994,403157,77435057.099999994]
[3.1,"5.1.3.01.01.","Combustibles y lubricantes",0,76411937.579999998,0,76411937.579999998]
[3.1,"5.1.3.01.01.00.","Combustibles y lubricantes",0,76411937.579999998,0,76411937.579999998]
[3.1,"5.1.3.01.01.00.0.","Combustibles y lubricantes",0,76411937.579999998,0,76411937.579999998]
[3.1,"5.1.3.01.01.00.0.99999","Combustibles y lubricantes",0,76411937.579999998,0,76411937.579999998]
[3.1,"5.1.3.01.02.","Productos farmacéuticos y medicinales",0,25600,0,25600]
[3.1,"5.1.3.01.02.00.","Productos farmacéuticos y medicinales",0,25600,0,25600]
[3.1,"5.1.3.01.02.00.0.","Productos farmacéuticos y medicinales",0,25600,0,25600]
[3.1,"5.1.3.01.02.00.0.99999","Productos farmacéuticos y medicinales",0,25600,0,25600]
[3.1,"5.1.3.01.04.","Tintas, pinturas y diluyentes",0,965974.02,166666,799308.02]
[3.1,"5.1.3.01.04.00.","Tintas, pinturas y diluyentes",0,965974.02,166666,799308.02]
[3.1,"5.1.3.01.04.00.0.","Tintas, pinturas y diluyentes",0,965974.02,166666,799308.02]
[3.1,"5.1.3.01.04.00.0.99999","Tintas, pinturas y diluyentes",0,965974.02,166666,799308.02]
[3.1,"5.1.3.01.99.","Otros productos químicos y conexos",0,434702.5,236491,198211.5]
[3.1,"5.1.3.01.99.00.","Otros productos químicos y conexos",0,434702.5,236491,198211.5]
[3.1,"5.1.3.01.99.00.0.","Otros productos químicos y conexos",0,434702.5,236491,198211.5]
[3.1,"5.1.3.01.99.00.0.99999","Otros productos químicos y conexos",0,434702.5,236491,198211.5]
[3.1,"5.1.3.02.","Alimentos y productos agropecuarios",0,570000,0,570000]
[3.1,"5.1.3.02.03.","Alimentos y bebidas",0,570000,0,570000]
[3.1,"5.1.3.02.03.00.","Alimentos y bebidas",0,570000,0,570000]
[3.1,"5.1.3.02.03.00.0.","Alimentos y bebidas",0,570000,0,570000]
[3.1,"5.1.3.02.03.00.0.99999","Alimentos y bebidas",0,570000,0,570000]
[3.1,"5.1.3.02.04.","Alimentos para animales",0,0,0,0]
[3.1,"5.1.3.02.04.00.","Alimentos para animales",0,0,0,0]
[3.1,"5.1.3.02.04.00.0.","Alimentos para animales",0,0,0,0]
[3.1,"5.1.3.02.04.00.0.99999","Alimentos para animales",0,0,0,0]
[3.1,"5.1.3.03.","Material y producto uso en la construc y mantenim",0,101821278.12,1293133,100528145.12]
[3.1,"5.1.3.03.01.","Materiales y productos metálicos",0,3564736.12,307033,3257703.12]
[3.1,"5.1.3.03.01.00.","Materiales y productos metálicos",0,3564736.12,307033,3257703.12]
[3.1,"5.1.3.03.01.00.0.","Materiales y productos metálicos",0,3564736.12,307033,3257703.12]
[3.1,"5.1.3.03.01.00.0.99999","Materiales y productos metálicos",0,3564736.12,307033,3257703.12]
[3.1,"5.1.3.03.02.","Materiales y productos minerales y asfálticos",0,97424304,481500,96942804]
[3.1,"5.1.3.03.02.00.","Materiales y productos minerales y asfálticos",0,97424304,481500,96942804]
[3.1,"5.1.3.03.02.00.0.","Materiales y productos minerales y asfálticos",0,97424304,481500,96942804]
[3.1,"5.1.3.03.02.00.0.99999","Materiales y productos minerales y asfálticos",0,97424304,481500,96942804]
[3.1,"5.1.3.03.03.","Madera y sus derivados",0,562020,504600,57420]
[3.1,"5.1.3.03.03.00.","Madera y sus derivados",0,562020,504600,57420]
[3.1,"5.1.3.03.03.00.0.","Madera y sus derivados",0,562020,504600,57420]
[3.1,"5.1.3.03.03.00.0.99999","Madera y sus derivados",0,562020,504600,57420]
[3.1,"5.1.3.03.04.","Material y producto eléctrico, telefónic y cómputo",0,108726,0,108726]
[3.1,"5.1.3.03.04.00.","Material y producto eléctrico, telefónic y cómputo",0,108726,0,108726]
[3.1,"5.1.3.03.04.00.0.","Material y producto eléctrico, telefónic y cómputo",0,108726,0,108726]
[3.1,"5.1.3.03.04.00.0.99999","Material y producto eléctrico, telefónic y cómputo",0,108726,0,108726]
[3.1,"5.1.3.03.06.","Materiales y productos de plástico",0,117092,0,117092]
[3.1,"5.1.3.03.06.00.","Materiales y productos de plástico",0,117092,0,117092]
[3.1,"5.1.3.03.06.00.0.","Materiales y productos de plástico",0,117092,0,117092]
[3.1,"5.1.3.03.06.00.0.99999","Materiales y productos de plástico",0,117092,0,117092]
[3.1,"5.1.3.03.99.","Otros material y producto d/uso construcc mantenim",0,44400,0,44400]
[3.1,"5.1.3.03.99.00.","Otros material y producto d/uso construcc mantenim",0,44400,0,44400]
[3.1,"5.1.3.03.99.00.0.","Otros material y producto d/uso construcc mantenim",0,44400,0,44400]
[3.1,"5.1.3.03.99.00.0.99999","Otros material y producto d/uso construcc mantenim",0,44400,0,44400]
[3.1,"5.1.3.04.","Herramientas, repuestos y accesorios",0,114989820.34999999,50199986.469999999,64789833.880000003]
[3.1,"5.1.3.04.01.","Herramientas e instrumentos",0,533046.11,33191,499855.11]
[3.1,"5.1.3.04.01.00.","Herramientas e instrumentos",0,533046.11,33191,499855.11]
[3.1,"5.1.3.04.01.00.0.","Herramientas e instrumentos nuevos",0,533046.11,33191,499855.11]
[3.1,"5.1.3.04.01.00.0.99999","Herramientas e instrumentos nuevos",0,533046.11,33191,499855.11]
[3.1,"5.1.3.04.02.","Repuestos y accesorios",0,114456774.23999999,50166795.469999999,64289978.770000003]
[3.1,"5.1.3.04.02.01.","Repuestos y accesorios Nuevos",0,114456774.23999999,50166795.469999999,64289978.770000003]
[3.1,"5.1.3.04.02.01.0.","Repuestos y accesorios Nuevos",0,114456774.23999999,50166795.469999999,64289978.770000003]
[3.1,"5.1.3.04.02.01.0.99999","Repuestos y accesorios Nuevos",0,114456774.23999999,50166795.469999999,64289978.770000003]
[3.1,"5.1.3.99.","Útiles, materiales y suministros diversos",0,17610568.800000001,1171808.9099999999,16438759.890000001]
[3.1,"5.1.3.99.01.","Útiles y materiales de oficina y cómputo",0,1504051.73,23791.4,1480260.33]
[3.1,"5.1.3.99.01.00.","Útiles y materiales de oficina y cómputo",0,1504051.73,23791.4,1480260.33]
[3.1,"5.1.3.99.01.00.0.","Útiles y materiales de oficina y cómputo",0,1504051.73,23791.4,1480260.33]
[3.1,"5.1.3.99.01.00.0.99999","Útiles y materiales de oficina y cómputo",0,1504051.73,23791.4,1480260.33]
[3.1,"5.1.3.99.02.","Útiles y materiales méd, hospital y investigación",0,40000,0,40000]
[3.1,"5.1.3.99.02.00.","Útiles y materiales méd, hospital y investigación",0,40000,0,40000]
[3.1,"5.1.3.99.02.00.0.","Útiles y materiales méd, hospital y investigación",0,40000,0,40000]
[3.1,"5.1.3.99.02.00.0.99999","Útiles y materiales méd, hospital y investigación",0,40000,0,40000]
[3.1,"5.1.3.99.03.","Productos de papel, cartón e impresos",0,1714391.78,0,1714391.78]
[3.1,"5.1.3.99.03.00.","Productos de papel, cartón e impresos",0,1714391.78,0,1714391.78]
[3.1,"5.1.3.99.03.00.0.","Productos de papel, cartón e impresos",0,1714391.78,0,1714391.78]
[3.1,"5.1.3.99.03.00.0.99999","Productos de papel, cartón e impresos",0,1714391.78,0,1714391.78]
[3.1,"5.1.3.99.04.","Textiles y vestuario",0,6305067.5999999996,475385.05,5829682.5499999998]
[3.1,"5.1.3.99.04.00.","Textiles y vestuario",0,6305067.5999999996,475385.05,5829682.5499999998]
[3.1,"5.1.3.99.04.00.0.","Textiles y vestuario",0,6305067.5999999996,475385.05,5829682.5499999998]
[3.1,"5.1.3.99.04.00.0.99999","Textiles y vestuario",0,6305067.5999999996,475385.05,5829682.5499999998]
[3.1,"5.1.3.99.05.","Útiles y materiales de limpieza",0,2500975.23,0,2500975.23]
[3.1,"5.1.3.99.05.00.","Útiles y materiales de limpieza",0,2500975.23,0,2500975.23]
[3.1,"5.1.3.99.05.00.0.","Útiles y materiales de limpieza",0,2500975.23,0,2500975.23]
[3.1,"5.1.3.99.05.00.0.99999","Útiles y materiales de limpieza",0,2500975.23,0,2500975.23]
[3.1,"5.1.3.99.06.","Útiles y materiales de resguardo y seguridad",0,672632.46,672632.46,0]
[3.1,"5.1.3.99.06.00.","Útiles y materiales de resguardo y seguridad",0,672632.46,672632.46,0]
[3.1,"5.1.3.99.06.00.0.","Útiles y materiales de resguardo y seguridad",0,672632.46,672632.46,0]
[3.1,"5.1.3.99.06.00.0.99999","Útiles y materiales de resguardo y seguridad",0,672632.46,672632.46,0]
[3.1,"5.1.3.99.99.","Otros útiles, materiales y suministros diversos",0,4873450,0,4873450]
[3.1,"5.1.3.99.99.00.","Otros útiles, materiales y suministros diversos",0,4873450,0,4873450]
[3.1,"5.1.3.99.99.00.0.","Otros útiles, materiales y suministros diversos",0,4873450,0,4873450]
[3.1,"5.1.3.99.99.00.0.99999","Otros útiles, materiales y suministros diversos",0,4873450,0,4873450]
[3.1,"5.1.4.","Consumo de bienes distintos de inventarios",0,197195697.56,587285.65,196608411.91]
[3.1,"5.1.4.01.","Consumo de bienes no concesionados",0,197195697.56,587285.65,196608411.91]
[3.1,"5.1.4.01.01.","Depreciaciones de propiedades, planta y equipos explotados",0,197195697.56,587285.65,196608411.91]
[3.1,"5.1.4.01.01.02.","Depreciación de edificios",0,117620174.51000001,0,117620174.51000001]
[3.1,"5.1.4.01.01.02.0.","Depreciación de edificios",0,117620174.51000001,0,117620174.51000001]
[3.1,"5.1.4.01.01.02.0.99999","Depreciación de edificios",0,117620174.51000001,0,117620174.51000001]
[3.1,"5.1.4.01.01.03.","Depreciaciones de maquinaria y equipos para la producción",0,63951371.710000001,86494.75,63864876.960000001]
[3.1,"5.1.4.01.01.03.0.","Depreciaciones de maquinaria y equipos para la producción",0,63951371.710000001,86494.75,63864876.960000001]
[3.1,"5.1.4.01.01.03.0.99999","Depreciaciones de maquinaria y equipos para la producción",0,63951371.710000001,86494.75,63864876.960000001]
[3.1,"5.1.4.01.01.04.","Depreciaciones de equipos de transporte, tracción y elevación",0,5219391.1100000003,45500,5173891.1100000003]
[3.1,"5.1.4.01.01.04.0.","Depreciaciones de equipos de transporte, tracción y elevación",0,5219391.1100000003,45500,5173891.1100000003]
[3.1,"5.1.4.01.01.04.0.99999","Depreciaciones de equipos de transporte, tracción y elevación",0,5219391.1100000003,45500,5173891.1100000003]
[3.1,"5.1.4.01.01.05.","Depreciaciones de equipos de comunicación",0,1395913.2,0,1395913.2]
[3.1,"5.1.4.01.01.05.0.","Depreciaciones de equipos de comunicación",0,1395913.2,0,1395913.2]
[3.1,"5.1.4.01.01.05.0.99999","Depreciaciones de equipos de comunicación",0,1395913.2,0,1395913.2]
[3.1,"5.1.4.01.01.06.","Depreciaciones de equipos y mobiliario de oficina",0,2757460.72,186149.74,2571310.98]
[3.1,"5.1.4.01.01.06.0.","Depreciaciones de equipos y mobiliario de oficina",0,2757460.72,186149.74,2571310.98]
[3.1,"5.1.4.01.01.06.0.99999","Depreciaciones de equipos y mobiliario de oficina",0,2757460.72,186149.74,2571310.98]
[3.1,"5.1.4.01.01.07.","Depreciaciones de equipos para computación",0,5389452.54,0,5389452.54]
[3.1,"5.1.4.01.01.07.0.","Depreciaciones de equipos para computación",0,5389452.54,0,5389452.54]
[3.1,"5.1.4.01.01.07.0.99999","Depreciaciones de equipos para computación",0,5389452.54,0,5389452.54]
[3.1,"5.1.4.01.01.09.","Depreciaciones de equipos y mobiliario educacional, deportivo y recreativo",0,0,0,0]
[3.1,"5.1.4.01.01.09.0.","Depreciaciones de equipos y mobiliario educacional, deportivo y recreativo",0,0,0,0]
[3.1,"5.1.4.01.01.09.0.99999","Depreciaciones de equipos y mobiliario educacional, deportivo y recreativo",0,0,0,0]
[3.1,"5.1.4.01.01.10.","Depreciaciones de equipos de seguridad, orden, vigilancia y control público",0,75920.81,0,75920.81]
[3.1,"5.1.4.01.01.10.0.","Depreciaciones de equipos de seguridad, orden, vigilancia y control público",0,75920.81,0,75920.81]
[3.1,"5.1.4.01.01.10.0.99999","Depreciaciones de equipos de seguridad, orden, vigilancia y control público",0,75920.81,0,75920.81]
[3.1,"5.1.4.01.01.99.","Depreciac maquinaria, equipo y mobiliar diverso",0,786012.96,269141.15999999997,516871.8]
[3.1,"5.1.4.01.01.99.0.","Depreciac maquinaria, equipo y mobiliar diverso",0,786012.96,269141.15999999997,516871.8]
[3.1,"5.1.4.01.01.99.0.99999","Depreciac maquinaria, equipo y mobiliar diverso",0,786012.96,269141.15999999997,516871.8]
[3.1,"5.1.4.01.04.","Depreciaciones de bienes de infraestructura y de beneficio y uso público en servicio",0,0,0,0]
[3.1,"5.1.4.01.04.01.","Depreciaciones de vías de comunicación terrestre",0,0,0,0]
[3.1,"5.1.4.01.04.01.0.","Depreciaciones de vías de comunicación terrestre",0,0,0,0]
[3.1,"5.1.4.01.04.01.0.99999","Depreciaciones de vías de comunicación terrestre",0,0,0,0]
[3.1,"5.1.4.01.08.","Amortizaciones de bienes intangibles no concesionados",0,0,0,0]
[3.1,"5.1.4.01.08.99.","Amortizaciones de otros bienes intangibles",0,0,0,0]
[3.1,"5.1.4.01.08.99.0.","Amortizaciones de otros bienes intangibles",0,0,0,0]
[3.1,"5.1.4.01.08.99.0.99999","Amortizaciones de otros bienes intangibles",0,0,0,0]
[3.1,"5.1.7.","Deterioro de inversiones y cuentas a cobrar",0,0,0,0]
[3.1,"5.1.7.02.","Deterioro de cuentas a cobrar",0,0,0,0]
[3.1,"5.1.7.02.01.","Deterioro por impuestos a cobrar",0,0,0,0]
[3.1,"5.1.7.02.01.02.","Deterioro por impuestos sobre la propiedad a cobrar",0,0,0,0]
[3.1,"5.1.7.02.01.02.0.","Deterioro por impuestos sobre la propiedad a cobrar",0,0,0,0]
[3.1,"5.1.7.02.01.02.0.99999","Deterioro por impuestos sobre la propiedad a cobrar",0,0,0,0]
[3.1,"5.1.7.02.01.03.","Deterioro por impuestos sobre bienes y servicios a cobrar",0,0,0,0]
[3.1,"5.1.7.02.01.03.0.","Deterioro por impuestos sobre bienes y servicios a cobrar",0,0,0,0]
[3.1,"5.1.7.02.01.03.0.99999","Deterioro por impuestos sobre bienes y servicios a cobrar",0,0,0,0]
[3.1,"5.1.7.02.01.99.","Deterioro por otros impuestos a cobrar",0,0,0,0]
[3.1,"5.1.7.02.01.99.0.","Deterioro por otros impuestos a cobrar",0,0,0,0]
[3.1,"5.1.7.02.01.99.0.99999","Deterioro por otros impuestos a cobrar",0,0,0,0]
[3.1,"5.1.7.02.04.","Deterioro por servicios y derechos a cobrar",0,0,0,0]
[3.1,"5.1.7.02.04.01.","Deterioro por ventas de servicios a cobrar",0,0,0,0]
[3.1,"5.1.7.02.04.01.0.","Deterioro por ventas de servicios a cobrar",0,0,0,0]
[3.1,"5.1.7.02.04.01.0.99999","Deterioro por ventas de servicios a cobrar",0,0,0,0]
[3.1,"5.1.7.02.04.02.","Deterioro por derechos administrativos a cobrar",0,0,0,0]
[3.1,"5.1.7.02.04.02.0.","Deterioro por derechos administrativos a cobrar",0,0,0,0]
[3.1,"5.1.7.02.04.02.0.99999","Deterioro por derechos administrativos a cobrar",0,0,0,0]
[3.1,"5.1.7.02.05.","Deterioro por ingresos de la propiedad a cobrar",0,0,0,0]
[3.1,"5.1.7.02.05.01.","Deterioro por alquileres y derechos sobre bienes a cobrar",0,0,0,0]
[3.1,"5.1.7.02.05.01.0.","Deterioro por alquileres y derechos sobre bienes a cobrar",0,0,0,0]
[3.1,"5.1.7.02.05.01.0.99999","Deterioro por alquileres y derechos sobre bienes a cobrar",0,0,0,0]
[3.1,"5.1.8.","Cargos por provisiones y reservas técnicas",0,181500,0,181500]
[3.1,"5.1.8.01.","Cargos por litigios y demandas",0,181500,0,181500]
[3.1,"5.1.8.01.99.","Cargos por otros litigios y demandas",0,181500,0,181500]
[3.1,"5.1.8.01.99.00.","Cargos por otros litigios y demandas",0,181500,0,181500]
[3.1,"5.1.8.01.99.00.0.","Cargos por otros litigios y demandas",0,181500,0,181500]
[3.1,"5.1.8.01.99.00.0.99999","Cargos por otros litigios y demandas",0,181500,0,181500]
[3.1,"5.2.","Gastos financieros",0,56507799.619999997,0,56507799.619999997]
[3.1,"5.2.1.","Intereses sobre endeudamiento público",0,56507799.619999997,0,56507799.619999997]
[3.1,"5.2.1.02.","Intereses sobre préstamos",0,56507799.619999997,0,56507799.619999997]
[3.1,"5.2.1.02.02.","Intereses sobre préstamos del sector público interno",0,56507799.619999997,0,56507799.619999997]
[3.1,"5.2.1.02.02.02.","Intereses sobre préstamos de Órganos Desconcentrados",0,0,0,0]
[3.1,"5.2.1.02.02.02.0.","Intereses sobre préstamos de Órganos Desconcentrados",0,0,0,0]
[3.1,"5.2.1.02.02.02.0.99999","Intereses sobre préstamos de Órganos Desconcentrados",0,0,0,0]
[3.1,"5.2.1.02.02.03.","Intereses sobre préstamos de Instituciones Descentralizadas no Empresariales",0,0,0,0]
[3.1,"5.2.1.02.02.03.0.","Intereses sobre préstamos de Instituciones Descentralizadas no Empresariales",0,0,0,0]
[3.1,"5.2.1.02.02.03.0.99999","Intereses sobre préstamos de Instituciones Descentralizadas no Empresariales",0,0,0,0]
[3.1,"5.2.1.02.02.99.","Intereses sobre préstamos de Otras Instituciones de Gobiernos Locales",0,56507799.619999997,0,56507799.619999997]
[3.1,"5.2.1.02.02.99.0.","Intereses sobre préstamos de Otras Instituciones de Gobiernos Locales",0,56507799.619999997,0,56507799.619999997]
[3.1,"5.2.1.02.02.99.0.14226","Instito de Fomento y Asesoria Municipal IFAM",0,56507799.619999997,0,56507799.619999997]
[3.1,"5.4.","Transferencias",0,76599786.629999995,15896111.73,60703674.899999999]
[3.1,"5.4.1.","Transferencias corrientes",0,76599786.629999995,15896111.73,60703674.899999999]
[3.1,"5.4.1.01.","Transferencias corrientes al sector privado interno",0,7503245.5599999996,0,7503245.5599999996]
[3.1,"5.4.1.01.01.","Transferencias corrientes a personas",0,5662221.3600000003,0,5662221.3600000003]
[3.1,"5.4.1.01.01.01.","Prestaciones",0,2749212.36,0,2749212.36]
[3.1,"5.4.1.01.01.01.1.","Pensiones y jubilaciones contributivas",0,1517346.17,0,1517346.17]
[3.1,"5.4.1.01.01.01.1.99999","Pensiones y jubilaciones contributivas",0,1517346.17,0,1517346.17]
[3.1,"5.4.1.01.01.01.9.","Otras prestaciones",0,1231866.19,0,1231866.19]
[3.1,"5.4.1.01.01.01.9.99999","Otras prestaciones",0,1231866.19,0,1231866.19]
[3.1,"5.4.1.01.01.99.","Otras transferencias corrientes a personas",0,2913009,0,2913009]
[3.1,"5.4.1.01.01.99.0.","Otras transferencias corrientes a personas",0,2913009,0,2913009]
[3.1,"5.4.1.01.01.99.0.99999","Otras transferencias corrientes a personas",0,2913009,0,2913009]
[3.1,"5.4.1.01.02.","Transferencias corrientes a entidades del sector privado interno",0,1841024.2,0,1841024.2]
[3.1,"5.4.1.01.02.01.","Transferencias corrientes a entidades privadas sin fines de lucro",0,1841024.2,0,1841024.2]
[3.1,"5.4.1.01.02.01.1.","Transferencias corrientes a asociaciones",0,0,0,0]
[3.1,"5.4.1.01.02.01.1.99999","Transferencias corrientes a asociaciones",0,0,0,0]
[3.1,"5.4.1.01.02.01.9.","Transferencias corrientes a otras entidades privadas sin fines de lucro",0,1841024.2,0,1841024.2]
[3.1,"5.4.1.01.02.01.9.99999","Transferencias corrientes a otras entidades privadas sin fines de lucro",0,1841024.2,0,1841024.2]
[3.1,"5.4.1.02.","Transferencias corrientes al sector público interno",0,69096541.069999993,15896111.73,53200429.340000004]
[3.1,"5.4.1.02.01.","Transferencias corrientes al Gobierno Central",0,2837301.02,0,2837301.02]
[3.1,"5.4.1.02.01.01.","Donaciones corrientes al Gobierno Central",0,0,0,0]
[3.1,"5.4.1.02.01.01.0.","Donaciones corrientes al Gobierno Central",0,0,0,0]
[3.1,"5.4.1.02.01.01.0.12908","Sistema Nacional de Áreas de Conservación (SINAC)",0,0,0,0]
[3.1,"5.4.1.02.01.06.","Transferencias corrientes al Gobierno Central",0,2830545.02,0,2830545.02]
[3.1,"5.4.1.02.01.06.0.","Transferencias corrientes al Gobierno Central",0,2830545.02,0,2830545.02]
[3.1,"5.4.1.02.01.06.0.11206","Transferencias corrientes al Gobierno Central",0,1868653.74,0,1868653.74]
[3.1,"5.4.1.02.01.06.0.11219","Ministerio de Ambiente, Energía y Telecomunicaciones (MINAET)",0,961891.28,0,961891.28]
[3.1,"5.4.1.02.01.06.0.99999","Transferencias corrientes al Gobierno Central",0,0,0,0]
[3.1,"5.4.1.02.01.99.","Otras transferencias corrientes al Gobierno Central",0,6756,0,6756]
[3.1,"5.4.1.02.01.99.0.","Otras transferencias corrientes al Gobierno Central",0,6756,0,6756]
[3.1,"5.4.1.02.01.99.0.11210","Transferencias corrientes a Instituciones del MEP",0,6756,0,6756]
[3.1,"5.4.1.02.02.","Transferencias corrientes a Órganos Desconcentrados",0,7996061.1299999999,1259176.28,6736884.8499999996]
[3.1,"5.4.1.02.02.06.","Transferencias corrientes a Órganos Desconcentrados",0,7996061.1299999999,1259176.28,6736884.8499999996]
[3.1,"5.4.1.02.02.06.0.","Transferencias corrientes a Órganos Desconcentrados",0,7996061.1299999999,1259176.28,6736884.8499999996]
[3.1,"5.4.1.02.02.06.0.11219","Ministerio de Ambiente, Energía y Telecomunicaciones (MINAET)",0,961891.28,961891.28,0]
[3.1,"5.4.1.02.02.06.0.12553","Comision Nacional para la Gestión de la Biodiversidad (CONAGEBIO)",0,152681.16,0,152681.16]
[3.1,"5.4.1.02.02.06.0.12581","Consejo Nacional de Personas con Discapacidad - CONAPDIS",0,2251836.2200000002,0,2251836.2200000002]
[3.1,"5.4.1.02.02.06.0.12700","Devolución de recursos Red de Cuido",0,0,0,0]
[3.1,"5.4.1.02.02.06.0.12784","Junta Administrativa del Registro Nacional",0,4629652.4700000007,297285,4332367.4700000007]
[3.1,"5.4.1.02.02.06.0.12908","Sistema Nacional de Areas de Conservación (SINART)",0,0,0,0]
[3.1,"5.4.1.02.02.06.0.99999","Transferencias corrientes a Órganos Desconcentrados",0,0,0,0]
[3.1,"5.4.1.02.03.","Transferencias corrientes a Instituciones Descentralizadas no Empresariales",0,28989308.02,0,28989308.02]
[3.1,"5.4.1.02.03.06.","Transferencias corrientes a Instituciones Descentralizadas no Empresariales",0,28989308.02,0,28989308.02]
[3.1,"5.4.1.02.03.06.0.","Transferencias corrientes a Instituciones Descentralizadas no Empresariales",0,28989308.02,0,28989308.02]
[3.1,"5.4.1.02.03.06.0.14120","Transferenias a Caja Costarricese de seguro social (Ebais )",0,0,0,0]
[3.1,"5.4.1.02.03.06.0.14253","Transferencias corrientes a Instituciones Descentralizadas no Empresariales",0,28989308.02,0,28989308.02]
[3.1,"5.4.1.02.03.06.0.99999","Transferencias corrientes a Instituciones Descentralizadas no Empresariales",0,0,0,0]
[3.1,"5.4.1.02.04.","Transferencias corrientes a Gobiernos Locales",0,14636935.449999999,14636935.449999999,0]
[3.1,"5.4.1.02.04.06.","Transferencias corrientes a Gobiernos Locales",0,14636935.449999999,14636935.449999999,0]
[3.1,"5.4.1.02.04.06.0.","Transferencias corrientes a Gobiernos Locales",0,14636935.449999999,14636935.449999999,0]
[3.1,"5.4.1.02.04.06.0.15910","Comités Cantonales de Deportes y Recreación",0,13511017.34,13511017.34,0]
[3.1,"5.4.1.02.04.06.0.15933","Federacion de Municipalidades de la Región sur de la Provincia de Puntarenas(FEDEMSUR)",0,0,0,0]
[3.1,"5.4.1.02.04.06.0.15980","Unión Nacional de Gobiernos Locales",0,1125918.1100000001,1125918.1100000001,0]
[3.1,"5.4.1.02.04.06.0.99999","Transferencias corrientes a Gobiernos Locales",0,0,0,0]
[3.1,"5.4.1.02.99.","Transferencias corrientes a otras Instituciones de Gobiernos Locales",0,14636935.449999999,0,14636935.449999999]
[3.1,"5.4.1.02.99.06.","Transferencias corrientes a otras Instituciones de Gobiernos Locales",0,14636935.449999999,0,14636935.449999999]
[3.1,"5.4.1.02.99.06.0.","Transferencias corrientes a otras Instituciones de Gobiernos Locales",0,14636935.449999999,0,14636935.449999999]
[3.1,"5.4.1.02.99.06.0.15910","Comités Cantonales de Deportes y Recreación",0,13511017.34,0,13511017.34]
[3.1,"5.4.1.02.99.06.0.15980","Unión Nacional de Gobiernos Locales",0,1125918.1100000001,0,1125918.1100000001]
[3.1,"5.9.","Otros gastos",0,9715941.0299999993,0,9715941.0299999993]
[3.1,"5.9.1.","Resultados negativos por tenencia y por exposición a la inflación",0,9715941,0,9715941]
[3.1,"5.9.1.02.","Diferencias de cambio negativas por pasivos",0,9715941,0,9715941]
[3.1,"5.9.1.02.01.","Diferencias de cambio negativas por deudas",0,9715941,0,9715941]
[3.1,"5.9.1.02.01.01.","Diferencias de cambio negativas por deudas comerciales",0,9715941,0,9715941]
[3.1,"5.9.1.02.01.01.2.","Diferencias de cambio negativas por deudas por adquisición de bienes distintos de inventarios",0,9715941,0,9715941]
[3.1,"5.9.1.02.01.01.2.99999","Diferencias de cambio negativas por deudas por adquisición de bienes distintos de inventarios",0,9715941,0,9715941]
[3.1,"5.9.9.","Otros gastos y resultados negativos",0,0.03,0,0.03]
[3.1,"5.9.9.02.","Impuestos, multas y recargos moratorios",0,0,0,0]
[3.1,"5.9.9.02.03.","Recargos moratorios por impuestos",0,0,0,0]
[3.1,"5.9.9.02.03.00.","Recargos moratorios por impuestos",0,0,0,0]
[3.1,"5.9.9.02.03.00.0.","Recargos moratorios por impuestos",0,0,0,0]
[3.1,"5.9.9.02.03.00.0.99999","Recargos moratorios por impuestos",0,0,0,0]
[3.1,"5.9.9.99.","Gastos y resultados negativos varios",0,0.03,0,0.03]
[3.1,"5.9.9.99.02.","Descuentos y comisiones otorgadas",0,0,0,0]
[3.1,"5.9.9.99.02.00.","Descuentos y comisiones otorgadas",0,0,0,0]
[3.1,"5.9.9.99.02.00.0.","Descuentos y comisiones otorgadas",0,0,0,0]
[3.1,"5.9.9.99.02.00.0.99999","Descuentos y comisiones otorgadas",0,0,0,0]
[3.1,"5.9.9.99.99.","Otros resultados negativos",0,0.03,0,0.03]
[3.1,"5.9.9.99.99.00.","Otros resultados negativos",0,0.03,0,0.03]
[3.1,"5.9.9.99.99.00.0.","Otros resultados negativos",0,0.03,0,0.03]
[3.1,"5.9.9.99.99.00.0.99999","Otros resultados negativos",0,0.03,0,0.03]

{"sheet":"EEFF_SITUACION","index":3,"n_rows":183,"n_cols":12,"rows_kept":183,"cut":false,"hidden":false,"merged":[[0,0,0,4],[1,0,1,4],[2,0,2,4],[3,0,3,4],[0,6,0,9],[1,6,1,9],[2,6,2,9],[3,6,3,9]]}
[{"$f":"DATOS!D13","v":"Municipalidad de Buenos Aires"}]
["Estado de Situación Financiera o Balance General",null,null,null,null,null,"Estado de Situación Financiera o Balance General"]
[{"$f":"DATOS!D15&\" \"&RIGHT(D6,4)","v":"Del 01 de Enero al 30 de Junio 2024"},null,null,null,null,null,"Análisis de Variaciones"]
["- En miles de colones -",null,null,null,null,null,{"$f":"DATOS!D15&\" \"&RIGHT(D6,4)","v":"Del 01 de Enero al 30 de Junio 2024"}]
[]
["Cuenta","Descripción","Nota",{"$f":"PROPER(DATOS!D17)","v":"Junio 2024"},{"$f":"PROPER(DATOS!D18)","v":"Junio 2023"},null,"Análisis Vertical (%) Periodo Actual","Análisis Vertical (%) Periodo Anterior","Monto Variación\nAbsoluta"," Variación relativa (%)"]
[]
["1.","ACTIVO"]
["1.1.","Activo Corriente"]
["1.1.1.","Efectivo y equivalentes de efectivo","03",{"$f":"SUM(D11:D12)","v":1873754.8283600002},{"$f":"SUM(E11:E12)","v":2221962.6035000002},null,{"$f":"IFERROR(D10/$D$91,0)","v":1.115437188935316E-2},{"$f":"IFERROR(E10/$E$91,0)","v":1.324324910996269E-2},{"$f":"IFERROR(D10-E10,0)","v":-348207.77514000004},{"$f":"IFERROR(I10/E10,0)","v":-0.15671180720661484},null,{"$f":"\"La\"&\" \"&\"cuenta\"&\" \"&B10&\",\"&\" \"&\"representa\"&\" \"&\"el\"&\" \"&TEXT(G10,\"0,00%\")&\" \"&\"del\"&\" \"&\"total\"&\" \"&\"del\"&\" \"&IF(MID(A10,1,2)=\"1.\",\"Activo\",IF(MID(A10,1,2)=\"2.\",\"Pasivo\",IF(MID(A10,1,2)=\"3.\",\"Capital\",IF(MID(A10,1,2)=\"4.\",\"Ingresos\",IF(MID(A10,1,2)=\"5.\",\"Gastos\",\"\")))))&\",\"&\" \"&\"que\"&\" \"&\"comparado\"&\" \"&\"al\"&\" \"&\"periodo\"&\" \"&\"anterior\"&\" \"&\"genera\"&\" \"&\"una\"&\" \"&\"variación\"&\" \"&\"absoluta\"&\" \"&\"de\"&\" \"&TEXT(I10,\"0 000,00\")&\" \"&\"que\"&\" \"&\"corresponde\"&\" \"&\"a\"&\" \"&\"un\"&\" \"&IF(I10<0,\"Disminución\",\"Aumento\")&\" \"&\"del\"&\" \"&TEXT(J10,\"0,00%\")&\" \"&\"de\"&\" \"&\"recursos\"&\" \"&\"disponibles\"&\".\"","v":"La cuenta Efectivo y equivalentes de efectivo, representa el 1,12% del total del Activo, que comparado al periodo anterior genera una variación absoluta de -348 207,78 que corresponde a un Disminución del -15,67% de recursos disponibles."}]
["1.1.1.01.","Efectivo",null,{"$f":"IFERROR(VLOOKUP(A11,BC_ACTUAL!B:G,6,0)/1000,0)","v":1234441.1176800001},{"$f":"IFERROR(VLOOKUP(A11,BC_ANTERIOR!B:G,6,0)/1000,0)","v":1759605.27896},null,{"$f":"IFERROR(D11/$D$91,0)","v":7.3485682831638862E-3},{"$f":"IFERROR(E11/$E$91,0)","v":1.04875262111821E-2},{"$f":"IFERROR(D11-E11,0)","v":-525164.16127999988},{"$f":"IFERROR(I11/E11,0)","v":-0.29845566364201509},null,{"$f":"\"La\"&\" \"&\"cuenta\"&\" \"&B11&\",\"&\" \"&\"representa\"&\" \"&\"el\"&\" \"&TEXT(G11,\"0,00%\")&\" \"&\"del\"&\" \"&\"total\"&\" \"&\"del\"&\" \"&IF(MID(A11,1,2)=\"1.\",\"Activo\",IF(MID(A11,1,2)=\"2.\",\"Pasivo\",IF(MID(A11,1,2)=\"3.\",\"Capital\",IF(MID(A11,1,2)=\"4.\",\"Ingresos\",IF(MID(A11,1,2)=\"5.\",\"Gastos\",\"\")))))&\",\"&\" \"&\"que\"&\" \"&\"comparado\"&\" \"&\"al\"&\" \"&\"periodo\"&\" \"&\"anterior\"&\" \"&\"genera\"&\" \"&\"una\"&\" \"&\"variación\"&\" \"&\"absoluta\"&\" \"&\"de\"&\" \"&TEXT(I11,\"0 000,00\")&\" \"&\"que\"&\" \"&\"corresponde\"&\" \"&\"a\"&\" \"&\"un\"&\" \"&IF(I11<0,\"Disminución\",\"Aumento\")&\" \"&\"del\"&\" \"&TEXT(J11,\"0,00%\")&\" \"&\"de\"&\" \"&\"recursos\"&\" \"&\"disponibles\"&\".\"","v":"La cuenta Efectivo, representa el 0,73% del total del Activo, que comparado al periodo anterior genera una variación absoluta de -525 164,16 que corresponde a un Disminución del -29,85% de recursos disponibles."}]
["1.1.1.02.","Equivalentes de efectivo",null,{"$f":"IFERROR(VLOOKUP(A12,BC_ACTUAL!B:G,6,0)/1000,0)","v":639313.7106799999},{"$f":"IFERROR(VLOOKUP(A12,BC_ANTERIOR!B:G,6,0)/1000,0)","v":462357.32454},null,3.8058036061892724E-3,2.7557228987805894E-3,176956.3861399999,0.3827264687891645,null,"La cuenta Equivalentes de efectivo, representa el 0,38% del total del Activo, que comparado al periodo anterior genera una variación absoluta de 176 956,39 que corresponde a un Aumento del 38,27% de recursos disponibles."]
["1.1.2.","Inversiones a corto plazo","04",{"$f":"SUM(D14:D18)","v":0},{"$f":"SUM(E14:E18)","v":0},null,0,0,0,0,null,"La cuenta Inversiones a corto plazo, representa el 0,00% del total del Activo, que comparado al periodo anterior genera una variación absoluta de 0 000,00 que corresponde a un Aumento del 0,00% de recursos disponibles."]
["1.1.2.01.","Títulos y valores a valor razonable a corto plazo",null,{"$f":"IFERROR(VLOOKUP(A14,BC_ACTUAL!B:G,6,0)/1000,0)","v":0},{"$f":"IFERROR(VLOOKUP(A14,BC_ANTERIOR!B:G,6,0)/1000,0)","v":0},null,0,0,0,{"$f":"IFERROR(I14/E14,0)","v":0},null,"La cuenta Títulos y valores a valor razonable a corto plazo, representa el 0,00% del total del Activo, que comparado al periodo anterior genera una variación absoluta de 0 000,00 que corresponde a un Aumento del 0,00% de recursos disponibles."]
["1.1.2.02.","Títulos y valores a costo amortizado a corto plazo",null,{"$f":"IFERROR(VLOOKUP(A15,BC_ACTUAL!B:G,6,0)/1000,0)","v":0},{"$f":"IFERROR(VLOOKUP(A15,BC_ANTERIOR!B:G,6,0)/1000,0)","v":0},null,0,0,0,0,null,"La cuenta Títulos y valores a costo amortizado a corto plazo, representa el 0,00% del total del Activo, que comparado al periodo anterior genera una variación absoluta de 0 000,00 que corresponde a un Aumento del 0,00% de recursos disponibles."]
["1.1.2.03.","Instrumentos Derivados a corto plazo",null,{"$f":"IFERROR(VLOOKUP(A16,BC_ACTUAL!B:G,6,0)/1000,0)","v":0},{"$f":"IFERROR(VLOOKUP(A16,BC_ANTERIOR!B:G,6,0)/1000,0)","v":0},null,0,0,0,0,null,"La cuenta Instrumentos Derivados a corto plazo, representa el 0,00% del total del Activo, que comparado al periodo anterior genera una variación absoluta de 0 000,00 que corresponde a un Aumento del 0,00% de recursos disponibles."]
["1.1.2.98.","Otras inversiones a corto plazo",null,{"$f":"IFERROR(VLOOKUP(A17,BC_ACTUAL!B:G,6,0)/1000,0)","v":0},{"$f":"IFERROR(VLOOKUP(A17,BC_ANTERIOR!B:G,6,0)/1000,0)","v":0},null,0,0,0,0,null,"La cuenta Otras inversiones a corto plazo, representa el 0,00% del total del Activo, que comparado al periodo anterior genera una variación absoluta de 0 000,00 que corresponde a un Aumento del 0,00% de recursos disponibles."]
["1.1.2.99.","Previsiones para deterioro de inversiones a corto plazo *",null,{"$f":"IFERROR(VLOOKUP(A18,BC_ACTUAL!B:G,6,0)/1000,0)","v":0},{"$f":"IFERROR(VLOOKUP(A18,BC_ANTERIOR!B:G,6,0)/1000,0)","v":0},null,0,0,0,0,null,"La cuenta Previsiones para deterioro de inversiones a corto plazo *, representa el 0,00% del total del Activo, que comparado al periodo anterior genera una variación absoluta de 0 000,00 que corresponde a un Aumento del 0,00% de recursos disponibles."]
["1.1.3.","Cuentas a cobrar a corto plazo","05",{"$f":"SUM(D20:D36)","v":2685853.53541},{"$f":"SUM(E20:E36)","v":2661314.9290899998},null,1.5988756224056624E-2,1.5861858570655082E-2,24538.606320000254,9.2204819699376554E-3,null,"La cuenta Cuentas a cobrar a corto plazo, representa el 1,60% del total del Activo, que comparado al periodo anterior genera una variación absoluta de 24 538,61 que corresponde a un Aumento del 0,92% de recursos disponibles."]
["1.1.3.01.","Impuestos a cobrar a corto plazo",null,{"$f":"IFERROR(VLOOKUP(A20,BC_ACTUAL!B:G,6,0)/1000,0)","v":410847.78843000002},{"$f":"IFERROR(VLOOKUP(A20,BC_ANTERIOR!B:G,6,0)/1000,0)","v":437256.42749999999},null,2.445757018316824E-3,2.606117576053453E-3,-26408.639069999976,-6.0396228412216937E-2,null,"La cuenta Impuestos a cobrar a corto plazo, representa el 0,24% del total del Activo, que comparado al periodo anterior genera una variación absoluta de -26 408,64 que corresponde a un Disminución del -6,04% de recursos disponibles."]
["1.1.3.02.","Contribuciones sociales a cobrar a corto plazo",null,{"$f":"IFERROR(VLOOKUP(A21,BC_ACTUAL!B:G,6,0)/1000,0)","v":0},{"$f":"IFERROR(VLOOKUP(A21,BC_ANTERIOR!B:G,6,0)/1000,0)","v":0},null,0,0,0,0,null,"La cuenta Contribuciones sociales a cobrar a corto plazo, representa el 0,00% del total del Activo, que comparado al periodo anterior genera una variación absoluta de 0 000,00 que corresponde a un Aumento del 0,00% de recursos disponibles."]
["1.1.3.03.","Ventas a cobrar a corto plazo",null,{"$f":"IFERROR(VLOOKUP(A22,BC_ACTUAL!B:G,6,0)/1000,0)","v":0},{"$f":"IFERROR(VLOOKUP(A22,BC_ANTERIOR!B:G,6,0)/1000,0)","v":0},null,0,0,0,0,null,"La cuenta Ventas a cobrar a corto plazo, representa el 0,00% del total del Activo, que comparado al periodo anterior genera una variación absoluta de 0 000,00 que corresponde a un Aumento del 0,00% de recursos disponibles."]
["1.1.3.04.","Servicios y derechos a cobrar a corto plazo",null,{"$f":"IFERROR(VLOOKUP(A23,BC_ACTUAL!B:G,6,0)/1000,0)","v":242141.70146000001},{"$f":"IFERROR(VLOOKUP(A23,BC_ANTERIOR!B:G,6,0)/1000,0)","v":169855.71175999998},null,1.441457840228521E-3,1.0123669498507376E-3,72285.989700000035,0.42557291097833405,null,"La cuenta Servicios y derechos a cobrar a corto plazo, representa el 0,14% del total del Activo, que comparado al periodo anterior genera una variación absoluta de 72 285,99 que corresponde a un Aumento del 42,56% de recursos disponibles."]
["1.1.3.05.","Ingresos de la propiedad a cobrar a corto plazo",null,{"$f":"IFERROR(VLOOKUP(A24,BC_ACTUAL!B:G,6,0)/1000,0)","v":0},{"$f":"IFERROR(VLOOKUP(A24,BC_ANTERIOR!B:G,6,0)/1000,0)","v":0},null,0,0,0,0,null,"La cuenta Ingresos de la propiedad a cobrar a corto plazo, representa el 0,00% del total del Activo, que comparado al periodo anterior genera una variación absoluta de 0 000,00 que corresponde a un Aumento del 0,00% de recursos disponibles."]
["1.1.3.06.","Transferencias a cobrar a corto plazo",null,{"$f":"IFERROR(VLOOKUP(A25,BC_ACTUAL!B:G,6,0)/1000,0)","v":2204743.3242899999},{"$f":"IFERROR(VLOOKUP(A25,BC_ANTERIOR!B:G,6,0)/1000,0)","v":2225292.2696999996},null,1.3124730400947903E-2,1.3263094447985102E-2,-20548.945409999695,-9.2342680958353296E-3,null,"La cuenta Transferencias a cobrar a corto plazo, representa el 1,31% del total del Activo, que comparado al periodo anterior genera una variación absoluta de -20 548,95 que corresponde a un Disminución del -0,92% de recursos disponibles."]
["1.1.3.07.","Préstamos a corto plazo",null,{"$f":"IFERROR(VLOOKUP(A26,BC_ACTUAL!B:G,6,0)/1000,0)","v":0},{"$f":"IFERROR(VLOOKUP(A26,BC_ANTERIOR!B:G,6,0)/1000,0)","v":0},null,0,0,0,0,null,"La cuenta Préstamos a corto plazo, representa el 0,00% del total del Activo, que comparado al periodo anterior genera una variación absoluta de 0 000,00 que corresponde a un Aumento del 0,00% de recursos disponibles."]
["1.1.3.08.","Documentos a cobrar a corto plazo",null,{"$f":"IFERROR(VLOOKUP(A27,BC_ACTUAL!B:G,6,0)/1000,0)","v":0},{"$f":"IFERROR(VLOOKUP(A27,BC_ANTERIOR!B:G,6,0)/1000,0)","v":0},null,0,0,0,0,null,"La cuenta Documentos a cobrar a corto plazo, representa el 0,00% del total del Activo, que comparado al periodo anterior genera una variación absoluta de 0 000,00 que corresponde a un Aumento del 0,00% de recursos disponibles."]
["1.1.3.09.","Anticipos a corto plazo",null,{"$f":"IFERROR(VLOOKUP(A28,BC_ACTUAL!B:G,6,0)/1000,0)","v":0},{"$f":"IFERROR(VLOOKUP(A28,BC_ANTERIOR!B:G,6,0)/1000,0)","v":0},null,0,0,0,0,null,"La cuenta Anticipos a corto plazo, representa el 0,00% del total del Activo, que comparado al periodo anterior genera una variación absoluta de 0 000,00 que corresponde a un Aumento del 0,00% de recursos disponibles."]
["1.1.3.10.","Deudores por avales ejecutados a corto plazo",null,{"$f":"IFERROR(VLOOKUP(A29,BC_ACTUAL!B:G,6,0)/1000,0)","v":0},{"$f":"IFERROR(VLOOKUP(A29,BC_ANTERIOR!B:G,6,0)/1000,0)","v":0},null,0,0,0,0,null,"La cuenta Deudores por avales ejecutados a corto plazo, representa el 0,00% del total del Activo, que comparado al periodo anterior genera una variación absoluta de 0 000,00 que corresponde a un Aumento del 0,00% de recursos disponibles."]
["1.1.3.11.","Planillas salariales",null,{"$f":"IFERROR(VLOOKUP(A30,BC_ACTUAL!B:G,6,0)/1000,0)","v":0},{"$f":"IFERROR(VLOOKUP(A30,BC_ANTERIOR!B:G,6,0)/1000,0)","v":0},null,0,0,0,0,null,"La cuenta Planillas salariales, representa el 0,00% del total del Activo, que comparado al periodo anterior genera una variación absoluta de 0 000,00 que corresponde a un Aumento del 0,00% de recursos disponibles."]
["1.1.3.12.","Beneficios Sociales",null,{"$f":"IFERROR(VLOOKUP(A31,BC_ACTUAL!B:G,6,0)/1000,0)","v":0},{"$f":"IFERROR(VLOOKUP(A31,BC_ANTERIOR!B:G,6,0)/1000,0)","v":0},null,0,0,0,0,null,"La cuenta Beneficios Sociales, representa el 0,00% del total del Activo, que comparado al periodo anterior genera una variación absoluta de 0 000,00 que corresponde a un Aumento del 0,00% de recursos disponibles."]
["1.1.3.13.","Cuentas por Cobrar Cajas Únicas",null,{"$f":"IFERROR(VLOOKUP(A32,BC_ACTUAL!B:G,6,0)/1000,0)","v":0},{"$f":"IFERROR(VLOOKUP(A32,BC_ANTERIOR!B:G,6,0)/1000,0)","v":0},null,0,0,0,0,null,"La cuenta Cuentas por Cobrar Cajas Únicas, representa el 0,00% del total del Activo, que comparado al periodo anterior genera una variación absoluta de 0 000,00 que corresponde a un Aumento del 0,00% de recursos disponibles."]
["1.1.3.50.","Registro transitorio de transacción de activo fijo",null,{"$f":"IFERROR(VLOOKUP(A33,BC_ACTUAL!B:G,6,0)/1000,0)","v":0},{"$f":"IFERROR(VLOOKUP(A33,BC_ANTERIOR!B:G,6,0)/1000,0)","v":0},null,0,0,0,0,null,"La cuenta Registro transitorio de transacción de activo fijo, representa el 0,00% del total del Activo, que comparado al periodo anterior genera una variación absoluta de 0 000,00 que corresponde a un Aumento del 0,00% de recursos disponibles."]
["1.1.3.97.","Cuentas a cobrar en gestión judicial",null,{"$f":"IFERROR(VLOOKUP(A34,BC_ACTUAL!B:G,6,0)/1000,0)","v":0},{"$f":"IFERROR(VLOOKUP(A34,BC_ANTERIOR!B:G,6,0)/1000,0)","v":0},null,0,0,0,0,null,"La cuenta Cuentas a cobrar en gestión judicial, representa el 0,00% del total del Activo, que comparado al periodo anterior genera una variación absoluta de 0 000,00 que corresponde a un Aumento del 0,00% de recursos disponibles."]
["1.1.3.98.","Otras cuentas a cobrar a corto plazo",null,{"$f":"IFERROR(VLOOKUP(A35,BC_ACTUAL!B:G,6,0)/1000,0)","v":3498.6186000000002},{"$f":"IFERROR(VLOOKUP(A35,BC_ANTERIOR!B:G,6,0)/1000,0)","v":4288.4174999999996},null,2.0827107352974541E-5,2.5559647651389204E-5,-789.79889999999932,-0.18417024461820691,null,"La cuenta Otras cuentas a cobrar a corto plazo, representa el 0,00% del total del Activo, que comparado al periodo anterior genera una variación absoluta de -0 789,80 que corresponde a un Disminución del -18,42% de recursos disponibles."]
["1.1.3.99.","Previsiones para deterioro de cuentas a cobrar a corto plazo *",null,{"$f":"IFERROR(VLOOKUP(A36,BC_ACTUAL!B:G,6,0)/1000,0)","v":-175377.89736999999},{"$f":"IFERROR(VLOOKUP(A36,BC_ANTERIOR!B:G,6,0)/1000,0)","v":-175377.89736999999},null,-1.0440161427895972E-3,-1.0452800508856E-3,0,0,null,"La cuenta Previsiones para deterioro de cuentas a cobrar a corto plazo *, representa el -0,10% del total del Activo, que comparado al periodo anterior genera una variación absoluta de 0 000,00 que corresponde a un Aumento del 0,00% de recursos disponibles."]
["1.1.4.","Inventarios","06",{"$f":"SUM(D38:D42)","v":194362.52791},{"$f":"SUM(E38:E42)","v":177192.02044999998},null,1.1570307304080189E-3,1.0560925118274398E-3,17170.507460000023,9.6903389985584565E-2,null,"La cuenta Inventarios, representa el 0,12% del total del Activo, que comparado al periodo anterior genera una variación absoluta de 17 170,51 que corresponde a un Aumento del 9,69% de recursos disponibles."]
["1.1.4.01.","Materiales y suministros para consumo y prestación de servicios",null,{"$f":"IFERROR(VLOOKUP(A38,BC_ACTUAL!B:G,6,0)/1000,0)","v":194362.52791},{"$f":"IFERROR(VLOOKUP(A38,BC_ANTERIOR!B:G,6,0)/1000,0)","v":177192.02044999998},null,1.1570307304080189E-3,1.0560925118274398E-3,17170.507460000023,9.6903389985584565E-2,null,"La cuenta Materiales y suministros para consumo y prestación de servicios, representa el 0,12% del total del Activo, que comparado al periodo anterior genera una variación absoluta de 17 170,51 que corresponde a un Aumento del 9,69% de recursos disponibles."]
["1.1.4.02.","Bienes para la venta",null,{"$f":"IFERROR(VLOOKUP(A39,BC_ACTUAL!B:G,6,0)/1000,0)","v":0},{"$f":"IFERROR(VLOOKUP(A39,BC_ANTERIOR!B:G,6,0)/1000,0)","v":0},null,0,0,0,0,null,"La cuenta Bienes para la venta, representa el 0,00% del total del Activo, que comparado al periodo anterior genera una variación absoluta de 0 000,00 que corresponde a un Aumento del 0,00% de recursos disponibles."]
["1.1.4.03.","Materias primas y bienes en producción",null,{"$f":"IFERROR(VLOOKUP(A40,BC_ACTUAL!B:G,6,0)/1000,0)","v":0},{"$f":"IFERROR(VLOOKUP(A40,BC_ANTERIOR!B:G,6,0)/1000,0)","v":0},null,0,0,0,0,null,"La cuenta Materias primas y bienes en producción, representa el 0,00% del total del Activo, que comparado al periodo anterior genera una variación absoluta de 0 000,00 que corresponde a un Aumento del 0,00% de recursos disponibles."]
["1.1.4.04.","Bienes a Transferir sin contraprestación - Donaciones",null,{"$f":"IFERROR(VLOOKUP(A41,BC_ACTUAL!B:G,6,0)/1000,0)","v":0},{"$f":"IFERROR(VLOOKUP(A41,BC_ANTERIOR!B:G,6,0)/1000,0)","v":0},null,0,0,0,0,null,"La cuenta Bienes a Transferir sin contraprestación - Donaciones, representa el 0,00% del total del Activo, que comparado al periodo anterior genera una variación absoluta de 0 000,00 que corresponde a un Aumento del 0,00% de recursos disponibles."]
["1.1.4.99.","Previsiones para deterioro y pérdidas de inventario *",null,{"$f":"IFERROR(VLOOKUP(A42,BC_ACTUAL!B:G,6,0)/1000,0)","v":0},{"$f":"IFERROR(VLOOKUP(A42,BC_ANTERIOR!B:G,6,0)/1000,0)","v":0},null,0,0,0,0,null,"La cuenta Previsiones para deterioro y pérdidas de inventario *, representa el 0,00% del total del Activo, que comparado al periodo anterior genera una variación absoluta de 0 000,00 que corresponde a un Aumento del 0,00% de recursos disponibles."]
["1.1.9.","Otros activos a corto plazo","07",{"$f":"SUM(D44:D46)","v":16571.763310000002},{"$f":"SUM(E44:E46)","v":20674.100979999999},null,9.8650905670442259E-5,1.2322091693685148E-4,-4102.3376699999972,-0.19842883005982093,null,"La cuenta Otros activos a corto plazo, representa el 0,01% del total del Activo, que comparado al periodo anterior genera una variación absoluta de -4 102,34 que corresponde a un Disminución del -19,84% de recursos disponibles."]
["1.1.9.01.","Gastos a devengar a corto plazo",null,{"$f":"IFERROR(VLOOKUP(A44,BC_ACTUAL!B:G,6,0)/1000,0)","v":16571.763310000002},{"$f":"IFERROR(VLOOKUP(A44,BC_ANTERIOR!B:G,6,0)/1000,0)","v":20674.100979999999},null,9.8650905670442259E-5,1.2322091693685148E-4,-4102.3376699999972,-0.19842883005982093,null,"La cuenta Gastos a devengar a corto plazo, representa el 0,01% del total del Activo, que comparado al periodo anterior genera una variación absoluta de -4 102,34 que corresponde a un Disminución del -19,84% de recursos disponibles."]
["1.1.9.02.","Cuentas transitorias",null,{"$f":"IFERROR(VLOOKUP(A45,BC_ACTUAL!B:G,6,0)/1000,0)","v":0},{"$f":"IFERROR(VLOOKUP(A45,BC_ANTERIOR!B:G,6,0)/1000,0)","v":0},null,0,0,0,0,null,"La cuenta Cuentas transitorias, representa el 0,00% del total del Activo, que comparado al periodo anterior genera una variación absoluta de 0 000,00 que corresponde a un Aumento del 0,00% de recursos disponibles."]
["1.1.9.99.","Activos a corto plazo sujetos a depuración contable",null,{"$f":"IFERROR(VLOOKUP(A46,BC_ACTUAL!B:G,6,0)/1000,0)","v":0},{"$f":"IFERROR(VLOOKUP(A46,BC_ANTERIOR!B:G,6,0)/1000,0)","v":0},null,0,0,0,0,null,"La cuenta Activos a corto plazo sujetos a depuración contable, representa el 0,00% del total del Activo, que comparado al periodo anterior genera una variación absoluta de 0 000,00 que corresponde a un Aumento del 0,00% de recursos disponibles."]
[null,"Total del Activo Corriente",null,{"$f":"+D43++D37+D19+D13+D10","v":4770542.6549900007},{"$f":"+E43++E37+E19+E13+E10","v":5081143.6540200002},null,{"$f":"+G43++G37+G19+G13+G10","v":2.8398809749488246E-2},{"$f":"+H43++H37+H19+H13+H10","v":3.0284421109382065E-2},{"$f":"+I43++I37+I19+I13+I10","v":-310600.99902999977},-6.1128167235394833E-2]
[]
["1.2.","Activo No Corriente"]
["1.2.2.","Inversiones a largo plazo","08",{"$f":"SUM(D51:D55)","v":0},{"$f":"SUM(E51:E55)","v":0},null,0,{"$f":"IFERROR(E50/$E$91,0)","v":0},0,0,null,"La cuenta Inversiones a largo plazo, representa el 0,00% del total del Activo, que comparado al periodo anterior genera una variación absoluta de 0 000,00 que corresponde a un Aumento del 0,00% de recursos disponibles."]
["1.2.2.01.","Títulos y valores a valor razonable a largo plazo",null,{"$f":"IFERROR(VLOOKUP(A51,BC_ACTUAL!B:G,6,0)/1000,0)","v":0},{"$f":"IFERROR(VLOOKUP(A51,BC_ANTERIOR!B:G,6,0)/1000,0)","v":0},null,0,0,0,0,null,"La cuenta Títulos y valores a valor razonable a largo plazo, representa el 0,00% del total del Activo, que comparado al periodo anterior genera una variación absoluta de 0 000,00 que corresponde a un Aumento del 0,00% de recursos disponibles."]
["1.2.2.02.","Títulos y valores a costo amortizado a largo plazo",null,{"$f":"IFERROR(VLOOKUP(A52,BC_ACTUAL!B:G,6,0)/1000,0)","v":0},{"$f":"IFERROR(VLOOKUP(A52,BC_ANTERIOR!B:G,6,0)/1000,0)","v":0},null,0,0,0,0,null,"La cuenta Títulos y valores a costo amortizado a largo plazo, representa el 0,00% del total del Activo, que comparado al periodo anterior genera una variación absoluta de 0 000,00 que corresponde a un Aumento del 0,00% de recursos disponibles."]
["1.2.2.03.","Instrumentos Derivados a largo plazo",null,{"$f":"IFERROR(VLOOKUP(A53,BC_ACTUAL!B:G,6,0)/1000,0)","v":0},{"$f":"IFERROR(VLOOKUP(A53,BC_ANTERIOR!B:G,6,0)/1000,0)","v":0},null,0,0,0,0,null,"La cuenta Instrumentos Derivados a largo plazo, representa el 0,00% del total del Activo, que comparado al periodo anterior genera una variación absoluta de 0 000,00 que corresponde a un Aumento del 0,00% de recursos disponibles."]
["1.2.2.98.","Otras inversiones a largo plazo",null,{"$f":"IFERROR(VLOOKUP(A54,BC_ACTUAL!B:G,6,0)/1000,0)","v":0},{"$f":"IFERROR(VLOOKUP(A54,BC_ANTERIOR!B:G,6,0)/1000,0)","v":0},null,0,0,0,0,null,"La cuenta Otras inversiones a largo plazo, representa el 0,00% del total del Activo, que comparado al periodo anterior genera una variación absoluta de 0 000,00 que corresponde a un Aumento del 0,00% de recursos disponibles."]
["1.2.2.99.","Previsiones para deterioro de inversiones a largo plazo *",null,{"$f":"IFERROR(VLOOKUP(A55,BC_ACTUAL!B:G,6,0)/1000,0)","v":0},{"$f":"IFERROR(VLOOKUP(A55,BC_ANTERIOR!B:G,6,0)/1000,0)","v":0},null,0,0,0,0,null,"La cuenta Previsiones para deterioro de inversiones a largo plazo *, representa el 0,00% del total del Activo, que comparado al periodo anterior genera una variación absoluta de 0 000,00 que corresponde a un Aumento del 0,00% de recursos disponibles."]
["1.2.3.","Cuentas a cobrar a largo plazo","09",{"$f":"SUM(D57:D63)","v":0},{"$f":"SUM(E57:E63)","v":0},null,0,0,0,0,null,"La cuenta Cuentas a cobrar a largo plazo, representa el 0,00% del total del Activo, que comparado al periodo anterior genera una variación absoluta de 0 000,00 que corresponde a un Aumento del 0,00% de recursos disponibles."]
["1.2.3.03.","Ventas a cobrar a largo plazo",null,{"$f":"IFERROR(VLOOKUP(A57,BC_ACTUAL!B:G,6,0)/1000,0)","v":0},{"$f":"IFERROR(VLOOKUP(A57,BC_ANTERIOR!B:G,6,0)/1000,0)","v":0},null,0,0,0,0,null,"La cuenta Ventas a cobrar a largo plazo, representa el 0,00% del total del Activo, que comparado al periodo anterior genera una variación absoluta de 0 000,00 que corresponde a un Aumento del 0,00% de recursos disponibles."]
["1.2.3.07.","Préstamos a largo plazo",null,{"$f":"IFERROR(VLOOKUP(A58,BC_ACTUAL!B:G,6,0)/1000,0)","v":0},{"$f":"IFERROR(VLOOKUP(A58,BC_ANTERIOR!B:G,6,0)/1000,0)","v":0},null,0,0,0,0,null,"La cuenta Préstamos a largo plazo, representa el 0,00% del total del Activo, que comparado al periodo anterior genera una variación absoluta de 0 000,00 que corresponde a un Aumento del 0,00% de recursos disponibles."]
["1.2.3.08.","Documentos a cobrar a largo plazo",null,{"$f":"IFERROR(VLOOKUP(A59,BC_ACTUAL!B:G,6,0)/1000,0)","v":0},{"$f":"IFERROR(VLOOKUP(A59,BC_ANTERIOR!B:G,6,0)/1000,0)","v":0},null,0,0,0,0,null,"La cuenta Documentos a cobrar a largo plazo, representa el 0,00% del total del Activo, que comparado al periodo anterior genera una variación absoluta de 0 000,00 que corresponde a un Aumento del 0,00% de recursos disponibles."]
["1.2.3.09.","Anticipos a largo plazo",null,{"$f":"IFERROR(VLOOKUP(A60,BC_ACTUAL!B:G,6,0)/1000,0)","v":0},{"$f":"IFERROR(VLOOKUP(A60,BC_ANTERIOR!B:G,6,0)/1000,0)","v":0},null,0,0,0,0,null,"La cuenta Anticipos a largo plazo, representa el 0,00% del total del Activo, que comparado al periodo anterior genera una variación absoluta de 0 000,00 que corresponde a un Aumento del 0,00% de recursos disponibles."]
["1.2.3.10.","Deudores por avales ejecutados a largo plazo",null,{"$f":"IFERROR(VLOOKUP(A61,BC_ACTUAL!B:G,6,0)/1000,0)","v":0},{"$f":"IFERROR(VLOOKUP(A61,BC_ANTERIOR!B:G,6,0)/1000,0)","v":0},null,0,0,0,0,null,"La cuenta Deudores por avales ejecutados a largo plazo, representa el 0,00% del total del Activo, que comparado al periodo anterior genera una variación absoluta de 0 000,00 que corresponde a un Aumento del 0,00% de recursos disponibles."]
["1.2.3.98.","Otras cuentas a cobrar a largo plazo",null,{"$f":"IFERROR(VLOOKUP(A62,BC_ACTUAL!B:G,6,0)/1000,0)","v":0},{"$f":"IFERROR(VLOOKUP(A62,BC_ANTERIOR!B:G,6,0)/1000,0)","v":0},null,0,0,0,0,null,"La cuenta Otras cuentas a cobrar a largo plazo, representa el 0,00% del total del Activo, que comparado al periodo anterior genera una variación absoluta de 0 000,00 que corresponde a un Aumento del 0,00% de recursos disponibles."]
["1.2.3.99.","Previsiones para deterioro de cuentas a cobrar a largo plazo *",null,{"$f":"IFERROR(VLOOKUP(A63,BC_ACTUAL!B:G,6,0)/1000,0)","v":0},{"$f":"IFERROR(VLOOKUP(A63,BC_ANTERIOR!B:G,6,0)/1000,0)","v":0},null,0,0,0,0,null,"La cuenta Previsiones para deterioro de cuentas a cobrar a largo plazo *, representa el 0,00% del total del Activo, que comparado al periodo anterior genera una variación absoluta de 0 000,00 que corresponde a un Aumento del 0,00% de recursos disponibles."]
["1.2.5.","Bienes no concesionados","10",{"$f":"SUM(D65:D73)","v":163213351.63748002},{"$f":"SUM(E65:E73)","v":162699631.67161003},null,0.97160119025051184,0.96971557889061788,513719.96586999297,3.1574746702984304E-3,null,"La cuenta Bienes no concesionados, representa el 97,16% del total del Activo, que comparado al periodo anterior genera una variación absoluta de 513 719,97 que corresponde a un Aumento del 0,32% de recursos disponibles."]
["1.2.5.01.","Propiedades, planta y equipos explotados",null,{"$f":"IFERROR(VLOOKUP(A65,BC_ACTUAL!B:G,6,0)/1000,0)","v":2346799.6361500002},{"$f":"IFERROR(VLOOKUP(A65,BC_ANTERIOR!B:G,6,0)/1000,0)","v":1848565.3346600002},null,1.3970384756434338E-2,1.1017742235797231E-2,498234.30148999998,0.26952485375997726,null,"La cuenta Propiedades, planta y equipos explotados, representa el 1,40% del total del Activo, que comparado al periodo anterior genera una variación absoluta de 498 234,30 que corresponde a un Aumento del 26,95% de recursos disponibles."]
["1.2.5.02.","Propiedades de inversión",null,{"$f":"IFERROR(VLOOKUP(A66,BC_ACTUAL!B:G,6,0)/1000,0)","v":0},{"$f":"IFERROR(VLOOKUP(A66,BC_ANTERIOR!B:G,6,0)/1000,0)","v":0},null,0,0,0,0,null,"La cuenta Propiedades de inversión, representa el 0,00% del total del Activo, que comparado al periodo anterior genera una variación absoluta de 0 000,00 que corresponde a un Aumento del 0,00% de recursos disponibles."]
["1.2.5.03.","Activos biológicos no concesionados",null,{"$f":"IFERROR(VLOOKUP(A67,BC_ACTUAL!B:G,6,0)/1000,0)","v":0},{"$f":"IFERROR(VLOOKUP(A67,BC_ANTERIOR!B:G,6,0)/1000,0)","v":0},null,0,0,0,0,null,"La cuenta Activos biológicos no concesionados, representa el 0,00% del total del Activo, que comparado al periodo anterior genera una variación absoluta de 0 000,00 que corresponde a un Aumento del 0,00% de recursos disponibles."]
["1.2.5.04.","Bienes de infraestructura y de beneficio y uso público en servicio",null,{"$f":"IFERROR(VLOOKUP(A68,BC_ACTUAL!B:G,6,0)/1000,0)","v":160765498.08176002},{"$f":"IFERROR(VLOOKUP(A68,BC_ANTERIOR!B:G,6,0)/1000,0)","v":160765498.08176002},null,0.95702923639725646,0.95818783629855853,0,0,null,"La cuenta Bienes de infraestructura y de beneficio y uso público en servicio, representa el 95,70% del total del Activo, que comparado al periodo anterior genera una variación absoluta de 0 000,00 que corresponde a un Aumento del 0,00% de recursos disponibles."]
["1.2.5.05.","Bienes históricos y culturales",null,{"$f":"IFERROR(VLOOKUP(A69,BC_ACTUAL!B:G,6,0)/1000,0)","v":0},{"$f":"IFERROR(VLOOKUP(A69,BC_ANTERIOR!B:G,6,0)/1000,0)","v":0},null,0,0,0,0,null,"La cuenta Bienes históricos y culturales, representa el 0,00% del total del Activo, que comparado al periodo anterior genera una variación absoluta de 0 000,00 que corresponde a un Aumento del 0,00% de recursos disponibles."]
["1.2.5.06.","Recursos naturales en explotación",null,{"$f":"IFERROR(VLOOKUP(A70,BC_ACTUAL!B:G,6,0)/1000,0)","v":0},{"$f":"IFERROR(VLOOKUP(A70,BC_ANTERIOR!B:G,6,0)/1000,0)","v":0},null,0,0,0,0,null,"La cuenta Recursos naturales en explotación, representa el 0,00% del total del Activo, que comparado al periodo anterior genera una variación absoluta de 0 000,00 que corresponde a un Aumento del 0,00% de recursos disponibles."]
["1.2.5.07.","Recursos naturales en conservación",null,{"$f":"IFERROR(VLOOKUP(A71,BC_ACTUAL!B:G,6,0)/1000,0)","v":0},{"$f":"IFERROR(VLOOKUP(A71,BC_ANTERIOR!B:G,6,0)/1000,0)","v":0},null,0,0,0,0,null,"La cuenta Recursos naturales en conservación, representa el 0,00% del total del Activo, que comparado al periodo anterior genera una variación absoluta de 0 000,00 que corresponde a un Aumento del 0,00% de recursos disponibles."]
["1.2.5.08.","Bienes intangibles no concesionados",null,{"$f":"IFERROR(VLOOKUP(A72,BC_ACTUAL!B:G,6,0)/1000,0)","v":3474.7717499999999},{"$f":"IFERROR(VLOOKUP(A72,BC_ANTERIOR!B:G,6,0)/1000,0)","v":7987.29414},null,2.0685148208019363E-5,4.7605538384825121E-5,-4512.5223900000001,-0.5649625906978305,null,"La cuenta Bienes intangibles no concesionados, representa el 0,00% del total del Activo, que comparado al periodo anterior genera una variación absoluta de -4 512,52 que corresponde a un Disminución del -56,50% de recursos disponibles."]
["1.2.5.99.","Bienes no concesionados en proceso de producción",null,{"$f":"IFERROR(VLOOKUP(A73,BC_ACTUAL!B:G,6,0)/1000,0)","v":97579.147819999998},{"$f":"IFERROR(VLOOKUP(A73,BC_ANTERIOR!B:G,6,0)/1000,0)","v":77580.961049999998},null,5.8088394861300729E-4,4.623948178772589E-4,19998.18677,0.25777183601929615,null,"La cuenta Bienes no concesionados en proceso de producción, representa el 0,06% del total del Activo, que comparado al periodo anterior genera una variación absoluta de 19 998,19 que corresponde a un Aumento del 25,78% de recursos disponibles."]
["1.2.6.","Bienes concesionados","11",{"$f":"SUM(D75:D80)","v":0},{"$f":"SUM(E75:E80)","v":0},null,0,0,0,0,null,"La cuenta Bienes concesionados, representa el 0,00% del total del Activo, que comparado al periodo anterior genera una variación absoluta de 0 000,00 que corresponde a un Aumento del 0,00% de recursos disponibles."]
["1.2.6.01.","Propiedades, planta y equipos concesionados",null,{"$f":"IFERROR(VLOOKUP(A75,BC_ACTUAL!B:G,6,0)/1000,0)","v":0},{"$f":"IFERROR(VLOOKUP(A75,BC_ANTERIOR!B:G,6,0)/1000,0)","v":0},null,{"$f":"IFERROR(D75/$D$91,0)","v":0},0,{"$f":"IFERROR(D75-E75,0)","v":0},{"$f":"IFERROR(I75/E75,0)","v":0},null,{"$f":"\"La\"&\" \"&\"cuenta\"&\" \"&B75&\",\"&\" \"&\"representa\"&\" \"&\"el\"&\" \"&TEXT(G75,\"0,00%\")&\" \"&\"del\"&\" \"&\"total\"&\" \"&\"del\"&\" \"&IF(MID(A75,1,2)=\"1.\",\"Activo\",IF(MID(A75,1,2)=\"2.\",\"Pasivo\",IF(MID(A75,1,2)=\"3.\",\"Capital\",IF(MID(A75,1,2)=\"4.\",\"Ingresos\",IF(MID(A75,1,2)=\"5.\",\"Gastos\",\"\")))))&\",\"&\" \"&\"que\"&\" \"&\"comparado\"&\" \"&\"al\"&\" \"&\"periodo\"&\" \"&\"anterior\"&\" \"&\"genera\"&\" \"&\"una\"&\" \"&\"variación\"&\" \"&\"absoluta\"&\" \"&\"de\"&\" \"&TEXT(I75,\"0 000,00\")&\" \"&\"que\"&\" \"&\"corresponde\"&\" \"&\"a\"&\" \"&\"un\"&\" \"&IF(I75<0,\"Disminución\",\"Aumento\")&\" \"&\"del\"&\" \"&TEXT(J75,\"0,00%\")&\" \"&\"de\"&\" \"&\"recursos\"&\" \"&\"disponibles\"&\".\"","v":"La cuenta Propiedades, planta y equipos concesionados, representa el 0,00% del total del Activo, que comparado al periodo anterior genera una variación absoluta de 0 000,00 que corresponde a un Aumento del 0,00% de recursos disponibles."}]
["1.2.6.03.","Activos biológicos concesionados",null,{"$f":"IFERROR(VLOOKUP(A76,BC_ACTUAL!B:G,6,0)/1000,0)","v":0},{"$f":"IFERROR(VLOOKUP(A76,BC_ANTERIOR!B:G,6,0)/1000,0)","v":0},null,0,0,0,0,null,"La cuenta Activos biológicos concesionados, representa el 0,00% del total del Activo, que comparado al periodo anterior genera una variación absoluta de 0 000,00 que corresponde a un Aumento del 0,00% de recursos disponibles."]
["1.2.6.04.","Bienes de infraestructura y de beneficio y uso público concesionados",null,{"$f":"IFERROR(VLOOKUP(A77,BC_ACTUAL!B:G,6,0)/1000,0)","v":0},{"$f":"IFERROR(VLOOKUP(A77,BC_ANTERIOR!B:G,6,0)/1000,0)","v":0},null,0,0,0,0,null,"La cuenta Bienes de infraestructura y de beneficio y uso público concesionados, representa el 0,00% del total del Activo, que comparado al periodo anterior genera una variación absoluta de 0 000,00 que corresponde a un Aumento del 0,00% de recursos disponibles."]
["1.2.6.06.","Recursos naturales concesionados",null,{"$f":"IFERROR(VLOOKUP(A78,BC_ACTUAL!B:G,6,0)/1000,0)","v":0},{"$f":"IFERROR(VLOOKUP(A78,BC_ANTERIOR!B:G,6,0)/1000,0)","v":0},null,0,0,0,0,null,"La cuenta Recursos naturales concesionados, representa el 0,00% del total del Activo, que comparado al periodo anterior genera una variación absoluta de 0 000,00 que corresponde a un Aumento del 0,00% de recursos disponibles."]
["1.2.6.08.","Bienes intangibles concesionados",null,{"$f":"IFERROR(VLOOKUP(A79,BC_ACTUAL!B:G,6,0)/1000,0)","v":0},{"$f":"IFERROR(VLOOKUP(A79,BC_ANTERIOR!B:G,6,0)/1000,0)","v":0},null,0,0,0,0,null,"La cuenta Bienes intangibles concesionados, representa el 0,00% del total del Activo, que comparado al periodo anterior genera una variación absoluta de 0 000,00 que corresponde a un Aumento del 0,00% de recursos disponibles."]
["1.2.6.99.","Bienes concesionados en proceso de producción",null,{"$f":"IFERROR(VLOOKUP(A80,BC_ACTUAL!B:G,6,0)/1000,0)","v":0},{"$f":"IFERROR(VLOOKUP(A80,BC_ANTERIOR!B:G,6,0)/1000,0)","v":0},null,0,0,0,0,null,"La cuenta Bienes concesionados en proceso de producción, representa el 0,00% del total del Activo, que comparado al periodo anterior genera una variación absoluta de 0 000,00 que corresponde a un Aumento del 0,00% de recursos disponibles."]
["1.2.7.","Inversiones patrimoniales - Método de participación","12",{"$f":"SUM(D82:D85)","v":0},{"$f":"SUM(E82:E85)","v":0},null,0,0,0,0,null,"La cuenta Inversiones patrimoniales - Método de participación, representa el 0,00% del total del Activo, que comparado al periodo anterior genera una variación absoluta de 0 000,00 que corresponde a un Aumento del 0,00% de recursos disponibles."]
["1.2.7.01.","Inversiones patrimoniales en el sector privado interno",null,{"$f":"IFERROR(VLOOKUP(A82,BC_ACTUAL!B:G,6,0)/1000,0)","v":0},{"$f":"IFERROR(VLOOKUP(A82,BC_ANTERIOR!B:G,6,0)/1000,0)","v":0},null,0,0,0,0,null,"La cuenta Inversiones patrimoniales en el sector privado interno, representa el 0,00% del total del Activo, que comparado al periodo anterior genera una variación absoluta de 0 000,00 que corresponde a un Aumento del 0,00% de recursos disponibles."]
["1.2.7.02.","Inversiones patrimoniales en el sector público interno",null,{"$f":"IFERROR(VLOOKUP(A83,BC_ACTUAL!B:G,6,0)/1000,0)","v":0},{"$f":"IFERROR(VLOOKUP(A83,BC_ANTERIOR!B:G,6,0)/1000,0)","v":0},null,0,0,0,0,null,"La cuenta Inversiones patrimoniales en el sector público interno, representa el 0,00% del total del Activo, que comparado al periodo anterior genera una variación absoluta de 0 000,00 que corresponde a un Aumento del 0,00% de recursos disponibles."]
["1.2.7.03.","Inversiones patrimoniales en el sector externo",null,{"$f":"IFERROR(VLOOKUP(A84,BC_ACTUAL!B:G,6,0)/1000,0)","v":0},{"$f":"IFERROR(VLOOKUP(A84,BC_ANTERIOR!B:G,6,0)/1000,0)","v":0},null,0,0,0,0,null,"La cuenta Inversiones patrimoniales en el sector externo, representa el 0,00% del total del Activo, que comparado al periodo anterior genera una variación absoluta de 0 000,00 que corresponde a un Aumento del 0,00% de recursos disponibles."]
["1.2.7.04.","Inversiones patrimoniales en fideicomisos",null,{"$f":"IFERROR(VLOOKUP(A85,BC_ACTUAL!B:G,6,0)/1000,0)","v":0},{"$f":"IFERROR(VLOOKUP(A85,BC_ANTERIOR!B:G,6,0)/1000,0)","v":0},null,0,0,0,0,null,"La cuenta Inversiones patrimoniales en fideicomisos, representa el 0,00% del total del Activo, que comparado al periodo anterior genera una variación absoluta de 0 000,00 que corresponde a un Aumento del 0,00% de recursos disponibles."]
["1.2.9.","Otros activos a largo plazo","13",{"$f":"SUM(D87:D89)","v":0},{"$f":"SUM(E87:E89)","v":0},null,0,0,0,0,null,"La cuenta Otros activos a largo plazo, representa el 0,00% del total del Activo, que comparado al periodo anterior genera una variación absoluta de 0 000,00 que corresponde a un Aumento del 0,00% de recursos disponibles."]
["1.2.9.01.","Gastos a devengar a largo plazo",null,{"$f":"IFERROR(VLOOKUP(A87,BC_ACTUAL!B:G,6,0)/1000,0)","v":0},{"$f":"IFERROR(VLOOKUP(A87,BC_ANTERIOR!B:G,6,0)/1000,0)","v":0},null,0,0,0,0,null,"La cuenta Gastos a devengar a largo plazo, representa el 0,00% del total del Activo, que comparado al periodo anterior genera una variación absoluta de 0 000,00 que corresponde a un Aumento del 0,00% de recursos disponibles."]
["1.2.9.03.","Objetos de valor",null,{"$f":"IFERROR(VLOOKUP(A88,BC_ACTUAL!B:G,6,0)/1000,0)","v":0},{"$f":"IFERROR(VLOOKUP(A88,BC_ANTERIOR!B:G,6,0)/1000,0)","v":0},null,{"$f":"IFERROR(D88/$D$91,0)","v":0},0,0,0,null,"La cuenta Objetos de valor, representa el 0,00% del total del Activo, que comparado al periodo anterior genera una variación absoluta de 0 000,00 que corresponde a un Aumento del 0,00% de recursos disponibles."]
["1.2.9.99.","Activos a largo plazo sujetos a depuración contable",null,{"$f":"IFERROR(VLOOKUP(A89,BC_ACTUAL!B:G,6,0)/1000,0)","v":0},{"$f":"IFERROR(VLOOKUP(A89,BC_ANTERIOR!B:G,6,0)/1000,0)","v":0},null,0,0,0,0,null,"La cuenta Activos a largo plazo sujetos a depuración contable, representa el 0,00% del total del Activo, que comparado al periodo anterior genera una variación absoluta de 0 000,00 que corresponde a un Aumento del 0,00% de recursos disponibles."]
[null,"Total del Activo no Corriente",null,{"$f":"+D86+D81+D74+D64+D56+D50","v":163213351.63748002},{"$f":"+E86+E81+E74+E64+E56+E50","v":162699631.67161003},null,{"$f":"+G86+G81+G74+G64+G56+G50","v":0.97160119025051184},{"$f":"+H86+H81+H74+H64+H56+H50","v":0.96971557889061788},{"$f":"+I86+I81+I74+I64+I56+I50","v":513719.96586999297},3.1574746702984304E-3,null,"La cuenta Total del Activo no Corriente, representa el 97,16% del total del , que comparado al periodo anterior genera una variación absoluta de 513 719,97 que corresponde a un Aumento del 0,32% de recursos disponibles."]
[null,"TOTAL DEL ACTIVO",null,{"$f":"+D90+D47","v":167983894.29247001},{"$f":"+E90+E47","v":167780775.32563004},null,{"$f":"+G90+G47","v":1},{"$f":"+H90+H47","v":1},{"$f":"+I90+I47","v":203118.9668399932},1.2106212195394767E-3]
[null,null,null," "," "]
["2.","PASIVO"]
["2.1.","Pasivo Corriente"]
["2.1.1.","Deudas a corto plazo","14",{"$f":"SUM(D96:D105)","v":251050.91753999999},{"$f":"SUM(E96:E105)","v":573033.20346000011},null,{"$f":"IFERROR(D95/$D$151,0)","v":0.12965901141589953},{"$f":"IFERROR(E95/$E$151,0)","v":0.19307523194867576},-321982.28592000011,-0.56189115041825966,null,"La cuenta Deudas a corto plazo, representa el 12,97% del total del Pasivo, que comparado al periodo anterior genera una variación absoluta de -321 982,29 que corresponde a un Disminución del -56,19% de recursos disponibles."]
["2.1.1.01.","Deudas comerciales a corto plazo",null,{"$f":"IFERROR(VLOOKUP(A96,BC_ACTUAL!B:G,6,0)/1000,0)","v":92831.847040000008},{"$f":"IFERROR(VLOOKUP(A96,BC_ANTERIOR!B:G,6,0)/1000,0)","v":397334.25710000005},null,{"$f":"IFERROR(D96/$D$151,0)","v":4.7944399618458373E-2},{"$f":"IFERROR(E96/$E$151,0)","v":0.13387601868011528},-304502.41006000002,-0.76636334425944963,null,"La cuenta Deudas comerciales a corto plazo, representa el 4,79% del total del Pasivo, que comparado al periodo anterior genera una variación absoluta de -304 502,41 que corresponde a un Disminución del -76,64% de recursos disponibles."]
["2.1.1.02.","Deudas sociales y fiscales a corto plazo",null,{"$f":"IFERROR(VLOOKUP(A97,BC_ACTUAL!B:G,6,0)/1000,0)","v":118853.11534},{"$f":"IFERROR(VLOOKUP(A97,BC_ANTERIOR!B:G,6,0)/1000,0)","v":139365.28344},null,6.1383473877282074E-2,4.6957112194021794E-2,-20512.168099999995,-0.14718276742737701,null,"La cuenta Deudas sociales y fiscales a corto plazo, representa el 6,14% del total del Pasivo, que comparado al periodo anterior genera una variación absoluta de -20 512,17 que corresponde a un Disminución del -14,72% de recursos disponibles."]
["2.1.1.03.","Transferencias a pagar a corto plazo",null,{"$f":"IFERROR(VLOOKUP(A98,BC_ACTUAL!B:G,6,0)/1000,0)","v":39365.955159999998},{"$f":"IFERROR(VLOOKUP(A98,BC_ANTERIOR!B:G,6,0)/1000,0)","v":36152.162920000002},null,2.0331137920159101E-2,1.2180947280330768E-2,3213.7922399999952,8.8896264577909098E-2,null,"La cuenta Transferencias a pagar a corto plazo, representa el 2,03% del total del Pasivo, que comparado al periodo anterior genera una variación absoluta de 3 213,79 que corresponde a un Aumento del 8,89% de recursos disponibles."]
["2.1.1.04.","Documentos a pagar a corto plazo",null,{"$f":"IFERROR(VLOOKUP(A99,BC_ACTUAL!B:G,6,0)/1000,0)","v":0},{"$f":"IFERROR(VLOOKUP(A99,BC_ANTERIOR!B:G,6,0)/1000,0)","v":0},null,0,0,0,0,null,"La cuenta Documentos a pagar a corto plazo, representa el 0,00% del total del Pasivo, que comparado al periodo anterior genera una variación absoluta de 0 000,00 que corresponde a un Aumento del 0,00% de recursos disponibles."]
["2.1.1.05.","Inversiones patrimoniales a pagar a corto plazo",null,{"$f":"IFERROR(VLOOKUP(A100,BC_ACTUAL!B:G,6,0)/1000,0)","v":0},{"$f":"IFERROR(VLOOKUP(A100,BC_ANTERIOR!B:G,6,0)/1000,0)","v":0},null,0,0,0,0,null,"La cuenta Inversiones patrimoniales a pagar a corto plazo, representa el 0,00% del total del Pasivo, que comparado al periodo anterior genera una variación absoluta de 0 000,00 que corresponde a un Aumento del 0,00% de recursos disponibles."]
["2.1.1.06.","Deudas por avales ejecutados a corto plazo",null,{"$f":"IFERROR(VLOOKUP(A101,BC_ACTUAL!B:G,6,0)/1000,0)","v":0},{"$f":"IFERROR(VLOOKUP(A101,BC_ANTERIOR!B:G,6,0)/1000,0)","v":0},null,0,0,0,0,null,"La cuenta Deudas por avales ejecutados a corto plazo, representa el 0,00% del total del Pasivo, que comparado al periodo anterior genera una variación absoluta de 0 000,00 que corresponde a un Aumento del 0,00% de recursos disponibles."]
["2.1.1.07.","Deudas por anticipos a corto plazo",null,{"$f":"IFERROR(VLOOKUP(A102,BC_ACTUAL!B:G,6,0)/1000,0)","v":0},{"$f":"IFERROR(VLOOKUP(A102,BC_ANTERIOR!B:G,6,0)/1000,0)","v":0},null,0,0,0,0,null,"La cuenta Deudas por anticipos a corto plazo, representa el 0,00% del total del Pasivo, que comparado al periodo anterior genera una variación absoluta de 0 000,00 que corresponde a un Aumento del 0,00% de recursos disponibles."]
["2.1.1.08.","Deudas por Planillas salariales",null,{"$f":"IFERROR(VLOOKUP(A103,BC_ACTUAL!B:G,6,0)/1000,0)","v":0},{"$f":"IFERROR(VLOOKUP(A103,BC_ANTERIOR!B:G,6,0)/1000,0)","v":0},null,0,0,0,0,null,"La cuenta Deudas por Planillas salariales, representa el 0,00% del total del Pasivo, que comparado al periodo anterior genera una variación absoluta de 0 000,00 que corresponde a un Aumento del 0,00% de recursos disponibles."]
["2.1.1.13.","Deudas por Créditos Fiscales a favor de terceros c/p",null,{"$f":"IFERROR(VLOOKUP(A104,BC_ACTUAL!B:G,6,0)/1000,0)","v":0},{"$f":"IFERROR(VLOOKUP(A104,BC_ANTERIOR!B:G,6,0)/1000,0)","v":0},null,0,0,0,0,null,"La cuenta Deudas por Créditos Fiscales a favor de terceros c/p, representa el 0,00% del total del Pasivo, que comparado al periodo anterior genera una variación absoluta de 0 000,00 que corresponde a un Aumento del 0,00% de recursos disponibles."]
["2.1.1.99.","Otras deudas a corto plazo",null,{"$f":"IFERROR(VLOOKUP(A105,BC_ACTUAL!B:G,6,0)/1000,0)","v":0},{"$f":"IFERROR(VLOOKUP(A105,BC_ANTERIOR!B:G,6,0)/1000,0)","v":181.5},null,0,6.1153794207896716E-5,-181.5,-1,null,"La cuenta Otras deudas a corto plazo, representa el 0,00% del total del Pasivo, que comparado al periodo anterior genera una variación absoluta de -0 181,50 que corresponde a un Disminución del -100,00% de recursos disponibles."]
["2.1.2.","Endeudamiento público a corto plazo","15",{"$f":"SUM(D107:D111)","v":485546.59963000001},{"$f":"SUM(E107:E111)","v":329795.98796},null,0.25076782320202701,0.11111997784185025,155750.61167000001,0.47226351246240922,null,"La cuenta Endeudamiento público a corto plazo, representa el 25,08% del total del Pasivo, que comparado al periodo anterior genera una variación absoluta de 155 750,61 que corresponde a un Aumento del 47,23% de recursos disponibles."]
["2.1.2.01.","Títulos y valores de la deuda pública a pagar a corto plazo",null,{"$f":"IFERROR(VLOOKUP(A107,BC_ACTUAL!B:G,6,0)/1000,0)","v":0},{"$f":"IFERROR(VLOOKUP(A107,BC_ANTERIOR!B:G,6,0)/1000,0)","v":0},null,0,0,0,0,null,"La cuenta Títulos y valores de la deuda pública a pagar a corto plazo, representa el 0,00% del total del Pasivo, que comparado al periodo anterior genera una variación absoluta de 0 000,00 que corresponde a un Aumento del 0,00% de recursos disponibles."]
["2.1.2.02.","Préstamos a pagar a corto plazo",null,{"$f":"IFERROR(VLOOKUP(A108,BC_ACTUAL!B:G,6,0)/1000,0)","v":485546.59963000001},{"$f":"IFERROR(VLOOKUP(A108,BC_ANTERIOR!B:G,6,0)/1000,0)","v":329795.98796},null,0.25076782320202701,0.11111997784185025,155750.61167000001,0.47226351246240922,null,"La cuenta Préstamos a pagar a corto plazo, representa el 25,08% del total del Pasivo, que comparado al periodo anterior genera una variación absoluta de 155 750,61 que corresponde a un Aumento del 47,23% de recursos disponibles."]
["2.1.2.03.","Deudas asumidas a corto plazo",null,{"$f":"IFERROR(VLOOKUP(A109,BC_ACTUAL!B:G,6,0)/1000,0)","v":0},{"$f":"IFERROR(VLOOKUP(A109,BC_ANTERIOR!B:G,6,0)/1000,0)","v":0},null,0,0,0,0,null,"La cuenta Deudas asumidas a corto plazo, representa el 0,00% del total del Pasivo, que comparado al periodo anterior genera una variación absoluta de 0 000,00 que corresponde a un Aumento del 0,00% de recursos disponibles."]
["2.1.2.04.","Endeudamiento de Tesorería a corto plazo",null,{"$f":"IFERROR(VLOOKUP(A110,BC_ACTUAL!B:G,6,0)/1000,0)","v":0},{"$f":"IFERROR(VLOOKUP(A110,BC_ANTERIOR!B:G,6,0)/1000,0)","v":0},null,0,0,0,0,null,"La cuenta Endeudamiento de Tesorería a corto plazo, representa el 0,00% del total del Pasivo, que comparado al periodo anterior genera una variación absoluta de 0 000,00 que corresponde a un Aumento del 0,00% de recursos disponibles."]
["2.1.2.05.","Endeudamiento público a valor razonable",null,{"$f":"IFERROR(VLOOKUP(A111,BC_ACTUAL!B:G,6,0)/1000,0)","v":0},{"$f":"IFERROR(VLOOKUP(A111,BC_ANTERIOR!B:G,6,0)/1000,0)","v":0},null,0,0,0,0,null,"La cuenta Endeudamiento público a valor razonable, representa el 0,00% del total del Pasivo, que comparado al periodo anterior genera una variación absoluta de 0 000,00 que corresponde a un Aumento del 0,00% de recursos disponibles."]
["2.1.3.","Fondos de terceros y en garantía","16",{"$f":"SUM(D113:D117)","v":58724.399640000003},{"$f":"SUM(E113:E117)","v":908486.07078999991},null,3.0329096893666772E-2,0.30610121329935169,-849761.67114999995,-0.93536015407596229,null,"La cuenta Fondos de terceros y en garantía, representa el 3,03% del total del Pasivo, que comparado al periodo anterior genera una variación absoluta de -849 761,67 que corresponde a un Disminución del -93,54% de recursos disponibles."]
["2.1.3.01.","Fondos de terceros en la Caja Única",null,{"$f":"IFERROR(VLOOKUP(A113,BC_ACTUAL!B:G,6,0)/1000,0)","v":0},{"$f":"IFERROR(VLOOKUP(A113,BC_ANTERIOR!B:G,6,0)/1000,0)","v":0},null,0,0,0,0,null,"La cuenta Fondos de terceros en la Caja Única, representa el 0,00% del total del Pasivo, que comparado al periodo anterior genera una variación absoluta de 0 000,00 que corresponde a un Aumento del 0,00% de recursos disponibles."]
["2.1.3.02.","Recaudación por cuenta de terceros",null,{"$f":"IFERROR(VLOOKUP(A114,BC_ACTUAL!B:G,6,0)/1000,0)","v":0},{"$f":"IFERROR(VLOOKUP(A114,BC_ANTERIOR!B:G,6,0)/1000,0)","v":0},null,0,0,0,0,null,"La cuenta Recaudación por cuenta de terceros, representa el 0,00% del total del Pasivo, que comparado al periodo anterior genera una variación absoluta de 0 000,00 que corresponde a un Aumento del 0,00% de recursos disponibles."]
["2.1.3.03.","Depósitos en garantía",null,{"$f":"IFERROR(VLOOKUP(A115,BC_ACTUAL!B:G,6,0)/1000,0)","v":58724.399640000003},{"$f":"IFERROR(VLOOKUP(A115,BC_ANTERIOR!B:G,6,0)/1000,0)","v":67537.733120000004},null,3.0329096893666772E-2,2.2755860234095482E-2,-8813.3334800000011,-0.13049495552864657,null,"La cuenta Depósitos en garantía, representa el 3,03% del total del Pasivo, que comparado al periodo anterior genera una variación absoluta de -8 813,33 que corresponde a un Disminución del -13,05% de recursos disponibles."]
["2.1.3.90.","Cuentas Asociadas ( Deudores )  CP",null,{"$f":"IFERROR(VLOOKUP(A116,BC_ACTUAL!B:G,6,0)/1000,0)","v":0},{"$f":"IFERROR(VLOOKUP(A116,BC_ANTERIOR!B:G,6,0)/1000,0)","v":0},null,0,0,0,0,null,"La cuenta Cuentas Asociadas ( Deudores )  CP, representa el 0,00% del total del Pasivo, que comparado al periodo anterior genera una variación absoluta de 0 000,00 que corresponde a un Aumento del 0,00% de recursos disponibles."]
["2.1.3.99.","Otros fondos de terceros",null,{"$f":"IFERROR(VLOOKUP(A117,BC_ACTUAL!B:G,6,0)/1000,0)","v":0},{"$f":"IFERROR(VLOOKUP(A117,BC_ANTERIOR!B:G,6,0)/1000,0)","v":840948.33766999992},null,0,0.28334535306525621,-840948.33766999992,-1,null,"La cuenta Otros fondos de terceros, representa el 0,00% del total del Pasivo, que comparado al periodo anterior genera una variación absoluta de -840 948,34 que corresponde a un Disminución del -100,00% de recursos disponibles."]
["2.1.4.","Provisiones y reservas técnicas a corto plazo","17",{"$f":"SUM(D119:D120)","v":0},{"$f":"SUM(E119:E120)","v":0},null,0,0,0,0,null,"La cuenta Provisiones y reservas técnicas a corto plazo, representa el 0,00% del total del Pasivo, que comparado al periodo anterior genera una variación absoluta de 0 000,00 que corresponde a un Aumento del 0,00% de recursos disponibles."]
["2.1.4.01.","Provisiones a corto plazo",null,{"$f":"IFERROR(VLOOKUP(A119,BC_ACTUAL!B:G,6,0)/1000,0)","v":0},{"$f":"IFERROR(VLOOKUP(A119,BC_ANTERIOR!B:G,6,0)/1000,0)","v":0},null,0,0,0,0,null,"La cuenta Provisiones a corto plazo, representa el 0,00% del total del Pasivo, que comparado al periodo anterior genera una variación absoluta de 0 000,00 que corresponde a un Aumento del 0,00% de recursos disponibles."]
["2.1.4.02.","Reservas técnicas a corto plazo",null,{"$f":"IFERROR(VLOOKUP(A120,BC_ACTUAL!B:G,6,0)/1000,0)","v":0},{"$f":"IFERROR(VLOOKUP(A120,BC_ANTERIOR!B:G,6,0)/1000,0)","v":0},null,0,0,0,0,null,"La cuenta Reservas técnicas a corto plazo, representa el 0,00% del total del Pasivo, que comparado al periodo anterior genera una variación absoluta de 0 000,00 que corresponde a un Aumento del 0,00% de recursos disponibles."]
["2.1.9.","Otros pasivos a corto plazo","18",{"$f":"SUM(D122:D124)","v":0},{"$f":"SUM(E122:E124)","v":556.53648999999996},null,0,1.8751690346360971E-4,-556.53648999999996,-1,null,"La cuenta Otros pasivos a corto plazo, representa el 0,00% del total del Pasivo, que comparado al periodo anterior genera una variación absoluta de -0 556,54 que corresponde a un Disminución del -100,00% de recursos disponibles."]
["2.1.9.01.","Ingresos a devengar a corto plazo",null,{"$f":"IFERROR(VLOOKUP(A122,BC_ACTUAL!B:G,6,0)/1000,0)","v":0},{"$f":"IFERROR(VLOOKUP(A122,BC_ANTERIOR!B:G,6,0)/1000,0)","v":0},null,0,0,0,0,null,"La cuenta Ingresos a devengar a corto plazo, representa el 0,00% del total del Pasivo, que comparado al periodo anterior genera una variación absoluta de 0 000,00 que corresponde a un Aumento del 0,00% de recursos disponibles."]
["2.1.9.02.","Instrumentos Derivados a pagar a corto plazo",null,{"$f":"IFERROR(VLOOKUP(A123,BC_ACTUAL!B:G,6,0)/1000,0)","v":0},{"$f":"IFERROR(VLOOKUP(A123,BC_ANTERIOR!B:G,6,0)/1000,0)","v":0},null,0,0,0,0,null,"La cuenta Instrumentos Derivados a pagar a corto plazo, representa el 0,00% del total del Pasivo, que comparado al periodo anterior genera una variación absoluta de 0 000,00 que corresponde a un Aumento del 0,00% de recursos disponibles."]
["2.1.9.99.","Pasivos a corto plazo sujetos a depuración contable",null,{"$f":"IFERROR(VLOOKUP(A124,BC_ACTUAL!B:G,6,0)/1000,0)","v":0},{"$f":"IFERROR(VLOOKUP(A124,BC_ANTERIOR!B:G,6,0)/1000,0)","v":556.53648999999996},null,0,1.8751690346360971E-4,-556.53648999999996,-1,null,"La cuenta Pasivos a corto plazo sujetos a depuración contable, representa el 0,00% del total del Pasivo, que comparado al periodo anterior genera una variación absoluta de -0 556,54 que corresponde a un Disminución del -100,00% de recursos disponibles."]
[null,"Total del Pasivo Corriente",null,{"$f":"+D121+D118+D112+D106+D95","v":795321.91681000008},{"$f":"+E121+E118+E112+E106+E95","v":1811871.7987000002},null,{"$f":"+G121+G118+G112+G106+G95","v":0.41075593151159329},{"$f":"+H121+H118+H112+H106+H95","v":0.61048393999334127},{"$f":"+I121+I118+I112+I106+I95","v":-1016549.8818900001},-0.56104956356148616]
[]
["2.2.","Pasivo No Corriente"]
["2.2.1.","Deudas a largo plazo","19",{"$f":"SUM(D129:D135)","v":0},{"$f":"SUM(E129:E135)","v":0},null,0,{"$f":"IFERROR(E128/$E$151,0)","v":0},0,0,null,"La cuenta Deudas a largo plazo, representa el 0,00% del total del Pasivo, que comparado al periodo anterior genera una variación absoluta de 0 000,00 que corresponde a un Aumento del 0,00% de recursos disponibles."]
["2.2.1.01.","Deudas comerciales a largo plazo",null,{"$f":"IFERROR(VLOOKUP(A129,BC_ACTUAL!B:G,6,0)/1000,0)","v":0},{"$f":"IFERROR(VLOOKUP(A129,BC_ANTERIOR!B:G,6,0)/1000,0)","v":0},null,0,0,0,0,null,"La cuenta Deudas comerciales a largo plazo, representa el 0,00% del total del Pasivo, que comparado al periodo anterior genera una variación absoluta de 0 000,00 que corresponde a un Aumento del 0,00% de recursos disponibles."]
["2.2.1.02.","Deudas sociales y fiscales a largo plazo",null,{"$f":"IFERROR(VLOOKUP(A130,BC_ACTUAL!B:G,6,0)/1000,0)","v":0},{"$f":"IFERROR(VLOOKUP(A130,BC_ANTERIOR!B:G,6,0)/1000,0)","v":0},null,0,0,0,0,null,"La cuenta Deudas sociales y fiscales a largo plazo, representa el 0,00% del total del Pasivo, que comparado al periodo anterior genera una variación absoluta de 0 000,00 que corresponde a un Aumento del 0,00% de recursos disponibles."]
["2.2.1.04.","Documentos a pagar a largo plazo",null,{"$f":"IFERROR(VLOOKUP(A131,BC_ACTUAL!B:G,6,0)/1000,0)","v":0},{"$f":"IFERROR(VLOOKUP(A131,BC_ANTERIOR!B:G,6,0)/1000,0)","v":0},null,0,0,0,0,null,"La cuenta Documentos a pagar a largo plazo, representa el 0,00% del total del Pasivo, que comparado al periodo anterior genera una variación absoluta de 0 000,00 que corresponde a un Aumento del 0,00% de recursos disponibles."]
["2.2.1.05.","Inversiones patrimoniales a pagar a largo plazo",null,{"$f":"IFERROR(VLOOKUP(A132,BC_ACTUAL!B:G,6,0)/1000,0)","v":0},{"$f":"IFERROR(VLOOKUP(A132,BC_ANTERIOR!B:G,6,0)/1000,0)","v":0},null,0,0,0,0,null,"La cuenta Inversiones patrimoniales a pagar a largo plazo, representa el 0,00% del total del Pasivo, que comparado al periodo anterior genera una variación absoluta de 0 000,00 que corresponde a un Aumento del 0,00% de recursos disponibles."]
["2.2.1.06.","Deudas por avales ejecutados a largo plazo",null,{"$f":"IFERROR(VLOOKUP(A133,BC_ACTUAL!B:G,6,0)/1000,0)","v":0},{"$f":"IFERROR(VLOOKUP(A133,BC_ANTERIOR!B:G,6,0)/1000,0)","v":0},null,0,0,0,0,null,"La cuenta Deudas por avales ejecutados a largo plazo, representa el 0,00% del total del Pasivo, que comparado al periodo anterior genera una variación absoluta de 0 000,00 que corresponde a un Aumento del 0,00% de recursos disponibles."]
["2.2.1.07.","Deudas por anticipos a largo plazo",null,{"$f":"IFERROR(VLOOKUP(A134,BC_ACTUAL!B:G,6,0)/1000,0)","v":0},{"$f":"IFERROR(VLOOKUP(A134,BC_ANTERIOR!B:G,6,0)/1000,0)","v":0},null,0,0,0,0,null,"La cuenta Deudas por anticipos a largo plazo, representa el 0,00% del total del Pasivo, que comparado al periodo anterior genera una variación absoluta de 0 000,00 que corresponde a un Aumento del 0,00% de recursos disponibles."]
["2.2.1.99.","Otras deudas a largo plazo",null,{"$f":"IFERROR(VLOOKUP(A135,BC_ACTUAL!B:G,6,0)/1000,0)","v":0},{"$f":"IFERROR(VLOOKUP(A135,BC_ANTERIOR!B:G,6,0)/1000,0)","v":0},null,0,0,0,0,null,"La cuenta Otras deudas a largo plazo, representa el 0,00% del total del Pasivo, que comparado al periodo anterior genera una variación absoluta de 0 000,00 que corresponde a un Aumento del 0,00% de recursos disponibles."]
["2.2.2.","Endeudamiento público a largo plazo","20",{"$f":"SUM(D137:D139)","v":1098005.36283},{"$f":"SUM(E137:E139)","v":1153101.0906500001},null,0.56708133660260629,0.38852069861438765,-55095.727820000146,-4.7780483659886942E-2,null,"La cuenta Endeudamiento público a largo plazo, representa el 56,71% del total del Pasivo, que comparado al periodo anterior genera una variación absoluta de -55 095,73 que corresponde a un Disminución del -4,78% de recursos disponibles."]
["2.2.2.01.","Títulos y valores de la deuda pública a pagar a largo plazo",null,{"$f":"IFERROR(VLOOKUP(A137,BC_ACTUAL!B:G,6,0)/1000,0)","v":0},{"$f":"IFERROR(VLOOKUP(A137,BC_ANTERIOR!B:G,6,0)/1000,0)","v":0},null,0,0,0,0,null,"La cuenta Títulos y valores de la deuda pública a pagar a largo plazo, representa el 0,00% del total del Pasivo, que comparado al periodo anterior genera una variación absoluta de 0 000,00 que corresponde a un Aumento del 0,00% de recursos disponibles."]
["2.2.2.02.","Préstamos a pagar a largo plazo",null,{"$f":"IFERROR(VLOOKUP(A138,BC_ACTUAL!B:G,6,0)/1000,0)","v":1098005.36283},{"$f":"IFERROR(VLOOKUP(A138,BC_ANTERIOR!B:G,6,0)/1000,0)","v":1153101.0906500001},null,0.56708133660260629,0.38852069861438765,-55095.727820000146,-4.7780483659886942E-2,null,"La cuenta Préstamos a pagar a largo plazo, representa el 56,71% del total del Pasivo, que comparado al periodo anterior genera una variación absoluta de -55 095,73 que corresponde a un Disminución del -4,78% de recursos disponibles."]
["2.2.2.03.","Deudas asumidas a largo plazo",null,{"$f":"IFERROR(VLOOKUP(A139,BC_ACTUAL!B:G,6,0)/1000,0)","v":0},{"$f":"IFERROR(VLOOKUP(A139,BC_ANTERIOR!B:G,6,0)/1000,0)","v":0},null,0,0,{"$f":"IFERROR(D139-E139,0)","v":0},{"$f":"IFERROR(I139/E139,0)","v":0},null,{"$f":"\"La\"&\" \"&\"cuenta\"&\" \"&B139&\",\"&\" \"&\"representa\"&\" \"&\"el\"&\" \"&TEXT(G139,\"0,00%\")&\" \"&\"del\"&\" \"&\"total\"&\" \"&\"del\"&\" \"&IF(MID(A139,1,2)=\"1.\",\"Activo\",IF(MID(A139,1,2)=\"2.\",\"Pasivo\",IF(MID(A139,1,2)=\"3.\",\"Capital\",IF(MID(A139,1,2)=\"4.\",\"Ingresos\",IF(MID(A139,1,2)=\"5.\",\"Gastos\",\"\")))))&\",\"&\" \"&\"que\"&\" \"&\"comparado\"&\" \"&\"al\"&\" \"&\"periodo\"&\" \"&\"anterior\"&\" \"&\"genera\"&\" \"&\"una\"&\" \"&\"variación\"&\" \"&\"absoluta\"&\" \"&\"de\"&\" \"&TEXT(I139,\"0 000,00\")&\" \"&\"que\"&\" \"&\"corresponde\"&\" \"&\"a\"&\" \"&\"un\"&\" \"&IF(I139<0,\"Disminución\",\"Aumento\")&\" \"&\"del\"&\" \"&TEXT(J139,\"0,00%\")&\" \"&\"de\"&\" \"&\"recursos\"&\" \"&\"disponibles\"&\".\"","v":"La cuenta Deudas asumidas a largo plazo, representa el 0,00% del total del Pasivo, que comparado al periodo anterior genera una variación absoluta de 0 000,00 que corresponde a un Aumento del 0,00% de recursos disponibles."}]
["2.2.3.","Fondos de terceros y en garantía","21",{"$f":"SUM(D141:D142)","v":0},{"$f":"SUM(E141:E142)","v":0},null,0,0,0,0,null,"La cuenta Fondos de terceros y en garantía, representa el 0,00% del total del Pasivo, que comparado al periodo anterior genera una variación absoluta de 0 000,00 que corresponde a un Aumento del 0,00% de recursos disponibles."]
["2.2.3.01.","Fondos de terceros en la Caja Única",null,{"$f":"IFERROR(VLOOKUP(A141,BC_ACTUAL!B:G,6,0)/1000,0)","v":0},{"$f":"IFERROR(VLOOKUP(A141,BC_ANTERIOR!B:G,6,0)/1000,0)","v":0},null,0,0,0,0,null,"La cuenta Fondos de terceros en la Caja Única, representa el 0,00% del total del Pasivo, que comparado al periodo anterior genera una variación absoluta de 0 000,00 que corresponde a un Aumento del 0,00% de recursos disponibles."]
["2.2.3.99.","Otros fondos de terceros",null,{"$f":"IFERROR(VLOOKUP(A142,BC_ACTUAL!B:G,6,0)/1000,0)","v":0},{"$f":"IFERROR(VLOOKUP(A142,BC_ANTERIOR!B:G,6,0)/1000,0)","v":0},null,0,0,0,0,null,"La cuenta Otros fondos de terceros, representa el 0,00% del total del Pasivo, que comparado al periodo anterior genera una variación absoluta de 0 000,00 que corresponde a un Aumento del 0,00% de recursos disponibles."]
["2.2.4.","Provisiones y reservas técnicas a largo plazo","22",{"$f":"SUM(D144:D145)","v":42912.36},{"$f":"SUM(E144:E145)","v":2954.16},null,2.2162731885800344E-2,9.9536139227107516E-4,39958.199999999997,13.526078479161589,null,"La cuenta Provisiones y reservas técnicas a largo plazo, representa el 2,22% del total del Pasivo, que comparado al periodo anterior genera una variación absoluta de 39 958,20 que corresponde a un Aumento del 1352,61% de recursos disponibles."]
["2.2.4.01.","Provisiones a largo plazo",null,{"$f":"IFERROR(VLOOKUP(A144,BC_ACTUAL!B:G,6,0)/1000,0)","v":42912.36},{"$f":"IFERROR(VLOOKUP(A144,BC_ANTERIOR!B:G,6,0)/1000,0)","v":2954.16},null,2.2162731885800344E-2,9.9536139227107516E-4,39958.199999999997,13.526078479161589,null,"La cuenta Provisiones a largo plazo, representa el 2,22% del total del Pasivo, que comparado al periodo anterior genera una variación absoluta de 39 958,20 que corresponde a un Aumento del 1352,61% de recursos disponibles."]
["2.2.4.02.","Reservas técnicas a largo plazo",null,{"$f":"IFERROR(VLOOKUP(A145,BC_ACTUAL!B:G,6,0)/1000,0)","v":0},{"$f":"IFERROR(VLOOKUP(A145,BC_ANTERIOR!B:G,6,0)/1000,0)","v":0},null,0,0,0,0,null,"La cuenta Reservas técnicas a largo plazo, representa el 0,00% del total del Pasivo, que comparado al periodo anterior genera una variación absoluta de 0 000,00 que corresponde a un Aumento del 0,00% de recursos disponibles."]
["2.2.9.","Otros pasivos a largo plazo","23",{"$f":"SUM(D147:D149)","v":0},{"$f":"SUM(E147:E149)","v":0},null,0,0,0,0,null,"La cuenta Otros pasivos a largo plazo, representa el 0,00% del total del Pasivo, que comparado al periodo anterior genera una variación absoluta de 0 000,00 que corresponde a un Aumento del 0,00% de recursos disponibles."]
["2.2.9.01.","Ingresos a devengar a largo plazo",null,{"$f":"IFERROR(VLOOKUP(A147,BC_ACTUAL!B:G,6,0)/1000,0)","v":0},{"$f":"IFERROR(VLOOKUP(A147,BC_ANTERIOR!B:G,6,0)/1000,0)","v":0},null,0,0,0,0,null,"La cuenta Ingresos a devengar a largo plazo, representa el 0,00% del total del Pasivo, que comparado al periodo anterior genera una variación absoluta de 0 000,00 que corresponde a un Aumento del 0,00% de recursos disponibles."]
["2.2.9.02.","Instrumentos Derivados a pagar a largo plazo",null,{"$f":"IFERROR(VLOOKUP(A148,BC_ACTUAL!B:G,6,0)/1000,0)","v":0},{"$f":"IFERROR(VLOOKUP(A148,BC_ANTERIOR!B:G,6,0)/1000,0)","v":0},null,0,0,0,0,null,"La cuenta Instrumentos Derivados a pagar a largo plazo, representa el 0,00% del total del Pasivo, que comparado al periodo anterior genera una variación absoluta de 0 000,00 que corresponde a un Aumento del 0,00% de recursos disponibles."]
["2.2.9.99.","Pasivos a largo plazo sujetos a depuración contable",null,{"$f":"IFERROR(VLOOKUP(A149,BC_ACTUAL!B:G,6,0)/1000,0)","v":0},{"$f":"IFERROR(VLOOKUP(A149,BC_ANTERIOR!B:G,6,0)/1000,0)","v":0},null,0,0,0,0,null,"La cuenta Pasivos a largo plazo sujetos a depuración contable, representa el 0,00% del total del Pasivo, que comparado al periodo anterior genera una variación absoluta de 0 000,00 que corresponde a un Aumento del 0,00% de recursos disponibles."]
[null,"Total del Pasivo no Corriente",null,{"$f":"+D146+D143+D140+D136+D128","v":1140917.7228300001},{"$f":"+E146+E143+E140+E136+E128","v":1156055.2506500001},null,{"$f":"+G146+G143+G140+G136+G128","v":0.5892440684884066},{"$f":"+H146+H143+H140+H136+H128","v":0.38951606000665873},{"$f":"+I146+I143+I140+I136+I128","v":-15137.527820000148},-1.3094121419792841E-2]
[null,"TOTAL DEL PASIVO",null,{"$f":"+D150+D125","v":1936239.6396400002},{"$f":"+E150+E125","v":2967927.04935},null,{"$f":"+G150+G125","v":0.99999999999999989},{"$f":"+H150+H125","v":1},{"$f":"+I150+I125","v":-1031687.4097100003},-0.34761211867924724]
[]
["3.","PATRIMONIO"]
["3.1.","Patrimonio público"]
["3.1.1.","Capital","24",{"$f":"SUM(D156:D157)","v":0.52479999999999993},{"$f":"SUM(E156:E157)","v":0.52479999999999993},null,{"$f":"IFERROR(D155/$D$181,0)","v":3.1605384676897775E-9},{"$f":"IFERROR(E155/$E$181,0)","v":3.1842177687518665E-9},0,0,null,"La cuenta Capital, representa el 0,00% del total del Capital, que comparado al periodo anterior genera una variación absoluta de 0 000,00 que corresponde a un Aumento del 0,00% de recursos disponibles."]
["3.1.1.01.","Capital inicial",null,{"$f":"IFERROR(VLOOKUP(A156,BC_ACTUAL!B:G,6,0)/1000,0)","v":0.52479999999999993},{"$f":"IFERROR(VLOOKUP(A156,BC_ANTERIOR!B:G,6,0)/1000,0)","v":0.52479999999999993},null,{"$f":"IFERROR(D156/$D$181,0)","v":3.1605384676897775E-9},{"$f":"IFERROR(E156/$E$181,0)","v":3.1842177687518665E-9},0,0,null,"La cuenta Capital inicial, representa el 0,00% del total del Capital, que comparado al periodo anterior genera una variación absoluta de 0 000,00 que corresponde a un Aumento del 0,00% de recursos disponibles."]
["3.1.1.02.","Incorporaciones al capital",null,{"$f":"IFERROR(VLOOKUP(A157,BC_ACTUAL!B:G,6,0)/1000,0)","v":0},{"$f":"IFERROR(VLOOKUP(A157,BC_ANTERIOR!B:G,6,0)/1000,0)","v":0},null,0,0,0,0,null,"La cuenta Incorporaciones al capital, representa el 0,00% del total del Capital, que comparado al periodo anterior genera una variación absoluta de 0 000,00 que corresponde a un Aumento del 0,00% de recursos disponibles."]
["3.1.2.","Transferencias de capital","25",{"$f":"SUM(D159:D160)","v":0},{"$f":"SUM(E159:E160)","v":0},null,0,0,0,0,null,"La cuenta Transferencias de capital, representa el 0,00% del total del Capital, que comparado al periodo anterior genera una variación absoluta de 0 000,00 que corresponde a un Aumento del 0,00% de recursos disponibles."]
["3.1.2.01.","Donaciones de capital",null,{"$f":"IFERROR(VLOOKUP(A159,BC_ACTUAL!B:G,6,0)/1000,0)","v":0},{"$f":"IFERROR(VLOOKUP(A159,BC_ANTERIOR!B:G,6,0)/1000,0)","v":0},null,0,0,0,0,null,"La cuenta Donaciones de capital, representa el 0,00% del total del Capital, que comparado al periodo anterior genera una variación absoluta de 0 000,00 que corresponde a un Aumento del 0,00% de recursos disponibles."]
["3.1.2.99.","Otras transferencias de capital",null,{"$f":"IFERROR(VLOOKUP(A160,BC_ACTUAL!B:G,6,0)/1000,0)","v":0},{"$f":"IFERROR(VLOOKUP(A160,BC_ANTERIOR!B:G,6,0)/1000,0)","v":0},null,0,0,0,0,null,"La cuenta Otras transferencias de capital, representa el 0,00% del total del Capital, que comparado al periodo anterior genera una variación absoluta de 0 000,00 que corresponde a un Aumento del 0,00% de recursos disponibles."]
["3.1.3.","Reservas","26",{"$f":"SUM(D162:D163)","v":0},{"$f":"SUM(E162:E163)","v":0},null,0,0,0,0,null,"La cuenta Reservas, representa el 0,00% del total del Capital, que comparado al periodo anterior genera una variación absoluta de 0 000,00 que corresponde a un Aumento del 0,00% de recursos disponibles."]
["3.1.3.01.","Revaluación de bienes",null,{"$f":"IFERROR(VLOOKUP(A162,BC_ACTUAL!B:G,6,0)/1000,0)","v":0},{"$f":"IFERROR(VLOOKUP(A162,BC_ANTERIOR!B:G,6,0)/1000,0)","v":0},null,0,0,0,0,null,"La cuenta Revaluación de bienes, representa el 0,00% del total del Capital, que comparado al periodo anterior genera una variación absoluta de 0 000,00 que corresponde a un Aumento del 0,00% de recursos disponibles."]
["3.1.3.99.","Otras reservas",null,{"$f":"IFERROR(VLOOKUP(A163,BC_ACTUAL!B:G,6,0)/1000,0)","v":0},{"$f":"IFERROR(VLOOKUP(A163,BC_ANTERIOR!B:G,6,0)/1000,0)","v":0},null,0,0,0,0,null,"La cuenta Otras reservas, representa el 0,00% del total del Capital, que comparado al periodo anterior genera una variación absoluta de 0 000,00 que corresponde a un Aumento del 0,00% de recursos disponibles."]
["3.1.4.","Variaciones no asignables a reservas","27",{"$f":"SUM(D165:D168)","v":0},{"$f":"SUM(E165:E168)","v":0},null,0,0,0,0,null,"La cuenta Variaciones no asignables a reservas, representa el 0,00% del total del Capital, que comparado al periodo anterior genera una variación absoluta de 0 000,00 que corresponde a un Aumento del 0,00% de recursos disponibles."]
["3.1.4.01.","Diferencias de conversión de moneda extranjera",null,{"$f":"IFERROR(VLOOKUP(A165,BC_ACTUAL!B:G,6,0)/1000,0)","v":0},{"$f":"IFERROR(VLOOKUP(A165,BC_ANTERIOR!B:G,6,0)/1000,0)","v":0},null,0,0,0,0,null,"La cuenta Diferencias de conversión de moneda extranjera, representa el 0,00% del total del Capital, que comparado al periodo anterior genera una variación absoluta de 0 000,00 que corresponde a un Aumento del 0,00% de recursos disponibles."]
["3.1.4.02.","Diferencias de valor razonable de activos financieros destinados a la venta",null,{"$f":"IFERROR(VLOOKUP(A166,BC_ACTUAL!B:G,6,0)/1000,0)","v":0},{"$f":"IFERROR(VLOOKUP(A166,BC_ANTERIOR!B:G,6,0)/1000,0)","v":0},null,0,0,0,0,null,"La cuenta Diferencias de valor razonable de activos financieros destinados a la venta, representa el 0,00% del total del Capital, que comparado al periodo anterior genera una variación absoluta de 0 000,00 que corresponde a un Aumento del 0,00% de recursos disponibles."]
["3.1.4.03.","Diferencias de valor razonable de instrumentos financieros designados como cobertura",null,{"$f":"IFERROR(VLOOKUP(A167,BC_ACTUAL!B:G,6,0)/1000,0)","v":0},{"$f":"IFERROR(VLOOKUP(A167,BC_ANTERIOR!B:G,6,0)/1000,0)","v":0},null,0,0,0,0,null,"La cuenta Diferencias de valor razonable de instrumentos financieros designados como cobertura, representa el 0,00% del total del Capital, que comparado al periodo anterior genera una variación absoluta de 0 000,00 que corresponde a un Aumento del 0,00% de recursos disponibles."]
["3.1.4.99.","Otras variaciones no asignables a reservas",null,{"$f":"IFERROR(VLOOKUP(A168,BC_ACTUAL!B:G,6,0)/1000,0)","v":0},{"$f":"IFERROR(VLOOKUP(A168,BC_ANTERIOR!B:G,6,0)/1000,0)","v":0},null,0,0,0,0,null,"La cuenta Otras variaciones no asignables a reservas, representa el 0,00% del total del Capital, que comparado al periodo anterior genera una variación absoluta de 0 000,00 que corresponde a un Aumento del 0,00% de recursos disponibles."]
["3.1.5.","Resultados acumulados","28",{"$f":"SUM(D170:D171)","v":166047654.12805},{"$f":"SUM(E170:E171)","v":164812847.75150001},null,0.9999999968394615,0.99999999681578222,1234806.376549989,7.4921730520171211E-3,null,"La cuenta Resultados acumulados, representa el 100,00% del total del Capital, que comparado al periodo anterior genera una variación absoluta de 1 234 806,38 que corresponde a un Aumento del 0,75% de recursos disponibles."]
["3.1.5.01.","Resultados acumulados de ejercicios anteriores",null,{"$f":"IFERROR(VLOOKUP(A170,BC_ACTUAL!B:G,6,0)/1000,0)","v":164118481.1347},{"$f":"IFERROR(VLOOKUP(A170,BC_ANTERIOR!B:G,6,0)/1000,0)","v":163345249.51438001},null,0.98838180808886911,0.99109536193768311,773231.6203199923,4.7337257901211337E-3,null,"La cuenta Resultados acumulados de ejercicios anteriores, representa el 98,84% del total del Capital, que comparado al periodo anterior genera una variación absoluta de 773 231,62 que corresponde a un Aumento del 0,47% de recursos disponibles."]
["3.1.5.02.","Resultado del ejercicio",null,{"$f":"IFERROR((VLOOKUP(\"4.\",BC_ACTUAL!B:G,6,FALSE))-(VLOOKUP(\"5.\",BC_ACTUAL!B:G,6,0)),0)/1000","v":1929172.9933499999},{"$f":"IFERROR((VLOOKUP(\"4.\",BC_ANTERIOR!B:G,6,FALSE))-(VLOOKUP(\"5.\",BC_ANTERIOR!B:G,6,0)),0)/1000","v":1467598.2371200004},null,1.1618188750592437E-2,8.9046348780991262E-3,461574.75622999948,0.31451029618009696,null,"La cuenta Resultado del ejercicio, representa el 1,16% del total del Capital, que comparado al periodo anterior genera una variación absoluta de 461 574,76 que corresponde a un Aumento del 31,45% de recursos disponibles."]
["3.2.","Intereses minoritarios"]
["3.2.1.","Intereses minoritarios - Participaciones en el patrimonio de entidades controladas","29",{"$f":"SUM(D174:D175)","v":0},{"$f":"SUM(E174:E175)","v":0},null,{"$f":"IFERROR(D173/$D$181,0)","v":0},{"$f":"IFERROR(E173/$E$181,0)","v":0},0,0,null,"La cuenta Intereses minoritarios - Participaciones en el patrimonio de entidades controladas, representa el 0,00% del total del Capital, que comparado al periodo anterior genera una variación absoluta de 0 000,00 que corresponde a un Aumento del 0,00% de recursos disponibles."]
["3.2.1.01.","Intereses minoritarios - Participaciones en el patrimonio de entidades del sector gobierno general",null,{"$f":"IFERROR(VLOOKUP(A174,BC_ACTUAL!B:G,6,0)/1000,0)","v":0},{"$f":"IFERROR(VLOOKUP(A174,BC_ANTERIOR!B:G,6,0)/1000,0)","v":0},null,0,0,0,0,null,"La cuenta Intereses minoritarios - Participaciones en el patrimonio de entidades del sector gobierno general, representa el 0,00% del total del Capital, que comparado al periodo anterior genera una variación absoluta de 0 000,00 que corresponde a un Aumento del 0,00% de recursos disponibles."]
["3.2.1.02.","Intereses minoritarios - Participaciones en el patrimonio de empresas públicas e instituciones públicas financieras",null,{"$f":"IFERROR(VLOOKUP(A175,BC_ACTUAL!B:G,6,0)/1000,0)","v":0},{"$f":"IFERROR(VLOOKUP(A175,BC_ANTERIOR!B:G,6,0)/1000,0)","v":0},null,0,0,0,0,null,"La cuenta Intereses minoritarios - Participaciones en el patrimonio de empresas públicas e instituciones públicas financieras, representa el 0,00% del total del Capital, que comparado al periodo anterior genera una variación absoluta de 0 000,00 que corresponde a un Aumento del 0,00% de recursos disponibles."]
["3.2.2.","Intereses minoritarios - Evolución","30",{"$f":"SUM(D177:D180)","v":0},{"$f":"SUM(E177:E180)","v":0},null,0,0,0,0,null,"La cuenta Intereses minoritarios - Evolución, representa el 0,00% del total del Capital, que comparado al periodo anterior genera una variación absoluta de 0 000,00 que corresponde a un Aumento del 0,00% de recursos disponibles."]
["3.2.2.01.","Intereses minoritarios - Evolución por reservas",null,{"$f":"IFERROR(VLOOKUP(A177,BC_ACTUAL!B:G,6,0)/1000,0)","v":0},{"$f":"IFERROR(VLOOKUP(A177,BC_ANTERIOR!B:G,6,0)/1000,0)","v":0},null,0,0,0,0,null,"La cuenta Intereses minoritarios - Evolución por reservas, representa el 0,00% del total del Capital, que comparado al periodo anterior genera una variación absoluta de 0 000,00 que corresponde a un Aumento del 0,00% de recursos disponibles."]
["3.2.2.02.","Intereses minoritarios - Evolución por variaciones no asignables a reservas",null,{"$f":"IFERROR(VLOOKUP(A178,BC_ACTUAL!B:G,6,0)/1000,0)","v":0},{"$f":"IFERROR(VLOOKUP(A178,BC_ANTERIOR!B:G,6,0)/1000,0)","v":0},null,0,0,0,0,null,"La cuenta Intereses minoritarios - Evolución por variaciones no asignables a reservas, representa el 0,00% del total del Capital, que comparado al periodo anterior genera una variación absoluta de 0 000,00 que corresponde a un Aumento del 0,00% de recursos disponibles."]
["3.2.2.03.","Intereses minoritarios - Evolución por resultados acumulados",null,{"$f":"IFERROR(VLOOKUP(A179,BC_ACTUAL!B:G,6,0)/1000,0)","v":0},{"$f":"IFERROR(VLOOKUP(A179,BC_ANTERIOR!B:G,6,0)/1000,0)","v":0},null,0,0,0,0,null,"La cuenta Intereses minoritarios - Evolución por resultados acumulados, representa el 0,00% del total del Capital, que comparado al periodo anterior genera una variación absoluta de 0 000,00 que corresponde a un Aumento del 0,00% de recursos disponibles."]
["3.2.2.99.","Intereses minoritarios - Evolución por otros componentes del patrimonio",null,{"$f":"IFERROR(VLOOKUP(A180,BC_ACTUAL!B:G,6,0)/1000,0)","v":0},{"$f":"IFERROR(VLOOKUP(A180,BC_ANTERIOR!B:G,6,0)/1000,0)","v":0},null,0,0,0,0,null,"La cuenta Intereses minoritarios - Evolución por otros componentes del patrimonio, representa el 0,00% del total del Capital, que comparado al periodo anterior genera una variación absoluta de 0 000,00 que corresponde a un Aumento del 0,00% de recursos disponibles."]
[null,"TOTAL DEL PATRIMONIO",null,{"$f":"+D176+D173+D169+D164+D161+D158+D155","v":166047654.65285},{"$f":"+E176+E173+E169+E164+E161+E158+E155","v":164812848.27630001},null,{"$f":"+G176+G173+G169+G164+G161+G158+G155","v":1},{"$f":"+H176+H173+H169+H164+H161+H158+H155","v":1},{"$f":"+I176+I173+I169+I164+I161+I158+I155","v":1234806.376549989},7.492173028160411E-3]
[null,"TOTAL DEL PASIVO Y PATRIMONIO",null,{"$f":"+D181+D151","v":167983894.29249001},{"$f":"+E181+E151","v":167780775.32565001},null,{"$f":"+G181+G151","v":2},{"$f":"+H181+H151","v":2},{"$f":"+I181+I151","v":203118.96683998872},1.2106212195393061E-3]
[null,null,null,{"$f":"+D182-D91","v":1.9997358322143555E-5},{"$f":"+E182-E91","v":1.9967555999755859E-5},null,{"$f":"+G182-G91","v":1},{"$f":"+H182-H91","v":1},{"$f":"IFERROR(D183-E183,0)","v":2.9802322387695313E-8},1.4925373134328358E-3]

{"sheet":"EEFF_RENDIMIENTOS","index":4,"n_rows":232,"n_cols":12,"rows_kept":232,"cut":false,"hidden":false,"merged":[[0,0,0,4],[1,0,1,4],[2,0,2,4],[3,0,3,4],[0,6,0,9],[1,6,1,9],[2,6,2,9],[3,6,3,9]]}
[{"$f":"DATOS!D13","v":"Municipalidad de Buenos Aires"}]
["Estado de Rendimiento Financiera",null,null,null,null,null,"Estado de Rendimiento Financiera"]
[{"$f":"DATOS!D15&\" \"&RIGHT(D6,4)","v":"Del 01 de Enero al 30 de Junio 2024"},null,null,null,null,null,"Análisis de Variaciones"]
["- En miles de colones -",null,null,null,null,null,{"$f":"DATOS!D15&\" \"&RIGHT(D6,4)","v":"Del 01 de Enero al 30 de Junio 2024"}]
[]
["Cuenta","Descripción","Nota",{"$f":"PROPER(DATOS!D17)","v":"Junio 2024"},{"$f":"PROPER(DATOS!D18)","v":"Junio 2023"},null,"Análisis Vertical (%)","%","Monto Variación\nAbsoluta"," Variación relativa (%)"]
[]
["4.","INGRESOS"]
["4.1.","Impuestos"]
["4.1.1.","Impuestos sobre los ingresos, las utilidades y las ganancias de capital",31,{"$f":"SUM(D11:D14)","v":0},{"$f":"SUM(E11:E14)","v":0},null,{"$f":"IFERROR(D10/$D$133,0)","v":0},{"$f":"IFERROR(E10/$E$133,0)","v":0},{"$f":"IFERROR(D10-E10,0)","v":0},{"$f":"IFERROR(I10/E10,0)","v":0},null,{"$f":"\"La\"&\" \"&\"cuenta\"&\" \"&B10&\",\"&\" \"&\"representa\"&\" \"&\"el\"&\" \"&TEXT(G10,\"0,00%\")&\" \"&\"del\"&\" \"&\"total\"&\" \"&\"del\"&\" \"&IF(MID(A10,1,2)=\"1.\",\"Activo\",IF(MID(A10,1,2)=\"2.\",\"Pasivo\",IF(MID(A10,1,2)=\"3.\",\"Capital\",IF(MID(A10,1,2)=\"4.\",\"Ingresos\",IF(MID(A10,1,2)=\"5.\",\"Gastos\",\"\")))))&\",\"&\" \"&\"que\"&\" \"&\"comparado\"&\" \"&\"al\"&\" \"&\"periodo\"&\" \"&\"anterior\"&\" \"&\"genera\"&\" \"&\"una\"&\" \"&\"variación\"&\" \"&\"absoluta\"&\" \"&\"de\"&\" \"&TEXT(I10,\"0 000,00\")&\" \"&\"que\"&\" \"&\"corresponde\"&\" \"&\"a\"&\" \"&\"un\"&\" \"&IF(I10<0,\"Disminución\",\"Aumento\")&\" \"&\"del\"&\" \"&TEXT(J10,\"0,00%\")&\" \"&\"de\"&\" \"&\"recursos\"&\" \"&\"disponibles\"&\".\"","v":"La cuenta Impuestos sobre los ingresos, las utilidades y las ganancias de capital, representa el 0,00% del total del Ingresos, que comparado al periodo anterior genera una variación absoluta de 0 000,00 que corresponde a un Aumento del 0,00% de recursos disponibles."}]
["4.1.1.01.","Impuestos sobre los ingresos y utilidades de personas físicas",null,{"$f":"IFERROR(VLOOKUP(A11,BC_ACTUAL!B:G,6,0)/1000,0)","v":0},{"$f":"IFERROR(VLOOKUP(A11,BC_ANTERIOR!B:G,6,0)/1000,0)","v":0},null,{"$f":"IFERROR(D11/$D$133,0)","v":0},{"$f":"IFERROR(E11/$E$133,0)","v":0},{"$f":"IFERROR(D11-E11,0)","v":0},{"$f":"IFERROR(I11/E11,0)","v":0},null,{"$f":"\"La\"&\" \"&\"cuenta\"&\" \"&B11&\",\"&\" \"&\"representa\"&\" \"&\"el\"&\" \"&TEXT(G11,\"0,00%\")&\" \"&\"del\"&\" \"&\"total\"&\" \"&\"del\"&\" \"&IF(MID(A11,1,2)=\"1.\",\"Activo\",IF(MID(A11,1,2)=\"2.\",\"Pasivo\",IF(MID(A11,1,2)=\"3.\",\"Capital\",IF(MID(A11,1,2)=\"4.\",\"Ingresos\",IF(MID(A11,1,2)=\"5.\",\"Gastos\",\"\")))))&\",\"&\" \"&\"que\"&\" \"&\"comparado\"&\" \"&\"al\"&\" \"&\"periodo\"&\" \"&\"anterior\"&\" \"&\"genera\"&\" \"&\"una\"&\" \"&\"variación\"&\" \"&\"absoluta\"&\" \"&\"de\"&\" \"&TEXT(I11,\"0 000,00\")&\" \"&\"que\"&\" \"&\"corresponde\"&\" \"&\"a\"&\" \"&\"un\"&\" \"&IF(I11<0,\"Disminución\",\"Aumento\")&\" \"&\"del\"&\" \"&TEXT(J11,\"0,00%\")&\" \"&\"de\"&\" \"&\"recursos\"&\" \"&\"disponibles\"&\".\"","v":"La cuenta Impuestos sobre los ingresos y utilidades de personas físicas, representa el 0,00% del total del Ingresos, que comparado al periodo anterior genera una variación absoluta de 0 000,00 que corresponde a un Aumento del 0,00% de recursos disponibles."}]
["4.1.1.02.","Impuestos sobre los ingresos y utilidades de personas jurídicas",null,{"$f":"IFERROR(VLOOKUP(A12,BC_ACTUAL!B:G,6,0)/1000,0)","v":0},{"$f":"IFERROR(VLOOKUP(A12,BC_ANTERIOR!B:G,6,0)/1000,0)","v":0},null,0,0,0,0,null,"La cuenta Impuestos sobre los ingresos y utilidades de personas jurídicas, representa el 0,00% del total del Ingresos, que comparado al periodo anterior genera una variación absoluta de 0 000,00 que corresponde a un Aumento del 0,00% de recursos disponibles."]
["4.1.1.03.","Impuestos sobre dividendos e intereses de títulos valores",null,{"$f":"IFERROR(VLOOKUP(A13,BC_ACTUAL!B:G,6,0)/1000,0)","v":0},{"$f":"IFERROR(VLOOKUP(A13,BC_ANTERIOR!B:G,6,0)/1000,0)","v":0},null,0,0,0,0,null,"La cuenta Impuestos sobre dividendos e intereses de títulos valores, representa el 0,00% del total del Ingresos, que comparado al periodo anterior genera una variación absoluta de 0 000,00 que corresponde a un Aumento del 0,00% de recursos disponibles."]
["4.1.1.99.","Otros impuestos sobre los ingresos, las utilidades y las ganancias de capital",null,{"$f":"IFERROR(VLOOKUP(A14,BC_ACTUAL!B:G,6,0)/1000,0)","v":0},{"$f":"IFERROR(VLOOKUP(A14,BC_ANTERIOR!B:G,6,0)/1000,0)","v":0},null,0,0,0,0,null,"La cuenta Otros impuestos sobre los ingresos, las utilidades y las ganancias de capital, representa el 0,00% del total del Ingresos, que comparado al periodo anterior genera una variación absoluta de 0 000,00 que corresponde a un Aumento del 0,00% de recursos disponibles."]
["4.1.2.","Impuestos sobre la propiedad","32",{"$f":"SUM(D16:D21)","v":328557.65229},{"$f":"SUM(E16:E21)","v":385026.36343999999},null,7.0159176695264225E-2,8.312149309326608E-2,-56468.711149999988,{"$f":"IFERROR(I15/E15,0)","v":-0.14666193412181686},null,"La cuenta Impuestos sobre la propiedad, representa el 7,02% del total del Ingresos, que comparado al periodo anterior genera una variación absoluta de -56 468,71 que corresponde a un Disminución del -14,67% de recursos disponibles."]
["4.1.2.01.","Impuesto sobre la propiedad de bienes inmuebles",null,{"$f":"IFERROR(VLOOKUP(A16,BC_ACTUAL!B:G,6,0)/1000,0)","v":328557.65229},{"$f":"IFERROR(VLOOKUP(A16,BC_ANTERIOR!B:G,6,0)/1000,0)","v":385026.36343999999},null,7.0159176695264225E-2,{"$f":"IFERROR(E16/$E$133,0)","v":8.312149309326608E-2},-56468.711149999988,-0.14666193412181686,null,"La cuenta Impuesto sobre la propiedad de bienes inmuebles, representa el 7,02% del total del Ingresos, que comparado al periodo anterior genera una variación absoluta de -56 468,71 que corresponde a un Disminución del -14,67% de recursos disponibles."]
["4.1.2.02.","Impuesto sobre la propiedad de vehículos, aeronaves y embarcaciones",null,{"$f":"IFERROR(VLOOKUP(A17,BC_ACTUAL!B:G,6,0)/1000,0)","v":0},{"$f":"IFERROR(VLOOKUP(A17,BC_ANTERIOR!B:G,6,0)/1000,0)","v":0},null,0,0,0,0,null,"La cuenta Impuesto sobre la propiedad de vehículos, aeronaves y embarcaciones, representa el 0,00% del total del Ingresos, que comparado al periodo anterior genera una variación absoluta de 0 000,00 que corresponde a un Aumento del 0,00% de recursos disponibles."]
["4.1.2.03.","Impuesto sobre el patrimonio",null,{"$f":"IFERROR(VLOOKUP(A18,BC_ACTUAL!B:G,6,0)/1000,0)","v":0},{"$f":"IFERROR(VLOOKUP(A18,BC_ANTERIOR!B:G,6,0)/1000,0)","v":0},null,0,0,0,0,null,"La cuenta Impuesto sobre el patrimonio, representa el 0,00% del total del Ingresos, que comparado al periodo anterior genera una variación absoluta de 0 000,00 que corresponde a un Aumento del 0,00% de recursos disponibles."]
["4.1.2.04.","Impuesto sobre los traspasos de bienes inmuebles",null,{"$f":"IFERROR(VLOOKUP(A19,BC_ACTUAL!B:G,6,0)/1000,0)","v":0},{"$f":"IFERROR(VLOOKUP(A19,BC_ANTERIOR!B:G,6,0)/1000,0)","v":0},null,0,0,0,0,null,"La cuenta Impuesto sobre los traspasos de bienes inmuebles, representa el 0,00% del total del Ingresos, que comparado al periodo anterior genera una variación absoluta de 0 000,00 que corresponde a un Aumento del 0,00% de recursos disponibles."]
["4.1.2.05.","Impuesto a los traspasos de vehículos, aeronaves y embarcaciones",null,{"$f":"IFERROR(VLOOKUP(A20,BC_ACTUAL!B:G,6,0)/1000,0)","v":0},{"$f":"IFERROR(VLOOKUP(A20,BC_ANTERIOR!B:G,6,0)/1000,0)","v":0},null,0,0,0,0,null,"La cuenta Impuesto a los traspasos de vehículos, aeronaves y embarcaciones, representa el 0,00% del total del Ingresos, que comparado al periodo anterior genera una variación absoluta de 0 000,00 que corresponde a un Aumento del 0,00% de recursos disponibles."]
["4.1.2.99.","Otros impuestos a la propiedad",null,{"$f":"IFERROR(VLOOKUP(A21,BC_ACTUAL!B:G,6,0)/1000,0)","v":0},{"$f":"IFERROR(VLOOKUP(A21,BC_ANTERIOR!B:G,6,0)/1000,0)","v":0},null,0,0,0,0,null,"La cuenta Otros impuestos a la propiedad, representa el 0,00% del total del Ingresos, que comparado al periodo anterior genera una variación absoluta de 0 000,00 que corresponde a un Aumento del 0,00% de recursos disponibles."]
["4.1.3.","Impuestos sobre bienes y servicios","33",{"$f":"SUM(D23:D25)","v":190892.85287},{"$f":"SUM(E23:E25)","v":182289.07923},null,4.0762664637462871E-2,3.9353514145935853E-2,8603.7736399999994,4.7198513900793479E-2,null,"La cuenta Impuestos sobre bienes y servicios, representa el 4,08% del total del Ingresos, que comparado al periodo anterior genera una variación absoluta de 8 603,77 que corresponde a un Aumento del 4,72% de recursos disponibles."]
["4.1.3.01.","Impuestos generales y selectivos sobre ventas y consumo",null,{"$f":"IFERROR(VLOOKUP(A23,BC_ACTUAL!B:G,6,0)/1000,0)","v":159424.7077},{"$f":"IFERROR(VLOOKUP(A23,BC_ANTERIOR!B:G,6,0)/1000,0)","v":152176.32251},null,3.4043055029023231E-2,3.2852615668861218E-2,7248.3851900000009,{"$f":"IFERROR(I23/E23,0)","v":4.7631491354535038E-2},null,"La cuenta Impuestos generales y selectivos sobre ventas y consumo, representa el 3,40% del total del Ingresos, que comparado al periodo anterior genera una variación absoluta de 7 248,39 que corresponde a un Aumento del 4,76% de recursos disponibles."]
["4.1.3.02.","Impuestos específicos sobre la producción y consumo de bienes y servicios",null,{"$f":"IFERROR(VLOOKUP(A24,BC_ACTUAL!B:G,6,0)/1000,0)","v":28218.145170000003},{"$f":"IFERROR(VLOOKUP(A24,BC_ANTERIOR!B:G,6,0)/1000,0)","v":27362.756719999998},null,6.0256147412668338E-3,5.907214179811957E-3,855.38845000000583,3.1261047954820466E-2,null,"La cuenta Impuestos específicos sobre la producción y consumo de bienes y servicios, representa el 0,60% del total del Ingresos, que comparado al periodo anterior genera una variación absoluta de 0 855,39 que corresponde a un Aumento del 3,13% de recursos disponibles."]
["4.1.3.99.","Otros impuestos sobre bienes y servicios",null,{"$f":"IFERROR(VLOOKUP(A25,BC_ACTUAL!B:G,6,0)/1000,0)","v":3250},{"$f":"IFERROR(VLOOKUP(A25,BC_ANTERIOR!B:G,6,0)/1000,0)","v":2750},null,6.9399486717280955E-4,5.9368429726268032E-4,500,0.18181818181818182,null,"La cuenta Otros impuestos sobre bienes y servicios, representa el 0,07% del total del Ingresos, que comparado al periodo anterior genera una variación absoluta de 0 500,00 que corresponde a un Aumento del 18,18% de recursos disponibles."]
["4.1.4.","Impuestos sobre el comercio exterior y transacciones internacionales","34",{"$f":"SUM(D27:D29)","v":0},{"$f":"SUM(E27:E29)","v":0},null,0,0,0,0,null,"La cuenta Impuestos sobre el comercio exterior y transacciones internacionales, representa el 0,00% del total del Ingresos, que comparado al periodo anterior genera una variación absoluta de 0 000,00 que corresponde a un Aumento del 0,00% de recursos disponibles."]
["4.1.4.01.","Impuestos a las importaciones",null,{"$f":"IFERROR(VLOOKUP(A27,BC_ACTUAL!B:G,6,0)/1000,0)","v":0},{"$f":"IFERROR(VLOOKUP(A27,BC_ANTERIOR!B:G,6,0)/1000,0)","v":0},null,0,0,0,0,null,"La cuenta Impuestos a las importaciones, representa el 0,00% del total del Ingresos, que comparado al periodo anterior genera una variación absoluta de 0 000,00 que corresponde a un Aumento del 0,00% de recursos disponibles."]
["4.1.4.02.","Impuestos a las exportaciones",null,{"$f":"IFERROR(VLOOKUP(A28,BC_ACTUAL!B:G,6,0)/1000,0)","v":0},{"$f":"IFERROR(VLOOKUP(A28,BC_ANTERIOR!B:G,6,0)/1000,0)","v":0},null,0,0,0,0,null,"La cuenta Impuestos a las exportaciones, representa el 0,00% del total del Ingresos, que comparado al periodo anterior genera una variación absoluta de 0 000,00 que corresponde a un Aumento del 0,00% de recursos disponibles."]
["4.1.4.99.","Otros impuestos sobre el comercio exterior y transacciones internacionales",null,{"$f":"IFERROR(VLOOKUP(A29,BC_ACTUAL!B:G,6,0)/1000,0)","v":0},{"$f":"IFERROR(VLOOKUP(A29,BC_ANTERIOR!B:G,6,0)/1000,0)","v":0},null,0,0,0,0,null,"La cuenta Otros impuestos sobre el comercio exterior y transacciones internacionales, representa el 0,00% del total del Ingresos, que comparado al periodo anterior genera una variación absoluta de 0 000,00 que corresponde a un Aumento del 0,00% de recursos disponibles."]
["4.1.9.","Otros impuestos","35",{"$f":"SUM(D31:D32)","v":0},{"$f":"SUM(E31:E32)","v":0},null,0,0,0,0,null,"La cuenta Otros impuestos, representa el 0,00% del total del Ingresos, que comparado al periodo anterior genera una variación absoluta de 0 000,00 que corresponde a un Aumento del 0,00% de recursos disponibles."]
["4.1.9.99.","Otros impuestos sin discriminar",null,{"$f":"IFERROR(VLOOKUP(A31,BC_ACTUAL!B:G,6,0)/1000,0)","v":0},{"$f":"IFERROR(VLOOKUP(A31,BC_ANTERIOR!B:G,6,0)/1000,0)","v":0},null,0,0,0,0,null,"La cuenta Otros impuestos sin discriminar, representa el 0,00% del total del Ingresos, que comparado al periodo anterior genera una variación absoluta de 0 000,00 que corresponde a un Aumento del 0,00% de recursos disponibles."]
["4.2.","Contribuciones sociales"]
["4.2.1.","Contribuciones a la seguridad social","36",{"$f":"SUM(D34:D36)","v":0},{"$f":"SUM(E34:E36)","v":0},null,{"$f":"IFERROR(D33/$D$133,0)","v":0},{"$f":"IFERROR(E33/$E$133,0)","v":0},{"$f":"IFERROR(D33-E33,0)","v":0},0,null,"La cuenta Contribuciones a la seguridad social, representa el 0,00% del total del Ingresos, que comparado al periodo anterior genera una variación absoluta de 0 000,00 que corresponde a un Aumento del 0,00% de recursos disponibles."]
["4.2.1.01.","Contribuciones al seguro de pensiones",null,{"$f":"IFERROR(VLOOKUP(A34,BC_ACTUAL!B:G,6,0)/1000,0)","v":0},{"$f":"IFERROR(VLOOKUP(A34,BC_ANTERIOR!B:G,6,0)/1000,0)","v":0},null,0,0,0,0,null,"La cuenta Contribuciones al seguro de pensiones, representa el 0,00% del total del Ingresos, que comparado al periodo anterior genera una variación absoluta de 0 000,00 que corresponde a un Aumento del 0,00% de recursos disponibles."]
["4.2.1.02.","Contribuciones a regímenes especiales de pensiones",null,{"$f":"IFERROR(VLOOKUP(A35,BC_ACTUAL!B:G,6,0)/1000,0)","v":0},{"$f":"IFERROR(VLOOKUP(A35,BC_ANTERIOR!B:G,6,0)/1000,0)","v":0},null,0,0,0,0,null,"La cuenta Contribuciones a regímenes especiales de pensiones, representa el 0,00% del total del Ingresos, que comparado al periodo anterior genera una variación absoluta de 0 000,00 que corresponde a un Aumento del 0,00% de recursos disponibles."]
["4.2.1.03.","Contribuciones al seguro de salud",null,{"$f":"IFERROR(VLOOKUP(A36,BC_ACTUAL!B:G,6,0)/1000,0)","v":0},{"$f":"IFERROR(VLOOKUP(A36,BC_ANTERIOR!B:G,6,0)/1000,0)","v":0},null,0,0,0,0,null,"La cuenta Contribuciones al seguro de salud, representa el 0,00% del total del Ingresos, que comparado al periodo anterior genera una variación absoluta de 0 000,00 que corresponde a un Aumento del 0,00% de recursos disponibles."]
["4.2.9.","Contribuciones sociales diversas","37",{"$f":"SUM(D38:D39)","v":0},{"$f":"SUM(E38:E39)","v":0},null,0,0,0,0,null,"La cuenta Contribuciones sociales diversas, representa el 0,00% del total del Ingresos, que comparado al periodo anterior genera una variación absoluta de 0 000,00 que corresponde a un Aumento del 0,00% de recursos disponibles."]
["4.2.9.99.","Otras contribuciones sociales",null,{"$f":"IFERROR(VLOOKUP(A38,BC_ACTUAL!B:G,6,0)/1000,0)","v":0},{"$f":"IFERROR(VLOOKUP(A38,BC_ANTERIOR!B:G,6,0)/1000,0)","v":0},null,0,0,0,0,null,"La cuenta Otras contribuciones sociales, representa el 0,00% del total del Ingresos, que comparado al periodo anterior genera una variación absoluta de 0 000,00 que corresponde a un Aumento del 0,00% de recursos disponibles."]
["4.3.","Multas, sanciones, remates y confiscaciones de origen no tributario"]
["4.3.1.","Multas y sanciones administrativas","38",{"$f":"SUM(D41:D44)","v":0},{"$f":"SUM(E41:E44)","v":0},null,{"$f":"IFERROR(D40/$D$133,0)","v":0},{"$f":"IFERROR(E40/$E$133,0)","v":0},{"$f":"IFERROR(D40-E40,0)","v":0},0,null,"La cuenta Multas y sanciones administrativas, representa el 0,00% del total del Ingresos, que comparado al periodo anterior genera una variación absoluta de 0 000,00 que corresponde a un Aumento del 0,00% de recursos disponibles."]
["4.3.1.01.","Multas de tránsito",null,{"$f":"IFERROR(VLOOKUP(A41,BC_ACTUAL!B:G,6,0)/1000,0)","v":0},{"$f":"IFERROR(VLOOKUP(A41,BC_ANTERIOR!B:G,6,0)/1000,0)","v":0},null,0,0,0,0,null,"La cuenta Multas de tránsito, representa el 0,00% del total del Ingresos, que comparado al periodo anterior genera una variación absoluta de 0 000,00 que corresponde a un Aumento del 0,00% de recursos disponibles."]
["4.3.1.02.","Multas por atraso en el pago de bienes y servicios",null,{"$f":"IFERROR(VLOOKUP(A42,BC_ACTUAL!B:G,6,0)/1000,0)","v":0},{"$f":"IFERROR(VLOOKUP(A42,BC_ANTERIOR!B:G,6,0)/1000,0)","v":0},null,0,0,0,0,null,"La cuenta Multas por atraso en el pago de bienes y servicios, representa el 0,00% del total del Ingresos, que comparado al periodo anterior genera una variación absoluta de 0 000,00 que corresponde a un Aumento del 0,00% de recursos disponibles."]
["4.3.1.03.","Sanciones administrativas",null,{"$f":"IFERROR(VLOOKUP(A43,BC_ACTUAL!B:G,6,0)/1000,0)","v":0},{"$f":"IFERROR(VLOOKUP(A43,BC_ANTERIOR!B:G,6,0)/1000,0)","v":0},null,0,0,0,0,null,"La cuenta Sanciones administrativas, representa el 0,00% del total del Ingresos, que comparado al periodo anterior genera una variación absoluta de 0 000,00 que corresponde a un Aumento del 0,00% de recursos disponibles."]
["4.3.1.99.","Otras multas",null,{"$f":"IFERROR(VLOOKUP(A44,BC_ACTUAL!B:G,6,0)/1000,0)","v":0},{"$f":"IFERROR(VLOOKUP(A44,BC_ANTERIOR!B:G,6,0)/1000,0)","v":0},null,0,0,0,0,null,"La cuenta Otras multas, representa el 0,00% del total del Ingresos, que comparado al periodo anterior genera una variación absoluta de 0 000,00 que corresponde a un Aumento del 0,00% de recursos disponibles."]
["4.3.2.","Remates y confiscaciones de origen no tributario","39",{"$f":"SUM(D46:D50)","v":0},{"$f":"SUM(E46:E50)","v":0},null,0,0,0,0,null,"La cuenta Remates y confiscaciones de origen no tributario, representa el 0,00% del total del Ingresos, que comparado al periodo anterior genera una variación absoluta de 0 000,00 que corresponde a un Aumento del 0,00% de recursos disponibles."]
["4.3.2.99.","Otros remates y confiscaciones de origen no tributario",null,{"$f":"IFERROR(VLOOKUP(A46,BC_ACTUAL!B:G,6,0)/1000,0)","v":0},{"$f":"IFERROR(VLOOKUP(A46,BC_ANTERIOR!B:G,6,0)/1000,0)","v":0},null,0,0,0,0,null,"La cuenta Otros remates y confiscaciones de origen no tributario, representa el 0,00% del total del Ingresos, que comparado al periodo anterior genera una variación absoluta de 0 000,00 que corresponde a un Aumento del 0,00% de recursos disponibles."]
["4.3.3.","Intereses Moratorios","40",null,null,null,0,0,0,0,null,"La cuenta Intereses Moratorios, representa el 0,00% del total del Ingresos, que comparado al periodo anterior genera una variación absoluta de 0 000,00 que corresponde a un Aumento del 0,00% de recursos disponibles."]
["4.3.3.01.","Otros remates y confiscaciones de origen no tributario",null,{"$f":"IFERROR(VLOOKUP(A48,BC_ACTUAL!B:G,6,0)/1000,0)","v":0},{"$f":"IFERROR(VLOOKUP(A48,BC_ANTERIOR!B:G,6,0)/1000,0)","v":0},null,0,0,0,0,null,"La cuenta Otros remates y confiscaciones de origen no tributario, representa el 0,00% del total del Ingresos, que comparado al periodo anterior genera una variación absoluta de 0 000,00 que corresponde a un Aumento del 0,00% de recursos disponibles."]
["4.3.3.02.","Intereses moratorios por atraso en el pago de multas de transito",null,{"$f":"IFERROR(VLOOKUP(A49,BC_ACTUAL!B:G,6,0)/1000,0)","v":0},{"$f":"IFERROR(VLOOKUP(A49,BC_ANTERIOR!B:G,6,0)/1000,0)","v":0},null,0,0,0,0,null,"La cuenta Intereses moratorios por atraso en el pago de multas de transito, representa el 0,00% del total del Ingresos, que comparado al periodo anterior genera una variación absoluta de 0 000,00 que corresponde a un Aumento del 0,00% de recursos disponibles."]
["4.4.","Ingresos y resultados positivos por ventas"]
["4.4.1.","Ventas de bienes y servicios","41",{"$f":"SUM(D52:D53)","v":346642.69841000001},{"$f":"SUM(E52:E53)","v":218573.69969000001},null,{"$f":"IFERROR(D51/$D$133,0)","v":7.402100105829916E-2},{"$f":"IFERROR(E51/$E$133,0)","v":4.7186826654749735E-2},{"$f":"IFERROR(D51-E51,0)","v":128068.99872},0.58593050720026452,null,"La cuenta Ventas de bienes y servicios, representa el 7,40% del total del Ingresos, que comparado al periodo anterior genera una variación absoluta de 128 069,00 que corresponde a un Aumento del 58,59% de recursos disponibles."]
["4.4.1.01.","Ventas de bienes",null,{"$f":"IFERROR(VLOOKUP(A52,BC_ACTUAL!B:G,6,0)/1000,0)","v":0},{"$f":"IFERROR(VLOOKUP(A52,BC_ANTERIOR!B:G,6,0)/1000,0)","v":0},null,0,0,0,0,null,"La cuenta Ventas de bienes, representa el 0,00% del total del Ingresos, que comparado al periodo anterior genera una variación absoluta de 0 000,00 que corresponde a un Aumento del 0,00% de recursos disponibles."]
["4.4.1.02.","Ventas de servicios",null,{"$f":"IFERROR(VLOOKUP(A53,BC_ACTUAL!B:G,6,0)/1000,0)","v":346642.69841000001},{"$f":"IFERROR(VLOOKUP(A53,BC_ANTERIOR!B:G,6,0)/1000,0)","v":218573.69969000001},null,7.402100105829916E-2,4.7186826654749735E-2,128068.99872,0.58593050720026452,null,"La cuenta Ventas de servicios, representa el 7,40% del total del Ingresos, que comparado al periodo anterior genera una variación absoluta de 128 069,00 que corresponde a un Aumento del 58,59% de recursos disponibles."]
["4.4.2.","Derechos administrativos","42",{"$f":"SUM(D55:D56)","v":368.93333000000001},{"$f":"SUM(E55:E56)","v":338},null,7.8780873030453026E-5,7.2969197263558528E-5,30.933330000000012,9.1518727810650929E-2,null,"La cuenta Derechos administrativos, representa el 0,01% del total del Ingresos, que comparado al periodo anterior genera una variación absoluta de 0 030,93 que corresponde a un Aumento del 9,15% de recursos disponibles."]
["4.4.2.01.","Derechos administrativos a los servicios de transporte",null,{"$f":"IFERROR(VLOOKUP(A55,BC_ACTUAL!B:G,6,0)/1000,0)","v":240},{"$f":"IFERROR(VLOOKUP(A55,BC_ANTERIOR!B:G,6,0)/1000,0)","v":240},null,5.1248851729684402E-5,5.1812447761106646E-5,0,0,null,"La cuenta Derechos administrativos a los servicios de transporte, representa el 0,01% del total del Ingresos, que comparado al periodo anterior genera una variación absoluta de 0 000,00 que corresponde a un Aumento del 0,00% de recursos disponibles."]
["4.4.2.99.","Otros derechos administrativos",null,{"$f":"IFERROR(VLOOKUP(A56,BC_ACTUAL!B:G,6,0)/1000,0)","v":128.93333000000001},{"$f":"IFERROR(VLOOKUP(A56,BC_ANTERIOR!B:G,6,0)/1000,0)","v":98},null,2.7532021300768627E-5,2.1156749502451878E-5,30.933330000000012,0.31564622448979607,null,"La cuenta Otros derechos administrativos, representa el 0,00% del total del Ingresos, que comparado al periodo anterior genera una variación absoluta de 0 030,93 que corresponde a un Aumento del 31,56% de recursos disponibles."]
["4.4.3.","Comisiones por préstamos","43",{"$f":"SUM(D58:D60)","v":0},{"$f":"SUM(E58:E60)","v":0},null,0,0,0,0,null,"La cuenta Comisiones por préstamos, representa el 0,00% del total del Ingresos, que comparado al periodo anterior genera una variación absoluta de 0 000,00 que corresponde a un Aumento del 0,00% de recursos disponibles."]
["4.4.3.01.","Comisiones por préstamos al sector privado interno",null,{"$f":"IFERROR(VLOOKUP(A58,BC_ACTUAL!B:G,6,0)/1000,0)","v":0},{"$f":"IFERROR(VLOOKUP(A58,BC_ANTERIOR!B:G,6,0)/1000,0)","v":0},null,0,0,0,0,null,"La cuenta Comisiones por préstamos al sector privado interno, representa el 0,00% del total del Ingresos, que comparado al periodo anterior genera una variación absoluta de 0 000,00 que corresponde a un Aumento del 0,00% de recursos disponibles."]
["4.4.3.02.","Comisiones por préstamos al sector público interno",null,{"$f":"IFERROR(VLOOKUP(A59,BC_ACTUAL!B:G,6,0)/1000,0)","v":0},{"$f":"IFERROR(VLOOKUP(A59,BC_ANTERIOR!B:G,6,0)/1000,0)","v":0},null,0,0,0,0,null,"La cuenta Comisiones por préstamos al sector público interno, representa el 0,00% del total del Ingresos, que comparado al periodo anterior genera una variación absoluta de 0 000,00 que corresponde a un Aumento del 0,00% de recursos disponibles."]
["4.4.3.03.","Comisiones por préstamos al sector externo",null,{"$f":"IFERROR(VLOOKUP(A60,BC_ACTUAL!B:G,6,0)/1000,0)","v":0},{"$f":"IFERROR(VLOOKUP(A60,BC_ANTERIOR!B:G,6,0)/1000,0)","v":0},null,0,0,0,0,null,"La cuenta Comisiones por préstamos al sector externo, representa el 0,00% del total del Ingresos, que comparado al periodo anterior genera una variación absoluta de 0 000,00 que corresponde a un Aumento del 0,00% de recursos disponibles."]
["4.4.4.","Resultados positivos por ventas de inversiones","44",{"$f":"SUM(D62:D63)","v":0},{"$f":"SUM(E62:E63)","v":0},null,0,0,0,0,null,"La cuenta Resultados positivos por ventas de inversiones, representa el 0,00% del total del Ingresos, que comparado al periodo anterior genera una variación absoluta de 0 000,00 que corresponde a un Aumento del 0,00% de recursos disponibles."]
["4.4.4.01.","Resultados positivos por ventas de inversiones patrimoniales - Método de participación",null,{"$f":"IFERROR(VLOOKUP(A62,BC_ACTUAL!B:G,6,0),0)","v":0},{"$f":"IFERROR(VLOOKUP(A62,BC_ANTERIOR!B:G,6,0),0)","v":0},null,0,0,0,0,null,"La cuenta Resultados positivos por ventas de inversiones patrimoniales - Método de participación, representa el 0,00% del total del Ingresos, que comparado al periodo anterior genera una variación absoluta de 0 000,00 que corresponde a un Aumento del 0,00% de recursos disponibles."]
["4.4.4.98.","Resultados positivos por ventas de otras inversiones ",null,{"$f":"IFERROR(VLOOKUP(A63,BC_ACTUAL!B:G,6,0),0)","v":0},{"$f":"IFERROR(VLOOKUP(A63,BC_ANTERIOR!B:G,6,0),0)","v":0},null,0,0,0,0,null,"La cuenta Resultados positivos por ventas de otras inversiones , representa el 0,00% del total del Ingresos, que comparado al periodo anterior genera una variación absoluta de 0 000,00 que corresponde a un Aumento del 0,00% de recursos disponibles."]
["4.4.5.","Resultados positivos por ventas e intercambio de bienes","45",{"$f":"SUM(D65:D73)","v":0},{"$f":"SUM(E65:E73)","v":0},null,0,0,0,0,null,"La cuenta Resultados positivos por ventas e intercambio de bienes, representa el 0,00% del total del Ingresos, que comparado al periodo anterior genera una variación absoluta de 0 000,00 que corresponde a un Aumento del 0,00% de recursos disponibles."]
["4.4.5.01.","Resultados positivos por ventas de construcciones terminadas",null,{"$f":"IFERROR(VLOOKUP(A65,BC_ACTUAL!B:G,6,0)/1000,0)","v":0},{"$f":"IFERROR(VLOOKUP(A65,BC_ANTERIOR!B:G,6,0)/1000,0)","v":0},null,0,0,0,0,null,"La cuenta Resultados positivos por ventas de construcciones terminadas, representa el 0,00% del total del Ingresos, que comparado al periodo anterior genera una variación absoluta de 0 000,00 que corresponde a un Aumento del 0,00% de recursos disponibles."]
["4.4.5.02.","Resultados positivos por ventas de propiedades, planta y equipo",null,{"$f":"IFERROR(VLOOKUP(A66,BC_ACTUAL!B:G,6,0)/1000,0)","v":0},{"$f":"IFERROR(VLOOKUP(A66,BC_ANTERIOR!B:G,6,0)/1000,0)","v":0},null,0,0,0,0,null,"La cuenta Resultados positivos por ventas de propiedades, planta y equipo, representa el 0,00% del total del Ingresos, que comparado al periodo anterior genera una variación absoluta de 0 000,00 que corresponde a un Aumento del 0,00% de recursos disponibles."]
["4.4.5.03.","Resultados positivos por ventas de activos biológicos",null,{"$f":"IFERROR(VLOOKUP(A67,BC_ACTUAL!B:G,6,0)/1000,0)","v":0},{"$f":"IFERROR(VLOOKUP(A67,BC_ANTERIOR!B:G,6,0)/1000,0)","v":0},null,0,0,0,0,null,"La cuenta Resultados positivos por ventas de activos biológicos, representa el 0,00% del total del Ingresos, que comparado al periodo anterior genera una variación absoluta de 0 000,00 que corresponde a un Aumento del 0,00% de recursos disponibles."]
["4.4.5.04.","Resultados positivos por ventas de bienes intangibles",null,{"$f":"IFERROR(VLOOKUP(A68,BC_ACTUAL!B:G,6,0)/1000,0)","v":0},{"$f":"IFERROR(VLOOKUP(A68,BC_ANTERIOR!B:G,6,0)/1000,0)","v":0},null,0,0,0,0,null,"La cuenta Resultados positivos por ventas de bienes intangibles, representa el 0,00% del total del Ingresos, que comparado al periodo anterior genera una variación absoluta de 0 000,00 que corresponde a un Aumento del 0,00% de recursos disponibles."]
["4.4.5.05.","Resultados positivos por ventas por arrendamientos financieros",null,{"$f":"IFERROR(VLOOKUP(A69,BC_ACTUAL!B:G,6,0)/1000,0)","v":0},{"$f":"IFERROR(VLOOKUP(A69,BC_ANTERIOR!B:G,6,0)/1000,0)","v":0},null,0,0,0,0,null,"La cuenta Resultados positivos por ventas por arrendamientos financieros, representa el 0,00% del total del Ingresos, que comparado al periodo anterior genera una variación absoluta de 0 000,00 que corresponde a un Aumento del 0,00% de recursos disponibles."]
["4.4.5.06.","Resultados positivos por intercambio de propiedades, planta y equipo",null,{"$f":"IFERROR(VLOOKUP(A70,BC_ACTUAL!B:G,6,0)/1000,0)","v":0},{"$f":"IFERROR(VLOOKUP(A70,BC_ANTERIOR!B:G,6,0)/1000,0)","v":0},null,0,0,0,0,null,"La cuenta Resultados positivos por intercambio de propiedades, planta y equipo, representa el 0,00% del total del Ingresos, que comparado al periodo anterior genera una variación absoluta de 0 000,00 que corresponde a un Aumento del 0,00% de recursos disponibles."]
["4.4.5.07.","Resultados positivos por intercambio de bienes intangibles",null,{"$f":"IFERROR(VLOOKUP(A71,BC_ACTUAL!B:G,6,0)/1000,0)","v":0},{"$f":"IFERROR(VLOOKUP(A71,BC_ANTERIOR!B:G,6,0)/1000,0)","v":0},null,0,0,0,0,null,"La cuenta Resultados positivos por intercambio de bienes intangibles, representa el 0,00% del total del Ingresos, que comparado al periodo anterior genera una variación absoluta de 0 000,00 que corresponde a un Aumento del 0,00% de recursos disponibles."]
["4.4.5.08.","Resultados positivos por intercambio de Inventario",null,{"$f":"IFERROR(VLOOKUP(A72,BC_ACTUAL!B:G,6,0)/1000,0)","v":0},{"$f":"IFERROR(VLOOKUP(A72,BC_ANTERIOR!B:G,6,0)/1000,0)","v":0},null,0,0,0,0,null,"La cuenta Resultados positivos por intercambio de Inventario, representa el 0,00% del total del Ingresos, que comparado al periodo anterior genera una variación absoluta de 0 000,00 que corresponde a un Aumento del 0,00% de recursos disponibles."]
["4.4.5.09.","Resultados positivos por la entrega de activos como medio de pago de impuestos",null,{"$f":"IFERROR(VLOOKUP(A73,BC_ACTUAL!B:G,6,0)/1000,0)","v":0},{"$f":"IFERROR(VLOOKUP(A73,BC_ANTERIOR!B:G,6,0)/1000,0)","v":0},null,0,0,0,0,null,"La cuenta Resultados positivos por la entrega de activos como medio de pago de impuestos, representa el 0,00% del total del Ingresos, que comparado al periodo anterior genera una variación absoluta de 0 000,00 que corresponde a un Aumento del 0,00% de recursos disponibles."]
["4.4.5.10.","Resultados positivos por intercambio de bienes de infraestructura",null,{"$f":"IFERROR(VLOOKUP(A74,BC_ACTUAL!B:G,6,0)/1000,0)","v":0},{"$f":"IFERROR(VLOOKUP(A74,BC_ANTERIOR!B:G,6,0)/1000,0)","v":0},null,{"$f":"IFERROR(D74/$D$133,0)","v":0},{"$f":"IFERROR(E74/$E$133,0)","v":0},{"$f":"IFERROR(D74-E74,0)","v":0},{"$f":"IFERROR(I74/E74,0)","v":0},null,{"$f":"\"La\"&\" \"&\"cuenta\"&\" \"&B74&\",\"&\" \"&\"representa\"&\" \"&\"el\"&\" \"&TEXT(G74,\"0,00%\")&\" \"&\"del\"&\" \"&\"total\"&\" \"&\"del\"&\" \"&IF(MID(A74,1,2)=\"1.\",\"Activo\",IF(MID(A74,1,2)=\"2.\",\"Pasivo\",IF(MID(A74,1,2)=\"3.\",\"Capital\",IF(MID(A74,1,2)=\"4.\",\"Ingresos\",IF(MID(A74,1,2)=\"5.\",\"Gastos\",\"\")))))&\",\"&\" \"&\"que\"&\" \"&\"comparado\"&\" \"&\"al\"&\" \"&\"periodo\"&\" \"&\"anterior\"&\" \"&\"genera\"&\" \"&\"una\"&\" \"&\"variación\"&\" \"&\"absoluta\"&\" \"&\"de\"&\" \"&TEXT(I74,\"0 000,00\")&\" \"&\"que\"&\" \"&\"corresponde\"&\" \"&\"a\"&\" \"&\"un\"&\" \"&IF(I74<0,\"Disminución\",\"Aumento\")&\" \"&\"del\"&\" \"&TEXT(J74,\"0,00%\")&\" \"&\"de\"&\" \"&\"recursos\"&\" \"&\"disponibles\"&\".\"","v":"La cuenta Resultados positivos por intercambio de bienes de infraestructura, representa el 0,00% del total del Ingresos, que comparado al periodo anterior genera una variación absoluta de 0 000,00 que corresponde a un Aumento del 0,00% de recursos disponibles."}]
["4.4.6.","Resultados positivos por la recuperación de dinero mal acreditado de periodos anteriores","46",{"$f":"SUM(D76:D77)","v":0},{"$f":"SUM(E76:E77)","v":0},null,{"$f":"IFERROR(D75/$D$133,0)","v":0},{"$f":"IFERROR(E75/$E$133,0)","v":0},{"$f":"IFERROR(D75-E75,0)","v":0},0,null,"La cuenta Resultados positivos por la recuperación de dinero mal acreditado de periodos anteriores, representa el 0,00% del total del Ingresos, que comparado al periodo anterior genera una variación absoluta de 0 000,00 que corresponde a un Aumento del 0,00% de recursos disponibles."]
["4.4.6.01.","Resultados positivos por la recuperación de sumas de periodos anteriores",null,{"$f":"IFERROR(VLOOKUP(A76,BC_ACTUAL!B:G,6,0)/1000,0)","v":0},{"$f":"IFERROR(VLOOKUP(A76,BC_ANTERIOR!B:G,6,0)/1000,0)","v":0},null,{"$f":"IFERROR(D76/$D$133,0)","v":0},{"$f":"IFERROR(E76/$E$133,0)","v":0},0,{"$f":"IFERROR(I76/E76,0)","v":0},null,{"$f":"\"La\"&\" \"&\"cuenta\"&\" \"&B76&\",\"&\" \"&\"representa\"&\" \"&\"el\"&\" \"&TEXT(G76,\"0,00%\")&\" \"&\"del\"&\" \"&\"total\"&\" \"&\"del\"&\" \"&IF(MID(A76,1,2)=\"1.\",\"Activo\",IF(MID(A76,1,2)=\"2.\",\"Pasivo\",IF(MID(A76,1,2)=\"3.\",\"Capital\",IF(MID(A76,1,2)=\"4.\",\"Ingresos\",IF(MID(A76,1,2)=\"5.\",\"Gastos\",\"\")))))&\",\"&\" \"&\"que\"&\" \"&\"comparado\"&\" \"&\"al\"&\" \"&\"periodo\"&\" \"&\"anterior\"&\" \"&\"genera\"&\" \"&\"una\"&\" \"&\"variación\"&\" \"&\"absoluta\"&\" \"&\"de\"&\" \"&TEXT(I76,\"0 000,00\")&\" \"&\"que\"&\" \"&\"corresponde\"&\" \"&\"a\"&\" \"&\"un\"&\" \"&IF(I76<0,\"Disminución\",\"Aumento\")&\" \"&\"del\"&\" \"&TEXT(J76,\"0,00%\")&\" \"&\"de\"&\" \"&\"recursos\"&\" \"&\"disponibles\"&\".\"","v":"La cuenta Resultados positivos por la recuperación de sumas de periodos anteriores, representa el 0,00% del total del Ingresos, que comparado al periodo anterior genera una variación absoluta de 0 000,00 que corresponde a un Aumento del 0,00% de recursos disponibles."}]
["4.5.","Ingresos de la propiedad"]
["4.5.1.","Rentas de inversiones y de colocación de efectivo","47",{"$f":"SUM(D79:D81)","v":10732.52867},{"$f":"SUM(E79:E81)","v":13009.264799999999},null,{"$f":"IFERROR(D78/$D$133,0)","v":2.2917907103892372E-3},{"$f":"IFERROR(E78/$E$133,0)","v":2.8085077202516808E-3},{"$f":"IFERROR(D78-E78,0)","v":-2276.7361299999993},{"$f":"IFERROR(I78/E78,0)","v":-0.17500882371154436},null,"La cuenta Rentas de inversiones y de colocación de efectivo, representa el 0,23% del total del Ingresos, que comparado al periodo anterior genera una variación absoluta de -2 276,74 que corresponde a un Disminución del -17,50% de recursos disponibles."]
["4.5.1.01.","Intereses por equivalentes de efectivo",null,{"$f":"IFERROR(VLOOKUP(A79,BC_ACTUAL!B:G,6,0)/1000,0)","v":1418.81799},{"$f":"IFERROR(VLOOKUP(A79,BC_ANTERIOR!B:G,6,0)/1000,0)","v":651.94025999999997},null,3.029699700038285E-4,1.4074425276921785E-4,766.87773000000004,1.1763006168694048,null,"La cuenta Intereses por equivalentes de efectivo, representa el 0,03% del total del Ingresos, que comparado al periodo anterior genera una variación absoluta de 0 766,88 que corresponde a un Aumento del 117,63% de recursos disponibles."]
["4.5.1.02.","Intereses por títulos y valores a costo amortizado",null,{"$f":"IFERROR(VLOOKUP(A80,BC_ACTUAL!B:G,6,0)/1000,0)","v":0},{"$f":"IFERROR(VLOOKUP(A80,BC_ANTERIOR!B:G,6,0)/1000,0)","v":0},null,0,0,0,{"$f":"IFERROR(I80/E80,0)","v":0},null,"La cuenta Intereses por títulos y valores a costo amortizado, representa el 0,00% del total del Ingresos, que comparado al periodo anterior genera una variación absoluta de 0 000,00 que corresponde a un Aumento del 0,00% de recursos disponibles."]
["4.5.1.98.","Resultados positivos de otras inversiones",null,{"$f":"IFERROR(VLOOKUP(A81,BC_ACTUAL!B:G,6,0)/1000,0)","v":9313.7106800000001},{"$f":"IFERROR(VLOOKUP(A81,BC_ANTERIOR!B:G,6,0)/1000,0)","v":12357.32454},null,1.9888207403854089E-3,2.667763467482463E-3,-3043.6138599999995,-0.24630039052126404,null,"La cuenta Resultados positivos de otras inversiones, representa el 0,20% del total del Ingresos, que comparado al periodo anterior genera una variación absoluta de -3 043,61 que corresponde a un Disminución del -24,63% de recursos disponibles."]
["4.5.2.","Alquileres y derechos sobre bienes","48",{"$f":"SUM(D83:D85)","v":21544.069079999997},{"$f":"SUM(E83:E85)","v":20960.346239999999},null,4.6004533413958257E-3,4.5250285192279501E-3,583.72283999999854,2.7848912098887093E-2,null,"La cuenta Alquileres y derechos sobre bienes, representa el 0,46% del total del Ingresos, que comparado al periodo anterior genera una variación absoluta de 0 583,72 que corresponde a un Aumento del 2,78% de recursos disponibles."]
["4.5.2.01.","Alquileres",null,{"$f":"IFERROR(VLOOKUP(A83,BC_ACTUAL!B:G,6,0)/1000,0)","v":21544.069079999997},{"$f":"IFERROR(VLOOKUP(A83,BC_ANTERIOR!B:G,6,0)/1000,0)","v":20960.346239999999},null,4.6004533413958257E-3,4.5250285192279501E-3,583.72283999999854,2.7848912098887093E-2,null,"La cuenta Alquileres, representa el 0,46% del total del Ingresos, que comparado al periodo anterior genera una variación absoluta de 0 583,72 que corresponde a un Aumento del 2,78% de recursos disponibles."]
["4.5.2.02.","Ingresos por concesiones",null,{"$f":"IFERROR(VLOOKUP(A84,BC_ACTUAL!B:G,6,0)/1000,0)","v":0},{"$f":"IFERROR(VLOOKUP(A84,BC_ANTERIOR!B:G,6,0)/1000,0)","v":0},null,0,0,0,0,null,"La cuenta Ingresos por concesiones, representa el 0,00% del total del Ingresos, que comparado al periodo anterior genera una variación absoluta de 0 000,00 que corresponde a un Aumento del 0,00% de recursos disponibles."]
["4.5.2.03.","Derechos sobre bienes intangibles",null,{"$f":"IFERROR(VLOOKUP(A85,BC_ACTUAL!B:G,6,0)/1000,0)","v":0},{"$f":"IFERROR(VLOOKUP(A85,BC_ANTERIOR!B:G,6,0)/1000,0)","v":0},null,0,0,0,0,null,"La cuenta Derechos sobre bienes intangibles, representa el 0,00% del total del Ingresos, que comparado al periodo anterior genera una variación absoluta de 0 000,00 que corresponde a un Aumento del 0,00% de recursos disponibles."]
["4.5.9.","Otros ingresos de la propiedad","49",{"$f":"SUM(D87:D93)","v":0},{"$f":"SUM(E87:E93)","v":0},null,0,0,0,0,null,"La cuenta Otros ingresos de la propiedad, representa el 0,00% del total del Ingresos, que comparado al periodo anterior genera una variación absoluta de 0 000,00 que corresponde a un Aumento del 0,00% de recursos disponibles."]
["4.5.9.03.","Intereses por ventas",null,{"$f":"IFERROR(VLOOKUP(A87,BC_ACTUAL!B:G,6,0)/1000,0)","v":0},{"$f":"IFERROR(VLOOKUP(A87,BC_ANTERIOR!B:G,6,0)/1000,0)","v":0},null,0,0,0,0,null,"La cuenta Intereses por ventas, representa el 0,00% del total del Ingresos, que comparado al periodo anterior genera una variación absoluta de 0 000,00 que corresponde a un Aumento del 0,00% de recursos disponibles."]
["4.5.9.07.","Intereses por préstamos",null,{"$f":"IFERROR(VLOOKUP(A88,BC_ACTUAL!B:G,6,0)/1000,0)","v":0},{"$f":"IFERROR(VLOOKUP(A88,BC_ANTERIOR!B:G,6,0)/1000,0)","v":0},null,0,0,0,0,null,"La cuenta Intereses por préstamos, representa el 0,00% del total del Ingresos, que comparado al periodo anterior genera una variación absoluta de 0 000,00 que corresponde a un Aumento del 0,00% de recursos disponibles."]
["4.5.9.08.","Intereses por documentos a cobrar",null,{"$f":"IFERROR(VLOOKUP(A89,BC_ACTUAL!B:G,6,0)/1000,0)","v":0},{"$f":"IFERROR(VLOOKUP(A89,BC_ANTERIOR!B:G,6,0)/1000,0)","v":0},null,0,0,0,0,null,"La cuenta Intereses por documentos a cobrar, representa el 0,00% del total del Ingresos, que comparado al periodo anterior genera una variación absoluta de 0 000,00 que corresponde a un Aumento del 0,00% de recursos disponibles."]
["4.5.9.10.","Intereses por deudores por avales ejecutados",null,{"$f":"IFERROR(VLOOKUP(A90,BC_ACTUAL!B:G,6,0)/1000,0)","v":0},{"$f":"IFERROR(VLOOKUP(A90,BC_ANTERIOR!B:G,6,0)/1000,0)","v":0},null,0,0,0,0,null,"La cuenta Intereses por deudores por avales ejecutados, representa el 0,00% del total del Ingresos, que comparado al periodo anterior genera una variación absoluta de 0 000,00 que corresponde a un Aumento del 0,00% de recursos disponibles."]
["4.5.9.97.","Intereses por cuentas a cobrar en gestión judicial",null,{"$f":"IFERROR(VLOOKUP(A91,BC_ACTUAL!B:G,6,0)/1000,0)","v":0},{"$f":"IFERROR(VLOOKUP(A91,BC_ANTERIOR!B:G,6,0)/1000,0)","v":0},null,0,0,0,0,null,"La cuenta Intereses por cuentas a cobrar en gestión judicial, representa el 0,00% del total del Ingresos, que comparado al periodo anterior genera una variación absoluta de 0 000,00 que corresponde a un Aumento del 0,00% de recursos disponibles."]
["4.5.9.99.","Intereses por otras cuentas a cobrar",null,{"$f":"IFERROR(VLOOKUP(A92,BC_ACTUAL!B:G,6,0)/1000,0)","v":0},{"$f":"IFERROR(VLOOKUP(A92,BC_ANTERIOR!B:G,6,0)/1000,0)","v":0},null,0,0,0,0,null,"La cuenta Intereses por otras cuentas a cobrar, representa el 0,00% del total del Ingresos, que comparado al periodo anterior genera una variación absoluta de 0 000,00 que corresponde a un Aumento del 0,00% de recursos disponibles."]
["4.6.","Transferencias"]
["4.6.1.","Transferencias corrientes","50",{"$f":"SUM(D95:D97)","v":11322.83007},{"$f":"SUM(E95:E97)","v":11962.125779999998},null,{"$f":"IFERROR(D94/$D$133,0)","v":2.4178418309076751E-3},{"$f":"IFERROR(E94/$E$133,0)","v":2.5824459045334872E-3},{"$f":"IFERROR(D94-E94,0)","v":-639.29570999999851},-5.3443319503366615E-2,null,"La cuenta Transferencias corrientes, representa el 0,24% del total del Ingresos, que comparado al periodo anterior genera una variación absoluta de -0 639,30 que corresponde a un Disminución del -5,34% de recursos disponibles."]
["4.6.1.01.","Transferencias corrientes del sector privado interno",null,{"$f":"IFERROR(VLOOKUP(A95,BC_ACTUAL!B:G,6,0)/1000,0)","v":0},{"$f":"IFERROR(VLOOKUP(A95,BC_ANTERIOR!B:G,6,0)/1000,0)","v":0},null,0,0,0,0,null,"La cuenta Transferencias corrientes del sector privado interno, representa el 0,00% del total del Ingresos, que comparado al periodo anterior genera una variación absoluta de 0 000,00 que corresponde a un Aumento del 0,00% de recursos disponibles."]
["4.6.1.02.","Transferencias corrientes del sector público interno",null,{"$f":"IFERROR(VLOOKUP(A96,BC_ACTUAL!B:G,6,0)/1000,0)","v":11322.83007},{"$f":"IFERROR(VLOOKUP(A96,BC_ANTERIOR!B:G,6,0)/1000,0)","v":11962.125779999998},null,2.4178418309076751E-3,2.5824459045334872E-3,-639.29570999999851,-5.3443319503366615E-2,null,"La cuenta Transferencias corrientes del sector público interno, representa el 0,24% del total del Ingresos, que comparado al periodo anterior genera una variación absoluta de -0 639,30 que corresponde a un Disminución del -5,34% de recursos disponibles."]
["4.6.1.03.","Transferencias corrientes del sector externo",null,{"$f":"IFERROR(VLOOKUP(A97,BC_ACTUAL!B:G,6,0)/1000,0)","v":0},{"$f":"IFERROR(VLOOKUP(A97,BC_ANTERIOR!B:G,6,0)/1000,0)","v":0},null,0,0,0,0,null,"La cuenta Transferencias corrientes del sector externo, representa el 0,00% del total del Ingresos, que comparado al periodo anterior genera una variación absoluta de 0 000,00 que corresponde a un Aumento del 0,00% de recursos disponibles."]
["4.6.2.","Transferencias de capital","51",{"$f":"SUM(D99:D102)","v":3772816.719},{"$f":"SUM(E99:E102)","v":3799661.7280000001},null,0.80563551931377242,0.82029072829948424,-26845.009000000078,-7.0651049808400411E-3,null,"La cuenta Transferencias de capital, representa el 80,56% del total del Ingresos, que comparado al periodo anterior genera una variación absoluta de -26 845,01 que corresponde a un Disminución del -0,71% de recursos disponibles."]
["4.6.2.01.","Transferencias de capital del sector privado interno",null,{"$f":"IFERROR(VLOOKUP(A99,BC_ACTUAL!B:G,6,0)/1000,0)","v":0},{"$f":"IFERROR(VLOOKUP(A99,BC_ANTERIOR!B:G,6,0)/1000,0)","v":0},null,0,0,0,0,null,"La cuenta Transferencias de capital del sector privado interno, representa el 0,00% del total del Ingresos, que comparado al periodo anterior genera una variación absoluta de 0 000,00 que corresponde a un Aumento del 0,00% de recursos disponibles."]
["4.6.2.02.","Transferencias de capital del sector público interno",null,{"$f":"IFERROR(VLOOKUP(A100,BC_ACTUAL!B:G,6,0)/1000,0)","v":3772816.719},{"$f":"IFERROR(VLOOKUP(A100,BC_ANTERIOR!B:G,6,0)/1000,0)","v":3799661.7280000001},null,0.80563551931377242,0.82029072829948424,-26845.009000000078,-7.0651049808400411E-3,null,"La cuenta Transferencias de capital del sector público interno, representa el 80,56% del total del Ingresos, que comparado al periodo anterior genera una variación absoluta de -26 845,01 que corresponde a un Disminución del -0,71% de recursos disponibles."]
["4.6.2.03.","Transferencias de capital del sector externo",null,{"$f":"IFERROR(VLOOKUP(A101,BC_ACTUAL!B:G,6,0)/1000,0)","v":0},{"$f":"IFERROR(VLOOKUP(A101,BC_ANTERIOR!B:G,6,0)/1000,0)","v":0},null,0,0,0,0,null,"La cuenta Transferencias de capital del sector externo, representa el 0,00% del total del Ingresos, que comparado al periodo anterior genera una variación absoluta de 0 000,00 que corresponde a un Aumento del 0,00% de recursos disponibles."]
["4.9.","Otros ingresos"]
["4.9.1.","Resultados positivos por tenencia y por exposición a la inflación","52",{"$f":"SUM(D104:D109)","v":0},{"$f":"SUM(E104:E109)","v":0},null,{"$f":"IFERROR(D103/$D$133,0)","v":0},{"$f":"IFERROR(E103/$E$133,0)","v":0},{"$f":"IFERROR(D103-E103,0)","v":0},0,null,"La cuenta Resultados positivos por tenencia y por exposición a la inflación, representa el 0,00% del total del Ingresos, que comparado al periodo anterior genera una variación absoluta de 0 000,00 que corresponde a un Aumento del 0,00% de recursos disponibles."]
["4.9.1.01.","Diferencias de cambio positivas por activos",null,{"$f":"IFERROR(VLOOKUP(A104,BC_ACTUAL!B:G,6,0)/1000,0)","v":0},{"$f":"IFERROR(VLOOKUP(A104,BC_ANTERIOR!B:G,6,0)/1000,0)","v":0},null,0,0,0,0,null,"La cuenta Diferencias de cambio positivas por activos, representa el 0,00% del total del Ingresos, que comparado al periodo anterior genera una variación absoluta de 0 000,00 que corresponde a un Aumento del 0,00% de recursos disponibles."]
["4.9.1.02.","Diferencias de cambio positivas por pasivos",null,{"$f":"IFERROR(VLOOKUP(A105,BC_ACTUAL!B:G,6,0)/1000,0)","v":0},{"$f":"IFERROR(VLOOKUP(A105,BC_ANTERIOR!B:G,6,0)/1000,0)","v":0},null,0,0,0,0,null,"La cuenta Diferencias de cambio positivas por pasivos, representa el 0,00% del total del Ingresos, que comparado al periodo anterior genera una variación absoluta de 0 000,00 que corresponde a un Aumento del 0,00% de recursos disponibles."]
["4.9.1.03.","Resultados positivos por tenencia de activos no derivados",null,{"$f":"IFERROR(VLOOKUP(A106,BC_ACTUAL!B:G,6,0)/1000,0)","v":0},{"$f":"IFERROR(VLOOKUP(A106,BC_ANTERIOR!B:G,6,0)/1000,0)","v":0},null,0,0,0,0,null,"La cuenta Resultados positivos por tenencia de activos no derivados, representa el 0,00% del total del Ingresos, que comparado al periodo anterior genera una variación absoluta de 0 000,00 que corresponde a un Aumento del 0,00% de recursos disponibles."]
["4.9.1.04.","Resultados positivos por tenencia de pasivos no derivados",null,{"$f":"IFERROR(VLOOKUP(A107,BC_ACTUAL!B:G,6,0)/1000,0)","v":0},{"$f":"IFERROR(VLOOKUP(A107,BC_ANTERIOR!B:G,6,0)/1000,0)","v":0},null,0,0,0,0,null,"La cuenta Resultados positivos por tenencia de pasivos no derivados, representa el 0,00% del total del Ingresos, que comparado al periodo anterior genera una variación absoluta de 0 000,00 que corresponde a un Aumento del 0,00% de recursos disponibles."]
["4.9.1.05.","Resultados positivos por tenencia de instrumentos financieros derivados",null,{"$f":"IFERROR(VLOOKUP(A108,BC_ACTUAL!B:G,6,0)/1000,0)","v":0},{"$f":"IFERROR(VLOOKUP(A108,BC_ANTERIOR!B:G,6,0)/1000,0)","v":0},null,0,0,0,0,null,"La cuenta Resultados positivos por tenencia de instrumentos financieros derivados, representa el 0,00% del total del Ingresos, que comparado al periodo anterior genera una variación absoluta de 0 000,00 que corresponde a un Aumento del 0,00% de recursos disponibles."]
["4.9.1.06.","Resultado positivo por exposición a la inflación",null,{"$f":"IFERROR(VLOOKUP(A109,BC_ACTUAL!B:G,6,0)/1000,0)","v":0},{"$f":"IFERROR(VLOOKUP(A109,BC_ANTERIOR!B:G,6,0)/1000,0)","v":0},null,0,0,0,0,null,"La cuenta Resultado positivo por exposición a la inflación, representa el 0,00% del total del Ingresos, que comparado al periodo anterior genera una variación absoluta de 0 000,00 que corresponde a un Aumento del 0,00% de recursos disponibles."]
["4.9.2.","Reversión de consumo de bienes","53",{"$f":"SUM(D111:D112)","v":0},{"$f":"SUM(E111:E112)","v":0},null,0,0,0,0,null,"La cuenta Reversión de consumo de bienes, representa el 0,00% del total del Ingresos, que comparado al periodo anterior genera una variación absoluta de 0 000,00 que corresponde a un Aumento del 0,00% de recursos disponibles."]
["4.9.2.01.","Reversión de consumo de bienes no concesionados",null,{"$f":"IFERROR(VLOOKUP(A111,BC_ACTUAL!B:G,6,0)/1000,0)","v":0},{"$f":"IFERROR(VLOOKUP(A111,BC_ANTERIOR!B:G,6,0)/1000,0)","v":0},null,0,0,0,0,null,"La cuenta Reversión de consumo de bienes no concesionados, representa el 0,00% del total del Ingresos, que comparado al periodo anterior genera una variación absoluta de 0 000,00 que corresponde a un Aumento del 0,00% de recursos disponibles."]
["4.9.2.02.","Reversión de consumo de bienes concesionados",null,{"$f":"IFERROR(VLOOKUP(A112,BC_ACTUAL!B:G,6,0)/1000,0)","v":0},{"$f":"IFERROR(VLOOKUP(A112,BC_ANTERIOR!B:G,6,0)/1000,0)","v":0},null,0,0,0,0,null,"La cuenta Reversión de consumo de bienes concesionados, representa el 0,00% del total del Ingresos, que comparado al periodo anterior genera una variación absoluta de 0 000,00 que corresponde a un Aumento del 0,00% de recursos disponibles."]
["4.9.3.","Reversión de pérdidas por deterioro y desvalorización de bienes","54",{"$f":"SUM(D114:D118)","v":0},{"$f":"SUM(E114:E118)","v":0},null,0,0,0,0,null,"La cuenta Reversión de pérdidas por deterioro y desvalorización de bienes, representa el 0,00% del total del Ingresos, que comparado al periodo anterior genera una variación absoluta de 0 000,00 que corresponde a un Aumento del 0,00% de recursos disponibles."]
["4.9.3.01.","Reversión de deterioro y desvalorización de bienes no concesionados",null,{"$f":"IFERROR(VLOOKUP(A114,BC_ACTUAL!B:G,6,0)/1000,0)","v":0},{"$f":"IFERROR(VLOOKUP(A114,BC_ANTERIOR!B:G,6,0)/1000,0)","v":0},null,0,0,0,0,null,"La cuenta Reversión de deterioro y desvalorización de bienes no concesionados, representa el 0,00% del total del Ingresos, que comparado al periodo anterior genera una variación absoluta de 0 000,00 que corresponde a un Aumento del 0,00% de recursos disponibles."]
["4.9.3.02.","Reversión de deterioro y desvalorización de bienes concesionados",null,{"$f":"IFERROR(VLOOKUP(A115,BC_ACTUAL!B:G,6,0)/1000,0)","v":0},{"$f":"IFERROR(VLOOKUP(A115,BC_ANTERIOR!B:G,6,0)/1000,0)","v":0},null,0,0,0,0,null,"La cuenta Reversión de deterioro y desvalorización de bienes concesionados, representa el 0,00% del total del Ingresos, que comparado al periodo anterior genera una variación absoluta de 0 000,00 que corresponde a un Aumento del 0,00% de recursos disponibles."]
["4.9.3.03.","Reversión de deterioro y desvalorización de inventarios por materiales y suministros para consumo y prestación de servicios ",null,{"$f":"IFERROR(VLOOKUP(A116,BC_ACTUAL!B:G,6,0)/1000,0)","v":0},{"$f":"IFERROR(VLOOKUP(A116,BC_ANTERIOR!B:G,6,0)/1000,0)","v":0},null,0,0,0,0,null,"La cuenta Reversión de deterioro y desvalorización de inventarios por materiales y suministros para consumo y prestación de servicios , representa el 0,00% del total del Ingresos, que comparado al periodo anterior genera una variación absoluta de 0 000,00 que corresponde a un Aumento del 0,00% de recursos disponibles."]
["4.9.3.04.","Reversión de deterioro y desvalorización de inventarios por bienes para la venta",null,{"$f":"IFERROR(VLOOKUP(A117,BC_ACTUAL!B:G,6,0)/1000,0)","v":0},{"$f":"IFERROR(VLOOKUP(A117,BC_ANTERIOR!B:G,6,0)/1000,0)","v":0},null,0,0,0,0,null,"La cuenta Reversión de deterioro y desvalorización de inventarios por bienes para la venta, representa el 0,00% del total del Ingresos, que comparado al periodo anterior genera una variación absoluta de 0 000,00 que corresponde a un Aumento del 0,00% de recursos disponibles."]
["4.9.3.05.","Reversión de deterioro y desvalorización de inventarios por materias primas y bienes en producción",null,{"$f":"IFERROR(VLOOKUP(A118,BC_ACTUAL!B:G,6,0)/1000,0)","v":0},{"$f":"IFERROR(VLOOKUP(A118,BC_ANTERIOR!B:G,6,0)/1000,0)","v":0},null,0,0,0,0,null,"La cuenta Reversión de deterioro y desvalorización de inventarios por materias primas y bienes en producción, representa el 0,00% del total del Ingresos, que comparado al periodo anterior genera una variación absoluta de 0 000,00 que corresponde a un Aumento del 0,00% de recursos disponibles."]
["4.9.4.","Recuperación de previsiones","55",{"$f":"SUM(D120:D122)","v":0},{"$f":"SUM(E120:E122)","v":0},null,0,0,0,0,null,"La cuenta Recuperación de previsiones, representa el 0,00% del total del Ingresos, que comparado al periodo anterior genera una variación absoluta de 0 000,00 que corresponde a un Aumento del 0,00% de recursos disponibles."]
["4.9.4.01.","Recuperación de previsiones para deterioro de inversiones",null,{"$f":"IFERROR(VLOOKUP(A120,BC_ACTUAL!B:G,6,0)/1000,0)","v":0},{"$f":"IFERROR(VLOOKUP(A120,BC_ANTERIOR!B:G,6,0)/1000,0)","v":0},null,0,0,0,0,null,"La cuenta Recuperación de previsiones para deterioro de inversiones, representa el 0,00% del total del Ingresos, que comparado al periodo anterior genera una variación absoluta de 0 000,00 que corresponde a un Aumento del 0,00% de recursos disponibles."]
["4.9.4.02.","Recuperación de previsiones para deterioro de cuentas a cobrar",null,{"$f":"IFERROR(VLOOKUP(A121,BC_ACTUAL!B:G,6,0)/1000,0)","v":0},{"$f":"IFERROR(VLOOKUP(A121,BC_ANTERIOR!B:G,6,0)/1000,0)","v":0},null,0,0,0,0,null,"La cuenta Recuperación de previsiones para deterioro de cuentas a cobrar, representa el 0,00% del total del Ingresos, que comparado al periodo anterior genera una variación absoluta de 0 000,00 que corresponde a un Aumento del 0,00% de recursos disponibles."]
["4.9.4.03.","Recuperación de previsiones para deterioro y pérdidas de inventarios",null,{"$f":"IFERROR(VLOOKUP(A122,BC_ACTUAL!B:G,6,0)/1000,0)","v":0},{"$f":"IFERROR(VLOOKUP(A122,BC_ANTERIOR!B:G,6,0)/1000,0)","v":0},null,0,0,0,0,null,"La cuenta Recuperación de previsiones para deterioro y pérdidas de inventarios, representa el 0,00% del total del Ingresos, que comparado al periodo anterior genera una variación absoluta de 0 000,00 que corresponde a un Aumento del 0,00% de recursos disponibles."]
["4.9.5.","Recuperación de provisiones y reservas técnicas","56",{"$f":"SUM(D124:D127)","v":0},{"$f":"SUM(E124:E127)","v":0},null,0,0,0,0,null,"La cuenta Recuperación de provisiones y reservas técnicas, representa el 0,00% del total del Ingresos, que comparado al periodo anterior genera una variación absoluta de 0 000,00 que corresponde a un Aumento del 0,00% de recursos disponibles."]
["4.9.5.01.","Recuperación de provisiones para litigios y demandas",null,{"$f":"IFERROR(VLOOKUP(A124,BC_ACTUAL!B:G,6,0)/1000,0)","v":0},{"$f":"IFERROR(VLOOKUP(A124,BC_ANTERIOR!B:G,6,0)/1000,0)","v":0},null,0,0,0,0,null,"La cuenta Recuperación de provisiones para litigios y demandas, representa el 0,00% del total del Ingresos, que comparado al periodo anterior genera una variación absoluta de 0 000,00 que corresponde a un Aumento del 0,00% de recursos disponibles."]
["4.9.5.02.","Recuperación de provisiones para reestructuración",null,{"$f":"IFERROR(VLOOKUP(A125,BC_ACTUAL!B:G,6,0)/1000,0)","v":0},{"$f":"IFERROR(VLOOKUP(A125,BC_ANTERIOR!B:G,6,0)/1000,0)","v":0},null,0,0,0,0,null,"La cuenta Recuperación de provisiones para reestructuración, representa el 0,00% del total del Ingresos, que comparado al periodo anterior genera una variación absoluta de 0 000,00 que corresponde a un Aumento del 0,00% de recursos disponibles."]
["4.9.5.03.","Recuperación de provisiones para beneficios a los empleados",null,{"$f":"IFERROR(VLOOKUP(A126,BC_ACTUAL!B:G,6,0)/1000,0)","v":0},{"$f":"IFERROR(VLOOKUP(A126,BC_ANTERIOR!B:G,6,0)/1000,0)","v":0},null,0,0,0,0,null,"La cuenta Recuperación de provisiones para beneficios a los empleados, representa el 0,00% del total del Ingresos, que comparado al periodo anterior genera una variación absoluta de 0 000,00 que corresponde a un Aumento del 0,00% de recursos disponibles."]
["4.9.5.99.","Recuperación de otras provisiones y reservas técnicas",null,{"$f":"IFERROR(VLOOKUP(A127,BC_ACTUAL!B:G,6,0)/1000,0)","v":0},{"$f":"IFERROR(VLOOKUP(A127,BC_ANTERIOR!B:G,6,0)/1000,0)","v":0},null,0,0,0,0,null,"La cuenta Recuperación de otras provisiones y reservas técnicas, representa el 0,00% del total del Ingresos, que comparado al periodo anterior genera una variación absoluta de 0 000,00 que corresponde a un Aumento del 0,00% de recursos disponibles."]
["4.9.6.","Resultados positivos de inversiones patrimoniales y participación de los intereses minoritarios","57",{"$f":"SUM(D129)","v":0},{"$f":"SUM(E129)","v":0},null,0,0,0,0,null,"La cuenta Resultados positivos de inversiones patrimoniales y participación de los intereses minoritarios, representa el 0,00% del total del Ingresos, que comparado al periodo anterior genera una variación absoluta de 0 000,00 que corresponde a un Aumento del 0,00% de recursos disponibles."]
["4.9.6.01.","Resultados positivos de inversiones patrimoniales",null,{"$f":"IFERROR(VLOOKUP(A129,BC_ACTUAL!B:G,6,0)/1000,0)","v":0},{"$f":"IFERROR(VLOOKUP(A129,BC_ANTERIOR!B:G,6,0)/1000,0)","v":0},null,0,0,0,0,null,"La cuenta Resultados positivos de inversiones patrimoniales, representa el 0,00% del total del Ingresos, que comparado al periodo anterior genera una variación absoluta de 0 000,00 que corresponde a un Aumento del 0,00% de recursos disponibles."]
["4.9.6.02.","Participación de los intereses minoritarios en el resultado neto negativo",null,{"$f":"IFERROR(VLOOKUP(A130,BC_ACTUAL!B:G,6,0)/1000,0)","v":0},{"$f":"IFERROR(VLOOKUP(A130,BC_ANTERIOR!B:G,6,0)/1000,0)","v":0},null,0,0,0,0,null,"La cuenta Participación de los intereses minoritarios en el resultado neto negativo, representa el 0,00% del total del Ingresos, que comparado al periodo anterior genera una variación absoluta de 0 000,00 que corresponde a un Aumento del 0,00% de recursos disponibles."]
["4.9.9.","Otros ingresos y resultados positivos","58",{"$f":"SUM(D132)","v":153.47015999999999},{"$f":"SUM(E132)","v":270.91465999999997},null,3.2771539478212254E-5,5.8486465287366526E-5,-117.44449999999998,-0.43351105473583451,null,"La cuenta Otros ingresos y resultados positivos, representa el 0,00% del total del Ingresos, que comparado al periodo anterior genera una variación absoluta de -0 117,44 que corresponde a un Disminución del -43,35% de recursos disponibles."]
["4.9.9.99.","Ingresos y resultados positivos varios",null,{"$f":"IFERROR(VLOOKUP(A132,BC_ACTUAL!B:G,6,0)/1000,0)","v":153.47015999999999},{"$f":"IFERROR(VLOOKUP(A132,BC_ANTERIOR!B:G,6,0)/1000,0)","v":270.91465999999997},null,3.2771539478212254E-5,5.8486465287366526E-5,-117.44449999999998,-0.43351105473583451,null,"La cuenta Ingresos y resultados positivos varios, representa el 0,00% del total del Ingresos, que comparado al periodo anterior genera una variación absoluta de -0 117,44 que corresponde a un Disminución del -43,35% de recursos disponibles."]
[null,"TOTAL DE INGRESOS",null,{"$f":"+D131+D128+D123+D119+D113+D110+D103+D98+D94+D86+D82+D78+D75+D64+D61+D57+D54+D51+D45+D40+D37+D33+D30+D26+D22+D15+D10","v":4683031.7538799997},{"$f":"+E131+E128+E123+E119+E113+E110+E103+E98+E94+E86+E82+E78+E75+E64+E61+E57+E54+E51+E45+E40+E37+E33+E30+E26+E22+E15+E10","v":4632091.5218400005},null,{"$f":"+G131+G128+G123+G119+G113+G110+G103+G98+G94+G86+G82+G78+G75+G64+G61+G57+G54+G51+G45+G40+G37+G33+G30+G26+G22+G15+G10","v":1},{"$f":"+H131+H128+H123+H119+H113+H110+H103+H98+H94+H86+H82+H78+H75+H64+H61+H57+H54+H51+H45+H40+H37+H33+H30+H26+H22+H15+H10","v":0.99999999999999989},{"$f":"IFERROR(D133-E133,0)","v":50940.232039999217},1.0997242131296292E-2]
[]
["5.","GASTOS"]
["5.1.","Gastos de funcionamiento"]
["5.1.1.","Gastos en personal","59",{"$f":"SUM(D138:D145)","v":753404.4540400001},{"$f":"SUM(E138:E145)","v":675149.91631},null,{"$f":"IFERROR(D137/$D$231,0)","v":0.27358137056201165},{"$f":"IFERROR(E137/$E$231,0)","v":0.21335166662227203},{"$f":"IFERROR(D137-E137,0)","v":78254.537730000098},0.11590690576945722,null,"La cuenta Gastos en personal, representa el 27,36% del total del Gastos, que comparado al periodo anterior genera una variación absoluta de 78 254,54 que corresponde a un Aumento del 11,59% de recursos disponibles."]
["5.1.1.01.","Remuneraciones Básicas",null,{"$f":"IFERROR(VLOOKUP(A138,BC_ACTUAL!B:G,6,0)/1000,0)","v":379490.87383},{"$f":"IFERROR(VLOOKUP(A138,BC_ANTERIOR!B:G,6,0)/1000,0)","v":418371.23804999999},null,{"$f":"IFERROR(D138/$D$231,0)","v":0.13780331775510674},{"$f":"IFERROR(E138/$E$231,0)","v":0.13220797151636812},-38880.364219999989,-9.2932689161947968E-2,null,"La cuenta Remuneraciones Básicas, representa el 13,78% del total del Gastos, que comparado al periodo anterior genera una variación absoluta de -38 880,36 que corresponde a un Disminución del -9,29% de recursos disponibles."]
["5.1.1.02.","Remuneraciones eventuales",null,{"$f":"IFERROR(VLOOKUP(A139,BC_ACTUAL!B:G,6,0)/1000,0)","v":50597.530579999999},{"$f":"IFERROR(VLOOKUP(A139,BC_ANTERIOR!B:G,6,0)/1000,0)","v":36532.530070000001},null,{"$f":"IFERROR(D139/$D$231,0)","v":1.8373320848982879E-2},{"$f":"IFERROR(E139/$E$231,0)","v":1.1544511801115251E-2},14065.000509999998,0.38499935490506798,null,"La cuenta Remuneraciones eventuales, representa el 1,84% del total del Gastos, que comparado al periodo anterior genera una variación absoluta de 14 065,00 que corresponde a un Aumento del 38,50% de recursos disponibles."]
["5.1.1.03.","Incentivos salariales",null,{"$f":"IFERROR(VLOOKUP(A140,BC_ACTUAL!B:G,6,0)/1000,0)","v":164004.26035},{"$f":"IFERROR(VLOOKUP(A140,BC_ANTERIOR!B:G,6,0)/1000,0)","v":113560.92004000001},null,5.9554347049532851E-2,{"$f":"IFERROR(E140/$E$231,0)","v":3.5885972831207348E-2},{"$f":"IFERROR(D140-E140,0)","v":50443.340309999985},{"$f":"IFERROR(I140/E140,0)","v":0.44419629827084994},null,{"$f":"\"La\"&\" \"&\"cuenta\"&\" \"&B140&\",\"&\" \"&\"representa\"&\" \"&\"el\"&\" \"&TEXT(G140,\"0,00%\")&\" \"&\"del\"&\" \"&\"total\"&\" \"&\"del\"&\" \"&IF(MID(A140,1,2)=\"1.\",\"Activo\",IF(MID(A140,1,2)=\"2.\",\"Pasivo\",IF(MID(A140,1,2)=\"3.\",\"Capital\",IF(MID(A140,1,2)=\"4.\",\"Ingresos\",IF(MID(A140,1,2)=\"5.\",\"Gastos\",\"\")))))&\",\"&\" \"&\"que\"&\" \"&\"comparado\"&\" \"&\"al\"&\" \"&\"periodo\"&\" \"&\"anterior\"&\" \"&\"genera\"&\" \"&\"una\"&\" \"&\"variación\"&\" \"&\"absoluta\"&\" \"&\"de\"&\" \"&TEXT(I140,\"0 000,00\")&\" \"&\"que\"&\" \"&\"corresponde\"&\" \"&\"a\"&\" \"&\"un\"&\" \"&IF(I140<0,\"Disminución\",\"Aumento\")&\" \"&\"del\"&\" \"&TEXT(J140,\"0,00%\")&\" \"&\"de\"&\" \"&\"recursos\"&\" \"&\"disponibles\"&\".\"","v":"La cuenta Incentivos salariales, representa el 5,96% del total del Gastos, que comparado al periodo anterior genera una variación absoluta de 50 443,34 que corresponde a un Aumento del 44,42% de recursos disponibles."}]
["5.1.1.04.","Contribuciones patronales al desarrollo y la seguridad social",null,{"$f":"IFERROR(VLOOKUP(A141,BC_ACTUAL!B:G,6,0)/1000,0)","v":135466.26291999998},{"$f":"IFERROR(VLOOKUP(A141,BC_ANTERIOR!B:G,6,0)/1000,0)","v":103565.60084},null,4.9191434528736873E-2,{"$f":"IFERROR(E141/$E$231,0)","v":3.2727388406881601E-2},31900.66207999998,{"$f":"IFERROR(I141/E141,0)","v":0.30802372429899555},null,"La cuenta Contribuciones patronales al desarrollo y la seguridad social, representa el 4,92% del total del Gastos, que comparado al periodo anterior genera una variación absoluta de 31 900,66 que corresponde a un Aumento del 30,80% de recursos disponibles."]
["5.1.1.05.","Contribuciones patronales a fondos de pensiones y a otros fondos de capitalización",null,{"$f":"IFERROR(VLOOKUP(A142,BC_ACTUAL!B:G,6,0)/1000,0)","v":2962.7963599999998},{"$f":"IFERROR(VLOOKUP(A142,BC_ANTERIOR!B:G,6,0)/1000,0)","v":165.46731},null,1.0758708480132031E-3,{"$f":"IFERROR(E142/$E$231,0)","v":5.2288722115155586E-5},2797.3290499999998,16.905629577225856,null,"La cuenta Contribuciones patronales a fondos de pensiones y a otros fondos de capitalización, representa el 0,11% del total del Gastos, que comparado al periodo anterior genera una variación absoluta de 2 797,33 que corresponde a un Aumento del 1690,56% de recursos disponibles."]
["5.1.1.06.","Asistencia social y beneficios al personal",null,{"$f":"IFERROR(VLOOKUP(A143,BC_ACTUAL!B:G,6,0)/1000,0)","v":20882.73},{"$f":"IFERROR(VLOOKUP(A143,BC_ANTERIOR!B:G,6,0)/1000,0)","v":2954.16},null,7.583079531639076E-3,9.3353334458454672E-4,17928.57,6.0689231456657735,null,"La cuenta Asistencia social y beneficios al personal, representa el 0,76% del total del Gastos, que comparado al periodo anterior genera una variación absoluta de 17 928,57 que corresponde a un Aumento del 606,89% de recursos disponibles."]
["5.1.1.07.","Contribuciones estatales a la seguridad social",null,{"$f":"IFERROR(VLOOKUP(A144,BC_ACTUAL!B:G,6,0)/1000,0)","v":0},{"$f":"IFERROR(VLOOKUP(A144,BC_ANTERIOR!B:G,6,0)/1000,0)","v":0},null,0,0,0,0,null,"La cuenta Contribuciones estatales a la seguridad social, representa el 0,00% del total del Gastos, que comparado al periodo anterior genera una variación absoluta de 0 000,00 que corresponde a un Aumento del 0,00% de recursos disponibles."]
["5.1.1.99.","Otros gastos en personal",null,{"$f":"IFERROR(VLOOKUP(A145,BC_ACTUAL!B:G,6,0)/1000,0)","v":0},{"$f":"IFERROR(VLOOKUP(A145,BC_ANTERIOR!B:G,6,0)/1000,0)","v":0},null,0,0,0,0,null,"La cuenta Otros gastos en personal, representa el 0,00% del total del Gastos, que comparado al periodo anterior genera una variación absoluta de 0 000,00 que corresponde a un Aumento del 0,00% de recursos disponibles."]
["5.1.2.","Servicios","60",{"$f":"SUM(D147:D155)","v":1430106.5490599999},{"$f":"SUM(E147:E155)","v":1905864.2449599998},null,{"$f":"IFERROR(D146/$D$231,0)","v":0.51931005669468888},0.6022652202052734,-475757.69589999993,-0.24962832329643977,null,"La cuenta Servicios, representa el 51,93% del total del Gastos, que comparado al periodo anterior genera una variación absoluta de -475 757,70 que corresponde a un Disminución del -24,96% de recursos disponibles."]
["5.1.2.01.","Alquileres y derechos sobre bienes",null,{"$f":"IFERROR(VLOOKUP(A147,BC_ACTUAL!B:G,6,0)/1000,0)","v":79312.638630000001},{"$f":"IFERROR(VLOOKUP(A147,BC_ANTERIOR!B:G,6,0)/1000,0)","v":107134.45126},null,{"$f":"IFERROR(D147/$D$231,0)","v":2.8800546987651506E-2},3.3855167832811325E-2,-27821.81263,-0.25969062521709696,null,"La cuenta Alquileres y derechos sobre bienes, representa el 2,88% del total del Gastos, que comparado al periodo anterior genera una variación absoluta de -27 821,81 que corresponde a un Disminución del -25,97% de recursos disponibles."]
["5.1.2.02.","Servicios básicos",null,{"$f":"IFERROR(VLOOKUP(A148,BC_ACTUAL!B:G,6,0)/1000,0)","v":66859.511379999996},{"$f":"IFERROR(VLOOKUP(A148,BC_ANTERIOR!B:G,6,0)/1000,0)","v":59675.486859999997},null,2.4278482374721497E-2,1.8857833305618847E-2,7184.024519999999,0.12038484976006779,null,"La cuenta Servicios básicos, representa el 2,43% del total del Gastos, que comparado al periodo anterior genera una variación absoluta de 7 184,02 que corresponde a un Aumento del 12,04% de recursos disponibles."]
["5.1.2.03.","Servicios comerciales y financieros",null,{"$f":"IFERROR(VLOOKUP(A149,BC_ACTUAL!B:G,6,0)/1000,0)","v":15484.721740000001},{"$f":"IFERROR(VLOOKUP(A149,BC_ANTERIOR!B:G,6,0)/1000,0)","v":19406.18895},null,5.6229179077505968E-3,6.1324791061192268E-3,-3921.4672099999989,-0.20207302011248318,null,"La cuenta Servicios comerciales y financieros, representa el 0,56% del total del Gastos, que comparado al periodo anterior genera una variación absoluta de -3 921,47 que corresponde a un Disminución del -20,21% de recursos disponibles."]
["5.1.2.04.","Servicios de gestión y apoyo",null,{"$f":"IFERROR(VLOOKUP(A150,BC_ACTUAL!B:G,6,0)/1000,0)","v":88277.348620000004},{"$f":"IFERROR(VLOOKUP(A150,BC_ANTERIOR!B:G,6,0)/1000,0)","v":83362.849489999993},null,3.2055873701747284E-2,2.6343190517269841E-2,4914.4991300000111,5.8953108729681111E-2,null,"La cuenta Servicios de gestión y apoyo, representa el 3,21% del total del Gastos, que comparado al periodo anterior genera una variación absoluta de 4 914,50 que corresponde a un Aumento del 5,90% de recursos disponibles."]
["5.1.2.05.","Gastos de viaje y transporte",null,{"$f":"IFERROR(VLOOKUP(A151,BC_ACTUAL!B:G,6,0)/1000,0)","v":3846.0606899999998},{"$f":"IFERROR(VLOOKUP(A151,BC_ANTERIOR!B:G,6,0)/1000,0)","v":3407.2382499999999},null,1.3966078235834423E-3,1.0767089525682083E-3,438.82243999999992,0.12879124023686925,null,"La cuenta Gastos de viaje y transporte, representa el 0,14% del total del Gastos, que comparado al periodo anterior genera una variación absoluta de 0 438,82 que corresponde a un Aumento del 12,88% de recursos disponibles."]
["5.1.2.06.","Seguros, reaseguros y otras obligaciones",null,{"$f":"IFERROR(VLOOKUP(A152,BC_ACTUAL!B:G,6,0)/1000,0)","v":32202.11693},{"$f":"IFERROR(VLOOKUP(A152,BC_ANTERIOR!B:G,6,0)/1000,0)","v":30883.88953},null,1.1693452616939029E-2,9.7595054725270695E-3,1318.2273999999998,4.2683334905711912E-2,null,"La cuenta Seguros, reaseguros y otras obligaciones, representa el 1,17% del total del Gastos, que comparado al periodo anterior genera una variación absoluta de 1 318,23 que corresponde a un Aumento del 4,27% de recursos disponibles."]
["5.1.2.07.","Capacitación y protocolo",null,{"$f":"IFERROR(VLOOKUP(A153,BC_ACTUAL!B:G,6,0)/1000,0)","v":10860},{"$f":"IFERROR(VLOOKUP(A153,BC_ANTERIOR!B:G,6,0)/1000,0)","v":0},null,3.943557365995747E-3,0,10860,0,null,"La cuenta Capacitación y protocolo, representa el 0,39% del total del Gastos, que comparado al periodo anterior genera una variación absoluta de 10 860,00 que corresponde a un Aumento del 0,00% de recursos disponibles."]
["5.1.2.08.","Mantenimiento y reparaciones",null,{"$f":"IFERROR(VLOOKUP(A154,BC_ACTUAL!B:G,6,0)/1000,0)","v":1133264.1510699999},{"$f":"IFERROR(VLOOKUP(A154,BC_ANTERIOR!B:G,6,0)/1000,0)","v":1601844.14062},null,0.41151861791629973,0.50619293406455568,-468579.98955000006,-0.29252533231393807,null,"La cuenta Mantenimiento y reparaciones, representa el 41,15% del total del Gastos, que comparado al periodo anterior genera una variación absoluta de -468 579,99 que corresponde a un Disminución del -29,25% de recursos disponibles."]
["5.1.2.99.","Otros servicios",null,{"$f":"IFERROR(VLOOKUP(A155,BC_ACTUAL!B:G,6,0)/1000,0)","v":0},{"$f":"IFERROR(VLOOKUP(A155,BC_ANTERIOR!B:G,6,0)/1000,0)","v":150},null,0,4.7400953803342412E-5,-150,-1,null,"La cuenta Otros servicios, representa el 0,00% del total del Gastos, que comparado al periodo anterior genera una variación absoluta de -0 150,00 que corresponde a un Disminución del -100,00% de recursos disponibles."]
["5.1.3.","Materiales y suministros consumidos","61",{"$f":"SUM(D157:D161)","v":289260.24393},{"$f":"SUM(E157:E161)","v":259761.79598999996},null,{"$f":"IFERROR(D156/$D$231,0)","v":0.10503815521545838},8.2086379277301627E-2,29498.447940000042,0.11355960882383044,null,"La cuenta Materiales y suministros consumidos, representa el 10,50% del total del Gastos, que comparado al periodo anterior genera una variación absoluta de 29 498,45 que corresponde a un Aumento del 11,36% de recursos disponibles."]
["5.1.3.01.","Productos químicos y conexos",null,{"$f":"IFERROR(VLOOKUP(A157,BC_ACTUAL!B:G,6,0)/1000,0)","v":92786.814590000009},{"$f":"IFERROR(VLOOKUP(A157,BC_ANTERIOR!B:G,6,0)/1000,0)","v":77435.057099999991},null,3.3693381781185652E-2,2.4469970429041876E-2,15351.757490000018,0.19825332433312068,null,"La cuenta Productos químicos y conexos, representa el 3,37% del total del Gastos, que comparado al periodo anterior genera una variación absoluta de 15 351,76 que corresponde a un Aumento del 19,83% de recursos disponibles."]
["5.1.3.02.","Alimentos y productos agropecuarios",null,{"$f":"IFERROR(VLOOKUP(A158,BC_ACTUAL!B:G,6,0)/1000,0)","v":2759.3357700000001},{"$f":"IFERROR(VLOOKUP(A158,BC_ANTERIOR!B:G,6,0)/1000,0)","v":570},null,{"$f":"IFERROR(D158/$D$231,0)","v":1.0019888490827853E-3},1.8012362445270116E-4,2189.3357700000001,3.8409399473684211,null,"La cuenta Alimentos y productos agropecuarios, representa el 0,10% del total del Gastos, que comparado al periodo anterior genera una variación absoluta de 2 189,34 que corresponde a un Aumento del 384,09% de recursos disponibles."]
["5.1.3.03.","Materiales y productos de uso en la construcción y mantenimiento",null,{"$f":"IFERROR(VLOOKUP(A159,BC_ACTUAL!B:G,6,0)/1000,0)","v":111400.39108},{"$f":"IFERROR(VLOOKUP(A159,BC_ANTERIOR!B:G,6,0)/1000,0)","v":100528.14512},null,4.0452470793585722E-2,3.1767533085125477E-2,10872.24596,0.1081512639770867,null,"La cuenta Materiales y productos de uso en la construcción y mantenimiento, representa el 4,05% del total del Gastos, que comparado al periodo anterior genera una variación absoluta de 10 872,25 que corresponde a un Aumento del 10,82% de recursos disponibles."]
["5.1.3.04.","Herramientas, repuestos y accesorios",null,{"$f":"IFERROR(VLOOKUP(A160,BC_ACTUAL!B:G,6,0)/1000,0)","v":56951.921040000001},{"$f":"IFERROR(VLOOKUP(A160,BC_ANTERIOR!B:G,6,0)/1000,0)","v":64789.833880000006},null,2.0680770508738507E-2,2.047399948448073E-2,-7837.9128400000045,-0.12097442408197766,null,"La cuenta Herramientas, repuestos y accesorios, representa el 2,07% del total del Gastos, que comparado al periodo anterior genera una variación absoluta de -7 837,91 que corresponde a un Disminución del -12,10% de recursos disponibles."]
["5.1.3.99.","Útiles, materiales y suministros diversos",null,{"$f":"IFERROR(VLOOKUP(A161,BC_ACTUAL!B:G,6,0)/1000,0)","v":25361.781449999999},{"$f":"IFERROR(VLOOKUP(A161,BC_ANTERIOR!B:G,6,0)/1000,0)","v":16438.759890000001},null,9.2095432828657262E-3,5.1947526542008553E-3,8923.0215599999974,0.54280381365190655,null,"La cuenta Útiles, materiales y suministros diversos, representa el 0,92% del total del Gastos, que comparado al periodo anterior genera una variación absoluta de 8 923,02 que corresponde a un Aumento del 54,28% de recursos disponibles."]
["5.1.4.","Consumo de bienes distintos de inventarios","62",{"$f":"SUM(D163:D164)","v":104440.80535},{"$f":"SUM(E163:E164)","v":196608.41191},null,3.7925258494338907E-2,6.2129508335296173E-2,-92167.60656,-0.46878770681587567,null,"La cuenta Consumo de bienes distintos de inventarios, representa el 3,79% del total del Gastos, que comparado al periodo anterior genera una variación absoluta de -92 167,61 que corresponde a un Disminución del -46,88% de recursos disponibles."]
["5.1.4.01.","Consumo de bienes no concesionados",null,{"$f":"IFERROR(VLOOKUP(A163,BC_ACTUAL!B:G,6,0)/1000,0)","v":104440.80535},{"$f":"IFERROR(VLOOKUP(A163,BC_ANTERIOR!B:G,6,0)/1000,0)","v":196608.41191},null,3.7925258494338907E-2,6.2129508335296173E-2,-92167.60656,-0.46878770681587567,null,"La cuenta Consumo de bienes no concesionados, representa el 3,79% del total del Gastos, que comparado al periodo anterior genera una variación absoluta de -92 167,61 que corresponde a un Disminución del -46,88% de recursos disponibles."]
["5.1.4.02.","Consumo de bienes concesionados",null,{"$f":"IFERROR(VLOOKUP(A164,BC_ACTUAL!B:G,6,0)/1000,0)","v":0},{"$f":"IFERROR(VLOOKUP(A164,BC_ANTERIOR!B:G,6,0)/1000,0)","v":0},null,0,0,0,0,null,"La cuenta Consumo de bienes concesionados, representa el 0,00% del total del Gastos, que comparado al periodo anterior genera una variación absoluta de 0 000,00 que corresponde a un Aumento del 0,00% de recursos disponibles."]
["5.1.5.","Pérdidas por deterioro y desvalorización de bienes ","63",{"$f":"SUM(D166:D167)","v":0},{"$f":"SUM(E166:E167)","v":0},null,0,0,0,0,null,"La cuenta Pérdidas por deterioro y desvalorización de bienes , representa el 0,00% del total del Gastos, que comparado al periodo anterior genera una variación absoluta de 0 000,00 que corresponde a un Aumento del 0,00% de recursos disponibles."]
["5.1.5.01.","Deterioro y desvalorización de bienes no concesionados",null,{"$f":"IFERROR(VLOOKUP(A166,BC_ACTUAL!B:G,6,0)/1000,0)","v":0},{"$f":"IFERROR(VLOOKUP(A166,BC_ANTERIOR!B:G,6,0)/1000,0)","v":0},null,0,0,0,0,null,"La cuenta Deterioro y desvalorización de bienes no concesionados, representa el 0,00% del total del Gastos, que comparado al periodo anterior genera una variación absoluta de 0 000,00 que corresponde a un Aumento del 0,00% de recursos disponibles."]
["5.1.5.02.","Deterioro y desvalorización de bienes concesionados",null,{"$f":"IFERROR(VLOOKUP(A167,BC_ACTUAL!B:G,6,0)/1000,0)","v":0},{"$f":"IFERROR(VLOOKUP(A167,BC_ANTERIOR!B:G,6,0)/1000,0)","v":0},null,0,0,0,0,null,"La cuenta Deterioro y desvalorización de bienes concesionados, representa el 0,00% del total del Gastos, que comparado al periodo anterior genera una variación absoluta de 0 000,00 que corresponde a un Aumento del 0,00% de recursos disponibles."]
["5.1.6.","Deterioro y pérdidas de inventarios","64",{"$f":"SUM(D169:D171)","v":0},{"$f":"SUM(E169:E171)","v":0},null,0,0,0,0,null,"La cuenta Deterioro y pérdidas de inventarios, representa el 0,00% del total del Gastos, que comparado al periodo anterior genera una variación absoluta de 0 000,00 que corresponde a un Aumento del 0,00% de recursos disponibles."]
["5.1.6.01.","Deterioro y pérdidas de inventarios por materiales y suministros para consumo y prestación de servicios",null,{"$f":"IFERROR(VLOOKUP(A169,BC_ACTUAL!B:G,6,0)/1000,0)","v":0},{"$f":"IFERROR(VLOOKUP(A169,BC_ANTERIOR!B:G,6,0)/1000,0)","v":0},null,0,0,0,0,null,"La cuenta Deterioro y pérdidas de inventarios por materiales y suministros para consumo y prestación de servicios, representa el 0,00% del total del Gastos, que comparado al periodo anterior genera una variación absoluta de 0 000,00 que corresponde a un Aumento del 0,00% de recursos disponibles."]
["5.1.6.02.","Deterioro y pérdidas de inventarios por bienes para la venta",null,{"$f":"IFERROR(VLOOKUP(A170,BC_ACTUAL!B:G,6,0)/1000,0)","v":0},{"$f":"IFERROR(VLOOKUP(A170,BC_ANTERIOR!B:G,6,0)/1000,0)","v":0},null,0,0,0,0,null,"La cuenta Deterioro y pérdidas de inventarios por bienes para la venta, representa el 0,00% del total del Gastos, que comparado al periodo anterior genera una variación absoluta de 0 000,00 que corresponde a un Aumento del 0,00% de recursos disponibles."]
["5.1.6.03.","Deterioro y pérdidas de inventarios por materias primas y bienes en producción",null,{"$f":"IFERROR(VLOOKUP(A171,BC_ACTUAL!B:G,6,0)/1000,0)","v":0},{"$f":"IFERROR(VLOOKUP(A171,BC_ANTERIOR!B:G,6,0)/1000,0)","v":0},null,0,0,0,0,null,"La cuenta Deterioro y pérdidas de inventarios por materias primas y bienes en producción, representa el 0,00% del total del Gastos, que comparado al periodo anterior genera una variación absoluta de 0 000,00 que corresponde a un Aumento del 0,00% de recursos disponibles."]
["5.1.7.","Deterioro de inversiones y cuentas a cobrar","65",{"$f":"SUM(D173:D174)","v":0},{"$f":"SUM(E173:E174)","v":0},null,0,0,0,0,null,"La cuenta Deterioro de inversiones y cuentas a cobrar, representa el 0,00% del total del Gastos, que comparado al periodo anterior genera una variación absoluta de 0 000,00 que corresponde a un Aumento del 0,00% de recursos disponibles."]
["5.1.7.01.","Deterioro de inversiones",null,{"$f":"IFERROR(VLOOKUP(A173,BC_ACTUAL!B:G,6,0)/1000,0)","v":0},{"$f":"IFERROR(VLOOKUP(A173,BC_ANTERIOR!B:G,6,0)/1000,0)","v":0},null,0,0,0,0,null,"La cuenta Deterioro de inversiones, representa el 0,00% del total del Gastos, que comparado al periodo anterior genera una variación absoluta de 0 000,00 que corresponde a un Aumento del 0,00% de recursos disponibles."]
["5.1.7.02.","Deterioro de cuentas a cobrar",null,{"$f":"IFERROR(VLOOKUP(A174,BC_ACTUAL!B:G,6,0)/1000,0)","v":0},{"$f":"IFERROR(VLOOKUP(A174,BC_ANTERIOR!B:G,6,0)/1000,0)","v":0},null,0,0,0,0,null,"La cuenta Deterioro de cuentas a cobrar, representa el 0,00% del total del Gastos, que comparado al periodo anterior genera una variación absoluta de 0 000,00 que corresponde a un Aumento del 0,00% de recursos disponibles."]
["5.1.8.","Cargos por provisiones y reservas técnicas","66",{"$f":"SUM(D176:D180)","v":0},{"$f":"SUM(E176:E180)","v":181.5},null,0,5.7355154102044319E-5,-181.5,-1,null,"La cuenta Cargos por provisiones y reservas técnicas, representa el 0,00% del total del Gastos, que comparado al periodo anterior genera una variación absoluta de -0 181,50 que corresponde a un Disminución del -100,00% de recursos disponibles."]
["5.1.8.01.","Cargos por litigios y demandas",null,{"$f":"IFERROR(VLOOKUP(A176,BC_ACTUAL!B:G,6,0)/1000,0)","v":0},{"$f":"IFERROR(VLOOKUP(A176,BC_ANTERIOR!B:G,6,0)/1000,0)","v":181.5},null,{"$f":"IFERROR(D176/$D$231,0)","v":0},5.7355154102044319E-5,-181.5,-1,null,"La cuenta Cargos por litigios y demandas, representa el 0,00% del total del Gastos, que comparado al periodo anterior genera una variación absoluta de -0 181,50 que corresponde a un Disminución del -100,00% de recursos disponibles."]
["5.1.8.02.","Cargos por reestructuración",null,{"$f":"IFERROR(VLOOKUP(A177,BC_ACTUAL!B:G,6,0)/1000,0)","v":0},{"$f":"IFERROR(VLOOKUP(A177,BC_ANTERIOR!B:G,6,0)/1000,0)","v":0},null,0,0,0,0,null,"La cuenta Cargos por reestructuración, representa el 0,00% del total del Gastos, que comparado al periodo anterior genera una variación absoluta de 0 000,00 que corresponde a un Aumento del 0,00% de recursos disponibles."]
["5.1.8.03.","Cargos por beneficios a los empleados",null,{"$f":"IFERROR(VLOOKUP(A178,BC_ACTUAL!B:G,6,0)/1000,0)","v":0},{"$f":"IFERROR(VLOOKUP(A178,BC_ANTERIOR!B:G,6,0)/1000,0)","v":0},null,0,0,0,0,null,"La cuenta Cargos por beneficios a los empleados, representa el 0,00% del total del Gastos, que comparado al periodo anterior genera una variación absoluta de 0 000,00 que corresponde a un Aumento del 0,00% de recursos disponibles."]
["5.1.8.99.","Cargos por otras provisiones y reservas técnicas",null,{"$f":"IFERROR(VLOOKUP(A179,BC_ACTUAL!B:G,6,0)/1000,0)","v":0},{"$f":"IFERROR(VLOOKUP(A179,BC_ANTERIOR!B:G,6,0)/1000,0)","v":0},null,0,0,0,0,null,"La cuenta Cargos por otras provisiones y reservas técnicas, representa el 0,00% del total del Gastos, que comparado al periodo anterior genera una variación absoluta de 0 000,00 que corresponde a un Aumento del 0,00% de recursos disponibles."]
["5.2.","Gastos financieros",null,null,null,null,null,0]
["5.2.1.","Intereses sobre endeudamiento público","67",{"$f":"SUM(D182:D185)","v":54399.29999},{"$f":"SUM(E182:E185)","v":56507.799619999998},null,1.9753845320495109E-2,1.7856823995440998E-2,{"$f":"IFERROR(D181-E181,0)","v":-2108.4996299999984},-3.731342653897516E-2,null,"La cuenta Intereses sobre endeudamiento público, representa el 1,98% del total del Gastos, que comparado al periodo anterior genera una variación absoluta de -2 108,50 que corresponde a un Disminución del -3,73% de recursos disponibles."]
["5.2.1.01.","Intereses sobre títulos y valores de la deuda pública",null,{"$f":"IFERROR(VLOOKUP(A182,BC_ACTUAL!B:G,6,0)/1000,0)","v":0},{"$f":"IFERROR(VLOOKUP(A182,BC_ANTERIOR!B:G,6,0)/1000,0)","v":0},null,0,0,0,0,null,"La cuenta Intereses sobre títulos y valores de la deuda pública, representa el 0,00% del total del Gastos, que comparado al periodo anterior genera una variación absoluta de 0 000,00 que corresponde a un Aumento del 0,00% de recursos disponibles."]
["5.2.1.02.","Intereses sobre préstamos",null,{"$f":"IFERROR(VLOOKUP(A183,BC_ACTUAL!B:G,6,0)/1000,0)","v":54399.29999},{"$f":"IFERROR(VLOOKUP(A183,BC_ANTERIOR!B:G,6,0)/1000,0)","v":56507.799619999998},null,1.9753845320495109E-2,1.7856823995440998E-2,-2108.4996299999984,-3.731342653897516E-2,null,"La cuenta Intereses sobre préstamos, representa el 1,98% del total del Gastos, que comparado al periodo anterior genera una variación absoluta de -2 108,50 que corresponde a un Disminución del -3,73% de recursos disponibles."]
["5.2.1.03.","Intereses sobre deudas asumidas",null,{"$f":"IFERROR(VLOOKUP(A184,BC_ACTUAL!B:G,6,0)/1000,0)","v":0},{"$f":"IFERROR(VLOOKUP(A184,BC_ANTERIOR!B:G,6,0)/1000,0)","v":0},null,0,0,0,0,null,"La cuenta Intereses sobre deudas asumidas, representa el 0,00% del total del Gastos, que comparado al periodo anterior genera una variación absoluta de 0 000,00 que corresponde a un Aumento del 0,00% de recursos disponibles."]
["5.2.1.04.","Intereses sobre endeudamiento de Tesorería",null,{"$f":"IFERROR(VLOOKUP(A185,BC_ACTUAL!B:G,6,0)/1000,0)","v":0},{"$f":"IFERROR(VLOOKUP(A185,BC_ANTERIOR!B:G,6,0)/1000,0)","v":0},null,0,0,0,0,null,"La cuenta Intereses sobre endeudamiento de Tesorería, representa el 0,00% del total del Gastos, que comparado al periodo anterior genera una variación absoluta de 0 000,00 que corresponde a un Aumento del 0,00% de recursos disponibles."]
["5.2.9.","Otros gastos financieros","68",{"$f":"SUM(D187:D192)","v":0},{"$f":"SUM(E187:E192)","v":0},null,0,0,0,0,null,"La cuenta Otros gastos financieros, representa el 0,00% del total del Gastos, que comparado al periodo anterior genera una variación absoluta de 0 000,00 que corresponde a un Aumento del 0,00% de recursos disponibles."]
["5.2.9.01.","Intereses por deudas comerciales",null,{"$f":"IFERROR(VLOOKUP(A187,BC_ACTUAL!B:G,6,0)/1000,0)","v":0},{"$f":"IFERROR(VLOOKUP(A187,BC_ANTERIOR!B:G,6,0)/1000,0)","v":0},null,0,0,0,0,null,"La cuenta Intereses por deudas comerciales, representa el 0,00% del total del Gastos, que comparado al periodo anterior genera una variación absoluta de 0 000,00 que corresponde a un Aumento del 0,00% de recursos disponibles."]
["5.2.9.02.","Intereses por deudas sociales y fiscales",null,{"$f":"IFERROR(VLOOKUP(A188,BC_ACTUAL!B:G,6,0)/1000,0)","v":0},{"$f":"IFERROR(VLOOKUP(A188,BC_ANTERIOR!B:G,6,0)/1000,0)","v":0},null,0,0,0,0,null,"La cuenta Intereses por deudas sociales y fiscales, representa el 0,00% del total del Gastos, que comparado al periodo anterior genera una variación absoluta de 0 000,00 que corresponde a un Aumento del 0,00% de recursos disponibles."]
["5.2.9.04.","Intereses por documentos a pagar",null,{"$f":"IFERROR(VLOOKUP(A189,BC_ACTUAL!B:G,6,0)/1000,0)","v":0},{"$f":"IFERROR(VLOOKUP(A189,BC_ANTERIOR!B:G,6,0)/1000,0)","v":0},null,0,0,0,0,null,"La cuenta Intereses por documentos a pagar, representa el 0,00% del total del Gastos, que comparado al periodo anterior genera una variación absoluta de 0 000,00 que corresponde a un Aumento del 0,00% de recursos disponibles."]
["5.2.9.06.","Intereses sobre deudas por avales ejecutados",null,{"$f":"IFERROR(VLOOKUP(A190,BC_ACTUAL!B:G,6,0)/1000,0)","v":0},{"$f":"IFERROR(VLOOKUP(A190,BC_ANTERIOR!B:G,6,0)/1000,0)","v":0},null,0,0,0,0,null,"La cuenta Intereses sobre deudas por avales ejecutados, representa el 0,00% del total del Gastos, que comparado al periodo anterior genera una variación absoluta de 0 000,00 que corresponde a un Aumento del 0,00% de recursos disponibles."]
["5.2.9.99.","Otros gastos financieros varios",null,{"$f":"IFERROR(VLOOKUP(A191,BC_ACTUAL!B:G,6,0)/1000,0)","v":0},{"$f":"IFERROR(VLOOKUP(A191,BC_ANTERIOR!B:G,6,0)/1000,0)","v":0},null,0,0,0,0,null,"La cuenta Otros gastos financieros varios, representa el 0,00% del total del Gastos, que comparado al periodo anterior genera una variación absoluta de 0 000,00 que corresponde a un Aumento del 0,00% de recursos disponibles."]
["5.3.","Gastos y resultados negativos por ventas",null,null,null,null,null,0,null,null,null,"La cuenta Gastos y resultados negativos por ventas, representa el 0,00% del total del Gastos, que comparado al periodo anterior genera una variación absoluta de 0 000,00 que corresponde a un Aumento del 0,00% de recursos disponibles."]
["5.3.1.","Costo de ventas de bienes y servicios","69",{"$f":"SUM(D194:D195)","v":0},{"$f":"SUM(E194:E195)","v":0},null,0,0,{"$f":"IFERROR(D193-E193,0)","v":0},0,null,"La cuenta Costo de ventas de bienes y servicios, representa el 0,00% del total del Gastos, que comparado al periodo anterior genera una variación absoluta de 0 000,00 que corresponde a un Aumento del 0,00% de recursos disponibles."]
["5.3.1.01.","Costo de ventas de bienes",null,{"$f":"IFERROR(VLOOKUP(A194,BC_ACTUAL!B:G,6,0)/1000,0)","v":0},{"$f":"IFERROR(VLOOKUP(A194,BC_ANTERIOR!B:G,6,0)/1000,0)","v":0},null,{"$f":"IFERROR(D194/$D$231,0)","v":0},0,0,0,null,"La cuenta Costo de ventas de bienes, representa el 0,00% del total del Gastos, que comparado al periodo anterior genera una variación absoluta de 0 000,00 que corresponde a un Aumento del 0,00% de recursos disponibles."]
["5.3.1.02.","Costo de ventas de servicios",null,{"$f":"IFERROR(VLOOKUP(A195,BC_ACTUAL!B:G,6,0)/1000,0)","v":0},{"$f":"IFERROR(VLOOKUP(A195,BC_ANTERIOR!B:G,6,0)/1000,0)","v":0},null,0,0,0,0,null,"La cuenta Costo de ventas de servicios, representa el 0,00% del total del Gastos, que comparado al periodo anterior genera una variación absoluta de 0 000,00 que corresponde a un Aumento del 0,00% de recursos disponibles."]
["5.3.2.","Resultados negativos por ventas de inversiones","70",{"$f":"SUM(D197:D198)","v":0},{"$f":"SUM(E197:E198)","v":0},null,0,0,0,0,null,"La cuenta Resultados negativos por ventas de inversiones, representa el 0,00% del total del Gastos, que comparado al periodo anterior genera una variación absoluta de 0 000,00 que corresponde a un Aumento del 0,00% de recursos disponibles."]
["5.3.2.02.","Resultados negativos por ventas de inversiones patrimoniales - Método de participación",null,{"$f":"IFERROR(VLOOKUP(A197,BC_ACTUAL!B:G,6,0)/1000,0)","v":0},{"$f":"IFERROR(VLOOKUP(A197,BC_ANTERIOR!B:G,6,0)/1000,0)","v":0},null,0,0,0,0,null,"La cuenta Resultados negativos por ventas de inversiones patrimoniales - Método de participación, representa el 0,00% del total del Gastos, que comparado al periodo anterior genera una variación absoluta de 0 000,00 que corresponde a un Aumento del 0,00% de recursos disponibles."]
["5.3.2.99.","Resultados negativos por ventas de otras inversiones",null,{"$f":"IFERROR(VLOOKUP(A198,BC_ACTUAL!B:G,6,0)/1000,0)","v":0},{"$f":"IFERROR(VLOOKUP(A198,BC_ANTERIOR!B:G,6,0)/1000,0)","v":0},null,0,0,0,0,null,"La cuenta Resultados negativos por ventas de otras inversiones, representa el 0,00% del total del Gastos, que comparado al periodo anterior genera una variación absoluta de 0 000,00 que corresponde a un Aumento del 0,00% de recursos disponibles."]
["5.3.3.","Resultados negativos por ventas e intercambio de bienes","71",{"$f":"SUM(D200:D207)","v":0},{"$f":"SUM(E200:E207)","v":0},null,0,0,0,0,null,"La cuenta Resultados negativos por ventas e intercambio de bienes, representa el 0,00% del total del Gastos, que comparado al periodo anterior genera una variación absoluta de 0 000,00 que corresponde a un Aumento del 0,00% de recursos disponibles."]
["5.3.3.01.","Resultados negativos por ventas de construcciones terminadas",null,{"$f":"IFERROR(VLOOKUP(A200,BC_ACTUAL!B:G,6,0)/1000,0)","v":0},{"$f":"IFERROR(VLOOKUP(A200,BC_ANTERIOR!B:G,6,0)/1000,0)","v":0},null,0,0,0,0,null,"La cuenta Resultados negativos por ventas de construcciones terminadas, representa el 0,00% del total del Gastos, que comparado al periodo anterior genera una variación absoluta de 0 000,00 que corresponde a un Aumento del 0,00% de recursos disponibles."]
["5.3.3.02.","Resultados negativos por ventas de propiedades, planta y equipo",null,{"$f":"IFERROR(VLOOKUP(A201,BC_ACTUAL!B:G,6,0)/1000,0)","v":0},{"$f":"IFERROR(VLOOKUP(A201,BC_ANTERIOR!B:G,6,0)/1000,0)","v":0},null,0,0,0,0,null,"La cuenta Resultados negativos por ventas de propiedades, planta y equipo, representa el 0,00% del total del Gastos, que comparado al periodo anterior genera una variación absoluta de 0 000,00 que corresponde a un Aumento del 0,00% de recursos disponibles."]
["5.3.3.03.","Resultados negativos por ventas de activos biológicos",null,{"$f":"IFERROR(VLOOKUP(A202,BC_ACTUAL!B:G,6,0)/1000,0)","v":0},{"$f":"IFERROR(VLOOKUP(A202,BC_ANTERIOR!B:G,6,0)/1000,0)","v":0},null,0,{"$f":"IFERROR(E202/$E$231,0)","v":0},0,0,null,"La cuenta Resultados negativos por ventas de activos biológicos, representa el 0,00% del total del Gastos, que comparado al periodo anterior genera una variación absoluta de 0 000,00 que corresponde a un Aumento del 0,00% de recursos disponibles."]
["5.3.3.04.","Resultados negativos por ventas de bienes intangibles",null,{"$f":"IFERROR(VLOOKUP(A203,BC_ACTUAL!B:G,6,0)/1000,0)","v":0},{"$f":"IFERROR(VLOOKUP(A203,BC_ANTERIOR!B:G,6,0)/1000,0)","v":0},null,{"$f":"IFERROR(D203/$D$231,0)","v":0},0,0,0,null,"La cuenta Resultados negativos por ventas de bienes intangibles, representa el 0,00% del total del Gastos, que comparado al periodo anterior genera una variación absoluta de 0 000,00 que corresponde a un Aumento del 0,00% de recursos disponibles."]
["5.3.3.05.","Resultados negativos por ventas por arrendamientos financieros",null,{"$f":"IFERROR(VLOOKUP(A204,BC_ACTUAL!B:G,6,0)/1000,0)","v":0},{"$f":"IFERROR(VLOOKUP(A204,BC_ANTERIOR!B:G,6,0)/1000,0)","v":0},null,0,0,0,{"$f":"IFERROR(I204/E204,0)","v":0},null,{"$f":"\"La\"&\" \"&\"cuenta\"&\" \"&B204&\",\"&\" \"&\"representa\"&\" \"&\"el\"&\" \"&TEXT(G204,\"0,00%\")&\" \"&\"del\"&\" \"&\"total\"&\" \"&\"del\"&\" \"&IF(MID(A204,1,2)=\"1.\",\"Activo\",IF(MID(A204,1,2)=\"2.\",\"Pasivo\",IF(MID(A204,1,2)=\"3.\",\"Capital\",IF(MID(A204,1,2)=\"4.\",\"Ingresos\",IF(MID(A204,1,2)=\"5.\",\"Gastos\",\"\")))))&\",\"&\" \"&\"que\"&\" \"&\"comparado\"&\" \"&\"al\"&\" \"&\"periodo\"&\" \"&\"anterior\"&\" \"&\"genera\"&\" \"&\"una\"&\" \"&\"variación\"&\" \"&\"absoluta\"&\" \"&\"de\"&\" \"&TEXT(I204,\"0 000,00\")&\" \"&\"que\"&\" \"&\"corresponde\"&\" \"&\"a\"&\" \"&\"un\"&\" \"&IF(I204<0,\"Disminución\",\"Aumento\")&\" \"&\"del\"&\" \"&TEXT(J204,\"0,00%\")&\" \"&\"de\"&\" \"&\"recursos\"&\" \"&\"disponibles\"&\".\"","v":"La cuenta Resultados negativos por ventas por arrendamientos financieros, representa el 0,00% del total del Gastos, que comparado al periodo anterior genera una variación absoluta de 0 000,00 que corresponde a un Aumento del 0,00% de recursos disponibles."}]
["5.3.3.06.","Resultados negativos por intercambio de propiedades, planta y equipo",null,{"$f":"IFERROR(VLOOKUP(A205,BC_ACTUAL!B:G,6,0)/1000,0)","v":0},{"$f":"IFERROR(VLOOKUP(A205,BC_ANTERIOR!B:G,6,0)/1000,0)","v":0},null,0,0,0,0,null,"La cuenta Resultados negativos por intercambio de propiedades, planta y equipo, representa el 0,00% del total del Gastos, que comparado al periodo anterior genera una variación absoluta de 0 000,00 que corresponde a un Aumento del 0,00% de recursos disponibles."]
["5.3.3.07.","Resultados negativos por intercambio de bienes intangibles",null,{"$f":"IFERROR(VLOOKUP(A206,BC_ACTUAL!B:G,6,0)/1000,0)","v":0},{"$f":"IFERROR(VLOOKUP(A206,BC_ANTERIOR!B:G,6,0)/1000,0)","v":0},null,0,0,0,0,null,"La cuenta Resultados negativos por intercambio de bienes intangibles, representa el 0,00% del total del Gastos, que comparado al periodo anterior genera una variación absoluta de 0 000,00 que corresponde a un Aumento del 0,00% de recursos disponibles."]
["5.4.","Transferencias",null,null,null,null,0,0,null,null,null,"La cuenta Transferencias, representa el 0,00% del total del Gastos, que comparado al periodo anterior genera una variación absoluta de 0 000,00 que corresponde a un Aumento del 0,00% de recursos disponibles."]
["5.4.1.","Transferencias corrientes","72",{"$f":"SUM(D209:D211)","v":122247.40272},{"$f":"SUM(E209:E211)","v":60703.674899999998},null,4.4391311737597104E-2,1.9182747264186773E-2,{"$f":"IFERROR(D208-E208,0)","v":61543.72782},1.0138385842600774,null,"La cuenta Transferencias corrientes, representa el 4,44% del total del Gastos, que comparado al periodo anterior genera una variación absoluta de 61 543,73 que corresponde a un Aumento del 101,38% de recursos disponibles."]
["5.4.1.01.","Transferencias corrientes al sector privado interno",null,{"$f":"IFERROR(VLOOKUP(A209,BC_ACTUAL!B:G,6,0)/1000,0)","v":64498.352229999997},{"$f":"IFERROR(VLOOKUP(A209,BC_ANTERIOR!B:G,6,0)/1000,0)","v":7503.2455599999994},null,2.3421082139153289E-2,2.3710733077646267E-3,56995.106669999994,7.5960604266828762,null,"La cuenta Transferencias corrientes al sector privado interno, representa el 2,34% del total del Gastos, que comparado al periodo anterior genera una variación absoluta de 56 995,11 que corresponde a un Aumento del 759,61% de recursos disponibles."]
["5.4.1.02.","Transferencias corrientes al sector público interno",null,{"$f":"IFERROR(VLOOKUP(A210,BC_ACTUAL!B:G,6,0)/1000,0)","v":57749.050490000001},{"$f":"IFERROR(VLOOKUP(A210,BC_ANTERIOR!B:G,6,0)/1000,0)","v":53200.429340000002},null,2.0970229598443812E-2,1.6811673956422149E-2,4548.621149999999,8.5499707548036846E-2,null,"La cuenta Transferencias corrientes al sector público interno, representa el 2,10% del total del Gastos, que comparado al periodo anterior genera una variación absoluta de 4 548,62 que corresponde a un Aumento del 8,55% de recursos disponibles."]
["5.4.1.03.","Transferencias corrientes al sector externo",null,{"$f":"IFERROR(VLOOKUP(A211,BC_ACTUAL!B:G,6,0)/1000,0)","v":0},{"$f":"IFERROR(VLOOKUP(A211,BC_ANTERIOR!B:G,6,0)/1000,0)","v":0},null,0,0,0,0,null,"La cuenta Transferencias corrientes al sector externo, representa el 0,00% del total del Gastos, que comparado al periodo anterior genera una variación absoluta de 0 000,00 que corresponde a un Aumento del 0,00% de recursos disponibles."]
["5.4.2.","Transferencias de capital","73",{"$f":"SUM(D213:D216)","v":0},{"$f":"SUM(E213:E216)","v":0},null,0,0,0,0,null,"La cuenta Transferencias de capital, representa el 0,00% del total del Gastos, que comparado al periodo anterior genera una variación absoluta de 0 000,00 que corresponde a un Aumento del 0,00% de recursos disponibles."]
["5.4.2.01.","Transferencias de capital al sector privado interno",null,{"$f":"IFERROR(VLOOKUP(A213,BC_ACTUAL!B:G,6,0)/1000,0)","v":0},{"$f":"IFERROR(VLOOKUP(A213,BC_ANTERIOR!B:G,6,0)/1000,0)","v":0},null,0,0,0,0,null,"La cuenta Transferencias de capital al sector privado interno, representa el 0,00% del total del Gastos, que comparado al periodo anterior genera una variación absoluta de 0 000,00 que corresponde a un Aumento del 0,00% de recursos disponibles."]
["5.4.2.02.","Transferencias de capital al sector público interno",null,{"$f":"IFERROR(VLOOKUP(A214,BC_ACTUAL!B:G,6,0)/1000,0)","v":0},{"$f":"IFERROR(VLOOKUP(A214,BC_ANTERIOR!B:G,6,0)/1000,0)","v":0},null,0,0,0,0,null,"La cuenta Transferencias de capital al sector público interno, representa el 0,00% del total del Gastos, que comparado al periodo anterior genera una variación absoluta de 0 000,00 que corresponde a un Aumento del 0,00% de recursos disponibles."]
["5.4.2.03.","Transferencias de capital al sector externo",null,{"$f":"IFERROR(VLOOKUP(A215,BC_ACTUAL!B:G,6,0)/1000,0)","v":0},{"$f":"IFERROR(VLOOKUP(A215,BC_ANTERIOR!B:G,6,0)/1000,0)","v":0},null,0,0,0,0,null,"La cuenta Transferencias de capital al sector externo, representa el 0,00% del total del Gastos, que comparado al periodo anterior genera una variación absoluta de 0 000,00 que corresponde a un Aumento del 0,00% de recursos disponibles."]
["5.9.","Otros gastos",null,null,null,null,null,0]
["5.9.1.","Resultados negativos por tenencia y por exposición a la inflación","74",{"$f":"SUM(D218:D223)","v":0},{"$f":"SUM(E218:E223)","v":9715.9410000000007},null,0,3.07029913664667E-3,{"$f":"IFERROR(D217-E217,0)","v":-9715.9410000000007},-1,null,"La cuenta Resultados negativos por tenencia y por exposición a la inflación, representa el 0,00% del total del Gastos, que comparado al periodo anterior genera una variación absoluta de -9 715,94 que corresponde a un Disminución del -100,00% de recursos disponibles."]
["5.9.1.01.","Diferencias de cambio negativas por activos",null,{"$f":"IFERROR(VLOOKUP(A218,BC_ACTUAL!B:G,6,0)/1000,0)","v":0},{"$f":"IFERROR(VLOOKUP(A218,BC_ANTERIOR!B:G,6,0)/1000,0)","v":0},null,0,0,0,0,null,"La cuenta Diferencias de cambio negativas por activos, representa el 0,00% del total del Gastos, que comparado al periodo anterior genera una variación absoluta de 0 000,00 que corresponde a un Aumento del 0,00% de recursos disponibles."]
["5.9.1.02.","Diferencias de cambio negativas por pasivos",null,{"$f":"IFERROR(VLOOKUP(A219,BC_ACTUAL!B:G,6,0)/1000,0)","v":0},{"$f":"IFERROR(VLOOKUP(A219,BC_ANTERIOR!B:G,6,0)/1000,0)","v":9715.9410000000007},null,0,3.07029913664667E-3,-9715.9410000000007,{"$f":"IFERROR(I219/E219,0)","v":-1},null,"La cuenta Diferencias de cambio negativas por pasivos, representa el 0,00% del total del Gastos, que comparado al periodo anterior genera una variación absoluta de -9 715,94 que corresponde a un Disminución del -100,00% de recursos disponibles."]
["5.9.1.03.","Resultados negativos por tenencia de activos no derivados",null,{"$f":"IFERROR(VLOOKUP(A220,BC_ACTUAL!B:G,6,0)/1000,0)","v":0},{"$f":"IFERROR(VLOOKUP(A220,BC_ANTERIOR!B:G,6,0)/1000,0)","v":0},null,0,0,0,0,null,"La cuenta Resultados negativos por tenencia de activos no derivados, representa el 0,00% del total del Gastos, que comparado al periodo anterior genera una variación absoluta de 0 000,00 que corresponde a un Aumento del 0,00% de recursos disponibles."]
["5.9.1.04.","Resultados negativos por tenencia de pasivos no derivados",null,{"$f":"IFERROR(VLOOKUP(A221,BC_ACTUAL!B:G,6,0)/1000,0)","v":0},{"$f":"IFERROR(VLOOKUP(A221,BC_ANTERIOR!B:G,6,0)/1000,0)","v":0},null,0,0,0,0,null,"La cuenta Resultados negativos por tenencia de pasivos no derivados, representa el 0,00% del total del Gastos, que comparado al periodo anterior genera una variación absoluta de 0 000,00 que corresponde a un Aumento del 0,00% de recursos disponibles."]
["5.9.1.05.","Resultados negativos por tenencia de instrumentos financieros derivados",null,{"$f":"IFERROR(VLOOKUP(A222,BC_ACTUAL!B:G,6,0)/1000,0)","v":0},{"$f":"IFERROR(VLOOKUP(A222,BC_ANTERIOR!B:G,6,0)/1000,0)","v":0},null,0,0,0,0,null,"La cuenta Resultados negativos por tenencia de instrumentos financieros derivados, representa el 0,00% del total del Gastos, que comparado al periodo anterior genera una variación absoluta de 0 000,00 que corresponde a un Aumento del 0,00% de recursos disponibles."]
["5.9.1.06.","Resultado negativo por exposición a la inflación",null,{"$f":"IFERROR(VLOOKUP(A223,BC_ACTUAL!B:G,6,0)/1000,0)","v":0},{"$f":"IFERROR(VLOOKUP(A223,BC_ANTERIOR!B:G,6,0)/1000,0)","v":0},null,0,0,0,0,null,"La cuenta Resultado negativo por exposición a la inflación, representa el 0,00% del total del Gastos, que comparado al periodo anterior genera una variación absoluta de 0 000,00 que corresponde a un Aumento del 0,00% de recursos disponibles."]
["5.9.2.","Resultados negativos de inversiones patrimoniales y participación de los intereses minoritarios","75",{"$f":"SUM(D225:D226)","v":0},{"$f":"SUM(E225:E226)","v":0},null,0,0,0,0,null,"La cuenta Resultados negativos de inversiones patrimoniales y participación de los intereses minoritarios, representa el 0,00% del total del Gastos, que comparado al periodo anterior genera una variación absoluta de 0 000,00 que corresponde a un Aumento del 0,00% de recursos disponibles."]
["5.9.2.01.","Resultados negativos de inversiones patrimoniales",null,{"$f":"IFERROR(VLOOKUP(A225,BC_ACTUAL!B:G,6,0)/1000,0)","v":0},{"$f":"IFERROR(VLOOKUP(A225,BC_ANTERIOR!B:G,6,0)/1000,0)","v":0},null,0,{"$f":"IFERROR(E225/$E$231,0)","v":0},0,0,null,"La cuenta Resultados negativos de inversiones patrimoniales, representa el 0,00% del total del Gastos, que comparado al periodo anterior genera una variación absoluta de 0 000,00 que corresponde a un Aumento del 0,00% de recursos disponibles."]
["5.9.2.02.","Participación de los intereses minoritarios en el resultado neto positivo",null,{"$f":"IFERROR(VLOOKUP(A226,BC_ACTUAL!B:G,6,0)/1000,0)","v":0},{"$f":"IFERROR(VLOOKUP(A226,BC_ANTERIOR!B:G,6,0)/1000,0)","v":0},null,0,0,0,0,null,"La cuenta Participación de los intereses minoritarios en el resultado neto positivo, representa el 0,00% del total del Gastos, que comparado al periodo anterior genera una variación absoluta de 0 000,00 que corresponde a un Aumento del 0,00% de recursos disponibles."]
["5.9.9.","Otros gastos y resultados negativos","76",{"$f":"SUM(D228:D230)","v":5.4400000000000004E-3},{"$f":"SUM(E228:E230)","v":2.9999999999999997E-5},null,1.9754099512906874E-9,9.4801907606684822E-12,{"$f":"IFERROR(D227-E227,0)","v":5.4100000000000007E-3},{"$f":"IFERROR(I227/E227,0)","v":180.33333333333337},null,"La cuenta Otros gastos y resultados negativos, representa el 0,00% del total del Gastos, que comparado al periodo anterior genera una variación absoluta de 0 000,01 que corresponde a un Aumento del 18033,33% de recursos disponibles."]
["5.9.9.02.","Impuestos, multas y recargos moratorios",null,{"$f":"IFERROR(VLOOKUP(A228,BC_ACTUAL!B:G,6,0)/1000,0)","v":0},{"$f":"IFERROR(VLOOKUP(A228,BC_ANTERIOR!B:G,6,0)/1000,0)","v":0},null,{"$f":"IFERROR(D228/$D$231,0)","v":0},{"$f":"IFERROR(E228/$E$231,0)","v":0},0,0,null,"La cuenta Impuestos, multas y recargos moratorios, representa el 0,00% del total del Gastos, que comparado al periodo anterior genera una variación absoluta de 0 000,00 que corresponde a un Aumento del 0,00% de recursos disponibles."]
["5.9.9.03.","Devoluciones de impuestos",null,{"$f":"IFERROR(VLOOKUP(A229,BC_ACTUAL!B:G,6,0)/1000,0)","v":0},{"$f":"IFERROR(VLOOKUP(A229,BC_ANTERIOR!B:G,6,0)/1000,0)","v":0},null,0,{"$f":"IFERROR(E229/$E$231,0)","v":0},0,0,null,"La cuenta Devoluciones de impuestos, representa el 0,00% del total del Gastos, que comparado al periodo anterior genera una variación absoluta de 0 000,00 que corresponde a un Aumento del 0,00% de recursos disponibles."]
["5.9.9.99.","Gastos y resultados negativos varios",null,{"$f":"IFERROR(VLOOKUP(A230,BC_ACTUAL!B:G,6,0)/1000,0)","v":5.4400000000000004E-3},{"$f":"IFERROR(VLOOKUP(A230,BC_ANTERIOR!B:G,6,0)/1000,0)","v":2.9999999999999997E-5},null,{"$f":"IFERROR(D230/$D$231,0)","v":1.9754099512906874E-9},{"$f":"IFERROR(E230/$E$231,0)","v":9.4801907606684822E-12},5.4100000000000007E-3,180.33333333333337,null,"La cuenta Gastos y resultados negativos varios, representa el 0,00% del total del Gastos, que comparado al periodo anterior genera una variación absoluta de 0 000,01 que corresponde a un Aumento del 18033,33% de recursos disponibles."]
[null,"TOTAL DE GASTOS",null,{"$f":"+D227+D224+D217+D212+D208+D199+D196+D193+D186+D181+D175+D172+D168+D165+D162+D156+D146+D137","v":2753858.7605300001},{"$f":"+E227+E224+E217+E212+E208+E199+E196+E193+E186+E181+E175+E172+E168+E165+E162+E156+E146+E137","v":3164493.2847199999},null,{"$f":"+G227+G224+G217+G212+G208+G199+G196+G193+G186+G181+G175+G172+G168+G165+G162+G156+G146+G137","v":1},{"$f":"+H227+H224+H217+H212+H208+H199+H196+H193+H186+H181+H175+H172+H168+H165+H162+H156+H146+H137","v":0.99999999999999989},{"$f":"IFERROR(D231-E231,0)","v":-410634.52418999979},-0.12976312074125115]
[null,"AHORRO y/o DESAHORRO DEL PERIODO",null,{"$f":"+D133-D231","v":1929172.9933499997},{"$f":"+E133-E231","v":1467598.2371200006},null,{"$f":"+G133-G231","v":0},{"$f":"+H133-H231","v":0},{"$f":"IFERROR(D232-E232,0)","v":461574.75622999901},0.31451029618009657]

{"sheet":"EEFF_FLUJO","index":5,"n_rows":65,"n_cols":12,"rows_kept":65,"cut":false,"hidden":false,"merged":[[57,0,57,1],[61,0,61,1],[3,0,3,4],[51,0,51,1],[0,6,0,9],[1,6,1,9],[2,6,2,9],[0,0,0,4],[1,0,1,4],[2,0,2,4]]}
[{"$f":"DATOS!D13","v":"Municipalidad de Buenos Aires"},null,null,null,null,null,"ESTADO DE FLUJO DE EFECTIVO"]
["ESTADO DE FLUJO DE EFECTIVO",null,null,null,null,null,"Análisis de Variaciones"]
[{"$f":"DATOS!D15&\" \"&RIGHT(D5,4)","v":"Del 01 de Enero al 30 de Junio 2024"},null,null,null,null,null,{"$f":"DATOS!D15&\" \"&RIGHT(D5,4)","v":"Del 01 de Enero al 30 de Junio 2024"}]
["En miles de colones "]
["P","Descripción","Nota Nº",{"$f":"PROPER(DATOS!D17)","v":"Junio 2024"},{"$f":"PROPER(DATOS!D18)","v":"Junio 2023"},null,"Análisis Vertical (%)","%","Monto Variación\nAbsoluta"," Variación relativa (%)"]
["FLUJOS DE EFECTIVO DE LAS ACTIVIDADES DE OPERACIÓN"]
["Cobros","COBROS_OPE",77,{"$f":"SUM(D8:D15)","v":2595053.2877199999},{"$f":"SUM(E8:E15)","v":2678293.9209600003},null,null,null,{"$f":"IFERROR(D7-E7,0)","v":-83240.633240000345},{"$f":"IFERROR(I7/E7,0)","v":-3.1079723023888207E-2},null,{"$f":"\"Los\"&\" \"&A7&\" \"&\"de\"&\" \"&\"los\"&\" \"&\"Flujos\"&\" \"&\"de\"&\" \"&\"Efectivo\"&\" \"&\"de\"&\" \"&\"las\"&\" \"&\"Actividades\"&\" \"&\"de\"&\" \"&\"Operación\"&\",\"&\" \"&\"comparado\"&\" \"&\"al\"&\" \"&\"periodo\"&\" \"&\"anterior\"&\" \"&\"genera\"&\" \"&\"una\"&\" \"&\"variación\"&\" \"&\"absoluta\"&\" \"&\"de\"&\" \"&TEXT(I7,\"0 000,00\")&\" \"&\"que\"&\" \"&\"corresponde\"&\" \"&\"a\"&\" \"&\"un\"&\" \"&IF(I7<0,\"Disminución\",\"Aumento\")&\" \"&\"del\"&\" \"&TEXT(J7,\"0,00%\")&\" \"&\"de\"&\" \"&\"recursos\"&\" \"&\"disponibles\"&\".\"","v":"Los Cobros de los Flujos de Efectivo de las Actividades de Operación, comparado al periodo anterior genera una variación absoluta de -83 240,63 que corresponde a un Disminución del -3,11% de recursos disponibles."}]
[null,"Cobros por impuestos",null,593722.23008999997,749500.76092999999,null,{"$f":"IFERROR(D8/$D$7,0)","v":0.22878999552708268},{"$f":"IFERROR(E8/$E$7,0)","v":0.27984260990345339},{"$f":"IFERROR(D8-E8,0)","v":-155778.53084000002},{"$f":"IFERROR(I8/E8,0)","v":-0.2078430589539442}]
[null,"Cobros por contribuciones sociales",null,0,0,null,{"$f":"IFERROR(D9/$D$7,0)","v":0},{"$f":"IFERROR(E9/$E$7,0)","v":0},{"$f":"IFERROR(D9-E9,0)","v":0},{"$f":"IFERROR(I9/E9,0)","v":0}]
[null,"Cobros por multas, sanciones, remates y confiscaciones de origen no tributario",null,2518.5639999999999,0,null,9.705249645230973E-4,{"$f":"IFERROR(E10/$E$7,0)","v":0},2518.5639999999999,0]
[null,"Cobros por ventas de inventarios, servicios y derechos administrativos",null,285053.56808000006,220536.23944000003,null,0.1098449767597823,{"$f":"IFERROR(E11/$E$7,0)","v":8.2342060262359712E-2},64517.328640000022,0.29254751420368197]
[null,"Cobros por ingresos de la propiedad",null,32276.597749999997,33969.611039999996,null,1.2437739873294874E-2,1.2683302147743375E-2,-1693.013289999999,-4.9839054324361767E-2]
[null,"Cobros por transferencias ",null,1579396.2247800003,1586331.5840800004,null,0.60861803195095443,{"$f":"IFERROR(E13/$E$7,0)","v":0.59229182117226331},-6935.3593000001274,-4.371948065336112E-3]
[null,"Cobros por concesiones",null,0,0,null,0,0,0,0]
[null,"Otros cobros por actividades de operación",null,102086.10301999966,87955.725469999772,null,3.9338730924362623E-2,3.2840206514180181E-2,14130.377549999888,0.16065329999261416]
["Pagos","PAGOS_OPE",78,{"$f":"SUM(D17:D21)","v":2425420.3404200128},{"$f":"SUM(E17:E21)","v":2844721.4481699881},null,null,null,{"$f":"IFERROR(D16-E16,0)","v":-419301.10774997529},{"$f":"IFERROR(I16/E16,0)","v":-0.14739619164460269},null,{"$f":"\"Los\"&\" \"&A16&\" \"&\"de\"&\" \"&\"los\"&\" \"&\"Flujos\"&\" \"&\"de\"&\" \"&\"Efectivo\"&\" \"&\"de\"&\" \"&\"las\"&\" \"&\"Actividades\"&\" \"&\"de\"&\" \"&\"Operación\"&\",\"&\" \"&\"comparado\"&\" \"&\"al\"&\" \"&\"periodo\"&\" \"&\"anterior\"&\" \"&\"genera\"&\" \"&\"una\"&\" \"&\"variación\"&\" \"&\"absoluta\"&\" \"&\"de\"&\" \"&TEXT(I16,\"0 000,00\")&\" \"&\"que\"&\" \"&\"corresponde\"&\" \"&\"a\"&\" \"&\"un\"&\" \"&IF(I16<0,\"Disminución\",\"Aumento\")&\" \"&\"del\"&\" \"&TEXT(J16,\"0,00%\")&\" \"&\"de\"&\" \"&\"recursos\"&\" \"&\"disponibles\"&\".\"","v":"Los Pagos de los Flujos de Efectivo de las Actividades de Operación, comparado al periodo anterior genera una variación absoluta de -419 301,11 que corresponde a un Disminución del -14,74% de recursos disponibles."}]
[null,"Pagos por beneficios al personal",null,595176.26476000005,568464.68816000002,null,{"$f":"IFERROR(D17/$D$16,0)","v":0.24539097608826546},{"$f":"IFERROR(E17/$E$16,0)","v":0.19983140652512529},{"$f":"IFERROR(D17-E17,0)","v":26711.576600000029},{"$f":"IFERROR(I17/E17,0)","v":4.6988981297078895E-2}]
[null,"Pagos por servicios y adquisiciones de inventarios (incluye anticipos)",null,1619295.5084099998,1959990.9936699995,null,{"$f":"IFERROR(D18/$D$16,0)","v":0.66763499976650831},{"$f":"IFERROR(E18/$E$16,0)","v":0.68899223680788269},{"$f":"IFERROR(D18-E18,0)","v":-340695.48525999975},{"$f":"IFERROR(I18/E18,0)","v":-0.17382502591099258}]
[null,"Pagos por prestaciones de la seguridad social",null,41121.616349999982,13176.525500000003,null,1.6954428749813694E-2,4.6319211705161765E-3,27945.090849999979,2.1208239493787624]
[null,"Pagos por otras transferencias ",null,146488.52199000001,88268.5095,null,6.0397168914907519E-2,3.1028876151225005E-2,58220.012490000008,0.65957851582392479]
[null,"Otros pagos por actividades de operación",null,23338.428910013405,214820.7313399883,null,{"$f":"IFERROR(D21/$D$16,0)","v":9.6224264805051737E-3},7.5515559345250713E-2,-191482.30242997489,-0.89135858180709482]
["Flujos netos de efectivo por actividades de operación",null,null,{"$f":"+D7-D16","v":169632.94729998708},{"$f":"+E7-E16","v":-166427.52720998786},null,null,null,{"$f":"IFERROR(D22-E22,0)","v":336060.47450997494},{"$f":"IFERROR(I22/E22,0)","v":-2.0192601557190404}]
[]
["FLUJOS DE EFECTIVO DE LAS ACTIVIDADES DE INVERSIÓN"]
["Cobros","COBROS_INV",79,{"$f":"SUM(D26:D30)","v":0},{"$f":"SUM(E26:E30)","v":0},null,null,null,{"$f":"IFERROR(D25-E25,0)","v":0},{"$f":"IFERROR(I25/E25,0)","v":0},null,{"$f":"\"Los\"&\" \"&A25&\" \"&\"de\"&\" \"&\"los\"&\" \"&\"Flujos\"&\" \"&\"de\"&\" \"&\"Efectivo\"&\" \"&\"de\"&\" \"&\"las\"&\" \"&\"Actividades\"&\" \"&\"de\"&\" \"&\"Inversión\"&\",\"&\" \"&\"comparado\"&\" \"&\"al\"&\" \"&\"periodo\"&\" \"&\"anterior\"&\" \"&\"genera\"&\" \"&\"una\"&\" \"&\"variación\"&\" \"&\"absoluta\"&\" \"&\"de\"&\" \"&TEXT(I25,\"0 000,00\")&\" \"&\"que\"&\" \"&\"corresponde\"&\" \"&\"a\"&\" \"&\"un\"&\" \"&IF(I25<0,\"Disminución\",\"Aumento\")&\" \"&\"del\"&\" \"&TEXT(J25,\"0,00%\")&\" \"&\"de\"&\" \"&\"recursos\"&\" \"&\"disponibles\"&\".\"","v":"Los Cobros de los Flujos de Efectivo de las Actividades de Inversión, comparado al periodo anterior genera una variación absoluta de 0 000,00 que corresponde a un Aumento del 0,00% de recursos disponibles."}]
[null,"Cobros por ventas de bienes distintos de inventarios",null,0,0,null,{"$f":"IFERROR(D26/$D$25,0)","v":0},{"$f":"IFERROR(E26/$E$25,0)","v":0},{"$f":"IFERROR(D26-E26,0)","v":0},{"$f":"IFERROR(I26/E26,0)","v":0}]
[null,"Cobros por ventas y reembolso de inversiones patrimoniales",null,0,0,null,{"$f":"IFERROR(D27/$D$25,0)","v":0},{"$f":"IFERROR(E27/$E$25,0)","v":0},{"$f":"IFERROR(D27-E27,0)","v":0},{"$f":"IFERROR(I27/E27,0)","v":0}]
[null,"Cobros por ventas y reembolso de inversiones en otros instrumentos financieros",null,0,0,null,0,0,0,0]
[null,"Cobros por reembolsos de préstamos",null,0,0,null,0,0,0,0]
[null,"Otros cobros por actividades de inversión",null,0,0,null,0,0,0,0]
["Pagos","PAGOS_INV",80,{"$f":"SUM(D32:D36)","v":408916.80907000008},{"$f":"SUM(E32:E36)","v":101165.45105},null,null,null,{"$f":"IFERROR(D31-E31,0)","v":307751.35802000004},{"$f":"IFERROR(I31/E31,0)","v":3.0420598616013388},null,{"$f":"\"Los\"&\" \"&A31&\" \"&\"de\"&\" \"&\"los\"&\" \"&\"Flujos\"&\" \"&\"de\"&\" \"&\"Efectivo\"&\" \"&\"de\"&\" \"&\"las\"&\" \"&\"Actividades\"&\" \"&\"de\"&\" \"&\"Inversión\"&\",\"&\" \"&\"comparado\"&\" \"&\"al\"&\" \"&\"periodo\"&\" \"&\"anterior\"&\" \"&\"genera\"&\" \"&\"una\"&\" \"&\"variación\"&\" \"&\"absoluta\"&\" \"&\"de\"&\" \"&TEXT(I31,\"0 000,00\")&\" \"&\"que\"&\" \"&\"corresponde\"&\" \"&\"a\"&\" \"&\"un\"&\" \"&IF(I31<0,\"Disminución\",\"Aumento\")&\" \"&\"del\"&\" \"&TEXT(J31,\"0,00%\")&\" \"&\"de\"&\" \"&\"recursos\"&\" \"&\"disponibles\"&\".\"","v":"Los Pagos de los Flujos de Efectivo de las Actividades de Inversión, comparado al periodo anterior genera una variación absoluta de 307 751,36 que corresponde a un Aumento del 304,21% de recursos disponibles."}]
[null,"Pagos por adquisición de bienes distintos de inventarios",null,408916.80907000008,101165.45105,null,{"$f":"IFERROR(D32/$D$31,0)","v":1},{"$f":"IFERROR(E32/$E$31,0)","v":1},{"$f":"IFERROR(D32-E32,0)","v":307751.35802000004},{"$f":"IFERROR(I32/E32,0)","v":3.0420598616013388}]
[null,"Pagos por adquisición de inversiones patrimoniales",null,0,0,null,{"$f":"IFERROR(D33/$D$31,0)","v":0},{"$f":"IFERROR(E33/$E$31,0)","v":0},{"$f":"IFERROR(D33-E33,0)","v":0},{"$f":"IFERROR(I33/E33,0)","v":0}]
[null,"Pagos por adquisición de inversiones en otros instrumentos financieros",null,0,0,null,0,0,0,{"$f":"IFERROR(I34/E34,0)","v":0}]
[null,"Pagos por préstamos otorgados",null,0,0,null,0,0,0,{"$f":"IFERROR(I35/E35,0)","v":0}]
[null,"Otros pagos por actividades de inversión",null,0,0,null,0,{"$f":"IFERROR(E36/$E$31,0)","v":0},0,0]
["Flujos netos de efectivo por actividades de inversión",null,null,{"$f":"+D25-D31","v":-408916.80907000008},{"$f":"+E25-E31","v":-101165.45105},null,null,null,{"$f":"IFERROR(D37-E37,0)","v":-307751.35802000004},{"$f":"IFERROR(I37/E37,0)","v":3.0420598616013388}]
[]
["FLUJOS DE EFECTIVO DE LAS ACTIVIDADES DE FINANCIACIÓN"]
["Cobros","COBROS_FIN",81,{"$f":"SUM(D41:D43)","v":254836.45},{"$f":"SUM(E41:E43)","v":0},null,null,null,{"$f":"IFERROR(D40-E40,0)","v":254836.45},{"$f":"IFERROR(I40/E40,0)","v":0},null,{"$f":"\"Los\"&\" \"&A40&\" \"&\"de\"&\" \"&\"los\"&\" \"&\"Flujos\"&\" \"&\"de\"&\" \"&\"Efectivo\"&\" \"&\"de\"&\" \"&\"las\"&\" \"&\"Actividades\"&\" \"&\"de\"&\" \"&\"Financiamiento\"&\",\"&\" \"&\"comparado\"&\" \"&\"al\"&\" \"&\"periodo\"&\" \"&\"anterior\"&\" \"&\"genera\"&\" \"&\"una\"&\" \"&\"variación\"&\" \"&\"absoluta\"&\" \"&\"de\"&\" \"&TEXT(I40,\"0 000,00\")&\" \"&\"que\"&\" \"&\"corresponde\"&\" \"&\"a\"&\" \"&\"un\"&\" \"&IF(I40<0,\"Disminución\",\"Aumento\")&\" \"&\"del\"&\" \"&TEXT(J40,\"0,00%\")&\" \"&\"de\"&\" \"&\"recursos\"&\" \"&\"disponibles\"&\".\"","v":"Los Cobros de los Flujos de Efectivo de las Actividades de Financiamiento, comparado al periodo anterior genera una variación absoluta de 254 836,45 que corresponde a un Aumento del 0,00% de recursos disponibles."}]
[null,"Cobros por incrementos de capital y transferencias de capital",null,0,0,null,{"$f":"IFERROR(D41/$D$40,0)","v":0},{"$f":"IFERROR(E41/$E$40,0)","v":0},{"$f":"IFERROR(D41-E41,0)","v":0},{"$f":"IFERROR(I41/E41,0)","v":0}]
[null,"Cobros por endeudamiento público",null,0,0,null,{"$f":"IFERROR(D42/$D$40,0)","v":0},{"$f":"IFERROR(E42/$E$40,0)","v":0},{"$f":"IFERROR(D42-E42,0)","v":0},{"$f":"IFERROR(I42/E42,0)","v":0}]
[null,"Otros cobros por actividades de financiación",null,254836.45,0,null,1,0,254836.45,0]
["Pagos","PAGOS_FIN",82,{"$f":"SUM(D45:D47)","v":248609.66998999999},{"$f":"SUM(E45:E47)","v":216211.81166000001},null,null,null,{"$f":"IFERROR(D44-E44,0)","v":32397.858329999988},{"$f":"IFERROR(I44/E44,0)","v":0.14984314724186604},null,{"$f":"\"Los\"&\" \"&A44&\" \"&\"de\"&\" \"&\"los\"&\" \"&\"Flujos\"&\" \"&\"de\"&\" \"&\"Efectivo\"&\" \"&\"de\"&\" \"&\"las\"&\" \"&\"Actividades\"&\" \"&\"de\"&\" \"&\"Financiamiento\"&\",\"&\" \"&\"comparado\"&\" \"&\"al\"&\" \"&\"periodo\"&\" \"&\"anterior\"&\" \"&\"genera\"&\" \"&\"una\"&\" \"&\"variación\"&\" \"&\"absoluta\"&\" \"&\"de\"&\" \"&TEXT(I44,\"0 000,00\")&\" \"&\"que\"&\" \"&\"corresponde\"&\" \"&\"a\"&\" \"&\"un\"&\" \"&IF(I44<0,\"Disminución\",\"Aumento\")&\" \"&\"del\"&\" \"&TEXT(J44,\"0,00%\")&\" \"&\"de\"&\" \"&\"recursos\"&\" \"&\"disponibles\"&\".\"","v":"Los Pagos de los Flujos de Efectivo de las Actividades de Financiamiento, comparado al periodo anterior genera una variación absoluta de 32 397,86 que corresponde a un Aumento del 14,98% de recursos disponibles."}]
[null,"Pagos por disminuciones del patrimonio que no afectan resultados",null,0,0,null,{"$f":"IFERROR(D45/$D$44,0)","v":0},{"$f":"IFERROR(E45/$E$44,0)","v":0},{"$f":"IFERROR(D45-E45,0)","v":0},{"$f":"IFERROR(I45/E45,0)","v":0}]
[null,"Pagos por amortizaciones de endeudamiento público",null,194210.37,159704.01204,null,0,0,0,0]
[null,"Otros pagos por actividades de financiación",null,54399.29999,56507.799619999998,null,0,0,0,0]
["Flujos netos de efectivo por actividades de financiación",null,null,{"$f":"+D40-D44","v":6226.7800100000168},{"$f":"+E40-E44","v":-216211.81166000001},null,null,null,{"$f":"IFERROR(D48-E48,0)","v":222438.59167000002},{"$f":"IFERROR(I48/E48,0)","v":-1.0287994442218162}]
[]
["Incremento/Disminución neta de efectivo y equivalentes de efectivo por flujos de actividades",null,null,{"$f":"+D22+D37+D48","v":-233057.08176001298},{"$f":"+E22+E37+E48","v":-483804.7899199879},null,null,null,{"$f":"IFERROR(D50-E50,0)","v":250747.70815997492},{"$f":"IFERROR(I50/E50,0)","v":-0.51828281444142754}]
[]
["Incremento/Disminución neta de efectivo y equivalentes de efectivo por diferencias de cambio no realizadas",null,null,0,0,null,null,null,0,0]
["Efectivo y equivalentes de efectivo al inicio del ejercicio",null,null,2106811.91132,2705767.3893000004,null,null,null,-598955.47798000043,-0.22136251635989823]
["Efectivo y equivalentes de efectivo al final del ejercicio",null,83,{"$f":"+D50+D52+D53","v":1873754.8295599869},{"$f":"+E50+E52+E53","v":2221962.5993800126},null,null,null,-348207.76982002566,-0.15671180510292343,null,{"$f":"\"La\"&\" \"&\"cuenta\"&\" \"&A54&\",\"&\" \"&\"comparado\"&\" \"&\"al\"&\" \"&\"periodo\"&\" \"&\"anterior\"&\" \"&\"genera\"&\" \"&\"una\"&\" \"&\"variación\"&\" \"&\"absoluta\"&\" \"&\"de\"&\" \"&TEXT(I54,\"0 000,00\")&\" \"&\"que\"&\" \"&\"corresponde\"&\" \"&\"a\"&\" \"&\"un\"&\" \"&IF(I54<0,\"Disminución\",\"Aumento\")&\" \"&\"del\"&\" \"&TEXT(J54,\"0,00%\")&\" \"&\"de\"&\" \"&\"recursos\"&\" \"&\"disponibles\"&\".\"","v":"La cuenta Efectivo y equivalentes de efectivo al final del ejercicio, comparado al periodo anterior genera una variación absoluta de -348 207,77 que corresponde a un Disminución del -15,67% de recursos disponibles."}]
[]
[]
["Validaciones"]
["Balanza de comprobación periodo actual saldo final"]
["1.1.1.","Efectivo y equivalentes de efectivo",null,{"$f":"IFERROR(VLOOKUP(A59,BC_ACTUAL!B:G,6,0)/1000,0)","v":1873754.8283599999}]
[null,"No debe haber diferencia con Efectivo y equivalentes de efectivo al final del ejercicio",null,{"$f":"+D54-D59","v":1.1999870184808969E-3}]
[]
["Balanza de comprobación periodo actual saldo inicial"]
["1.1.1.","Efectivo y equivalentes de efectivo",null,{"$f":"IFERROR(VLOOKUP(A63,BC_ANTERIOR!B:G,6,0)/1000,0)","v":2221962.6035000002}]
[null,null,null,{"$f":"+D53-D63","v":-115150.69218000025}]
[null,"No debe haber diferencia con Efectivo y equivalentes de efectivo al inicio del ejercicio",null,{"$f":"E54-D63","v":-4.1199875995516777E-3}]

{"sheet":"EEFF_CAPITAL","index":6,"n_rows":74,"n_cols":11,"rows_kept":74,"cut":false,"hidden":false,"merged":[[0,0,0,3],[1,0,1,3],[2,0,2,3],[3,0,3,3],[7,0,7,1],[1,5,1,8],[2,5,2,8],[3,5,3,8],[36,0,36,10],[38,0,42,0],[38,1,42,1],[38,2,42,2],[38,3,40,3],[38,4,40,4],[38,5,40,5],[41,8,42,8],[41,9,42,9],[41,10,42,10],[34,0,34,10],[35,0,35,10],[37,0,37,10],[38,6,40,6],[38,7,40,7],[38,8,40,8],[38,9,40,9],[38,10,40,10],[41,3,42,3],[41,4,42,4],[41,5,42,5],[41,6,42,6],[41,7,42,7]]}
[{"$f":"DATOS!D13","v":"Municipalidad de Buenos Aires"}]
[" Estado de Cambios en el Patrimonio Comparativo",null,null,null,null,"ESTADO DE CAMBIOS EN EL PATRIMONIO"]
[{"$f":"DATOS!D15&\" \"&RIGHT(C6,4)","v":"Del 01 de Enero al 30 de Junio 2024"},null,null,null,null,"Análisis de Variaciones"]
[" En miles de colones",null,null,null,null,{"$f":"DATOS!D15&\" \"&RIGHT(C6,4)","v":"Del 01 de Enero al 30 de Junio 2024"}]
[]
["Cuenta ","Concepto",{"$f":"PROPER(DATOS!D17)","v":"Junio 2024"},{"$f":"PROPER(DATOS!D18)","v":"Junio 2023"},null,"Análisis Vertical (%)","%","Monto Variación\nAbsoluta"," Variación relativa (%)"]
["3.",{"$f":"\"Saldos\"&\" \"&\"al\"&\" \"&\"31\"&\" \"&\"de\"&\" \"&\"Diciembre\"&\" \"&\"del\"&\" \"&RIGHT(C6,4)&\" \"&\"y\"&\" \"&RIGHT(D6,4)","v":"Saldos al 31 de Diciembre del 2024 y 2023"},{"$f":"IFERROR(VLOOKUP(A7,BC_ACTUAL!B:G,3,0),0)/1000","v":164134319.24119002},{"$f":"IFERROR(VLOOKUP(A7,BC_ANTERIOR!B:G,3,0),0)/1000","v":163528314.17998001}]
["Variaciones del ejercicio "]
["3.1.1.01.","Capital inicial",{"$f":"IFERROR((VLOOKUP(A9,BC_ACTUAL!B:G,5,FALSE))-(VLOOKUP(A9,BC_ACTUAL!B:G,4,0)),0)/1000","v":0},{"$f":"IFERROR((VLOOKUP(A9,BC_ANTERIOR!B:G,6,FALSE))-(VLOOKUP(A9,BC_ANTERIOR!B:G,3,0)),0)/1000","v":0},null,{"$f":"IFERROR(C9/$C$28,0)","v":0},{"$f":"IFERROR(D9/$D$28,0)","v":0},{"$f":"IFERROR(C9-D9,0)","v":0},{"$f":"IFERROR(H9/D9,0)","v":0}]
["3.1.1.02.","Incorporaciones al capital",{"$f":"IFERROR((VLOOKUP(A10,BC_ACTUAL!B:G,5,FALSE))-(VLOOKUP(A10,BC_ACTUAL!B:G,4,0)),0)/1000","v":0},{"$f":"IFERROR((VLOOKUP(A10,BC_ANTERIOR!B:G,6,FALSE))-(VLOOKUP(A10,BC_ANTERIOR!B:G,3,0)),0)/1000","v":0},null,{"$f":"IFERROR(C10/$C$28,0)","v":0},{"$f":"IFERROR(D10/$D$28,0)","v":0},{"$f":"IFERROR(C10-D10,0)","v":0},{"$f":"IFERROR(H10/D10,0)","v":0}]
["3.1.2.01.","Donaciones de capital",{"$f":"IFERROR((VLOOKUP(A11,BC_ACTUAL!B:G,5,FALSE))-(VLOOKUP(A11,BC_ACTUAL!B:G,4,0)),0)/1000","v":0},{"$f":"IFERROR((VLOOKUP(A11,BC_ANTERIOR!B:G,6,FALSE))-(VLOOKUP(A11,BC_ANTERIOR!B:G,3,0)),0)/1000","v":0},null,0,{"$f":"IFERROR(D11/$D$28,0)","v":0},0,0]
["3.1.2.99.","Otras transferencias de capital",{"$f":"IFERROR((VLOOKUP(A12,BC_ACTUAL!B:G,5,FALSE))-(VLOOKUP(A12,BC_ACTUAL!B:G,4,0)),0)/1000","v":0},{"$f":"IFERROR((VLOOKUP(A12,BC_ANTERIOR!B:G,6,FALSE))-(VLOOKUP(A12,BC_ANTERIOR!B:G,3,0)),0)/1000","v":0},null,0,0,0,0]
["3.1.3.01.","Revaluación de bienes",{"$f":"IFERROR((VLOOKUP(A13,BC_ACTUAL!B:G,5,FALSE))-(VLOOKUP(A13,BC_ACTUAL!B:G,4,0)),0)/1000","v":0},{"$f":"IFERROR((VLOOKUP(A13,BC_ANTERIOR!B:G,6,FALSE))-(VLOOKUP(A13,BC_ANTERIOR!B:G,3,0)),0)/1000","v":0},null,0,0,0,0]
["3.1.3.99.","Otras reservas",{"$f":"IFERROR((VLOOKUP(A14,BC_ACTUAL!B:G,5,FALSE))-(VLOOKUP(A14,BC_ACTUAL!B:G,4,0)),0)/1000","v":0},{"$f":"IFERROR((VLOOKUP(A14,BC_ANTERIOR!B:G,6,FALSE))-(VLOOKUP(A14,BC_ANTERIOR!B:G,3,0)),0)/1000","v":0},null,0,0,0,0]
["3.1.4.01.","Diferencias de conversión de moneda extranjera",{"$f":"IFERROR((VLOOKUP(A15,BC_ACTUAL!B:G,5,FALSE))-(VLOOKUP(A15,BC_ACTUAL!B:G,4,0)),0)/1000","v":0},{"$f":"IFERROR((VLOOKUP(A15,BC_ANTERIOR!B:G,6,FALSE))-(VLOOKUP(A15,BC_ANTERIOR!B:G,3,0)),0)/1000","v":0},null,0,0,0,0]
["3.1.4.02.","Diferencias de valor razonable de activos financieros destinados a la venta",{"$f":"IFERROR((VLOOKUP(A16,BC_ACTUAL!B:G,5,FALSE))-(VLOOKUP(A16,BC_ACTUAL!B:G,4,0)),0)/1000","v":0},{"$f":"IFERROR((VLOOKUP(A16,BC_ANTERIOR!B:G,6,FALSE))-(VLOOKUP(A16,BC_ANTERIOR!B:G,3,0)),0)/1000","v":0},null,0,{"$f":"IFERROR(D16/$D$28,0)","v":0},0,0]
["3.1.4.03.","Diferencias de valor razonable de instrumentos financieros designados como cobertura",{"$f":"IFERROR((VLOOKUP(A17,BC_ACTUAL!B:G,5,FALSE))-(VLOOKUP(A17,BC_ACTUAL!B:G,4,0)),0)/1000","v":0},{"$f":"IFERROR((VLOOKUP(A17,BC_ANTERIOR!B:G,6,FALSE))-(VLOOKUP(A17,BC_ANTERIOR!B:G,3,0)),0)/1000","v":0},null,0,{"$f":"IFERROR(D17/$D$28,0)","v":0},0,0]
["3.1.4.99.","Otras variaciones no asignables a reservas",{"$f":"IFERROR((VLOOKUP(A18,BC_ACTUAL!B:G,5,FALSE))-(VLOOKUP(A18,BC_ACTUAL!B:G,4,0)),0)/1000","v":0},{"$f":"IFERROR((VLOOKUP(A18,BC_ANTERIOR!B:G,6,FALSE))-(VLOOKUP(A18,BC_ANTERIOR!B:G,3,0)),0)/1000","v":0},null,0,{"$f":"IFERROR(D18/$D$28,0)","v":0},0,0]
["3.1.5.01.","Resultados acumulados de ejercicios anteriores",{"$f":"IFERROR((VLOOKUP(A19,BC_ACTUAL!B:G,5,FALSE))-(VLOOKUP(A19,BC_ACTUAL!B:G,4,0)),0)/1000","v":-15837.581689999997},{"$f":"IFERROR((VLOOKUP(A19,BC_ANTERIOR!B:G,6,FALSE))-(VLOOKUP(A19,BC_ANTERIOR!B:G,3,0)),0)/1000","v":-183064.1407999878},null,{"$f":"IFERROR(C19/$C$28,0)","v":-9.5379737359802363E-5},{"$f":"IFERROR(D19/$D$28,0)","v":-1.1107395006795251E-3},167226.55910998781,-0.91348616052936427]
["3.1.5.02.","Resultado del ejercicio",{"$f":"IFERROR((VLOOKUP(\"4.\",BC_ACTUAL!B:G,6,FALSE))-(VLOOKUP(\"5.\",BC_ACTUAL!B:G,6,0)),0)/1000","v":1929172.9933499999},{"$f":"(IFERROR(VLOOKUP(A20,BC_ANTERIOR!B:G,6,FALSE)-(VLOOKUP(A20,BC_ANTERIOR!B:G,3,0)),0)+IFERROR((VLOOKUP(\"4.\",BC_ANTERIOR!B:G,6,FALSE))-(VLOOKUP(\"5.\",BC_ANTERIOR!B:G,6,0)),0))/1000","v":1467598.2371200004},null,{"$f":"IFERROR(C20/$C$28,0)","v":1.1618188750592437E-2},{"$f":"IFERROR(D20/$D$28,0)","v":8.9046348780991262E-3},461574.75622999948,0.31451029618009696]
["3.2.1.01.","Intereses minoritarios - Participaciones en el patrimonio de entidades del sector gobierno general",{"$f":"IFERROR((VLOOKUP(A21,BC_ACTUAL!B:G,5,FALSE))-(VLOOKUP(A21,BC_ACTUAL!B:G,4,0)),0)/1000","v":0},{"$f":"IFERROR(VLOOKUP(A21,BC_ANTERIOR!B:G,6,0),0)","v":0},null,{"$f":"IFERROR(C21/$C$28,0)","v":0},{"$f":"IFERROR(D21/$D$28,0)","v":0},0,0]
["3.2.1.02.","Intereses minoritarios - Participaciones en el patrimonio de empresas públicas e instituciones públicas financieras",{"$f":"IFERROR((VLOOKUP(A22,BC_ACTUAL!B:G,5,FALSE))-(VLOOKUP(A22,BC_ACTUAL!B:G,4,0)),0)/1000","v":0},{"$f":"IFERROR(VLOOKUP(A22,BC_ANTERIOR!B:G,6,0),0)","v":0},null,{"$f":"IFERROR(C22/$C$28,0)","v":0},{"$f":"IFERROR(D22/$D$28,0)","v":0},0,0]
["3.2.2.01.","Intereses minoritarios - Evolución por reservas",{"$f":"IFERROR((VLOOKUP(A23,BC_ACTUAL!B:G,5,FALSE))-(VLOOKUP(A23,BC_ACTUAL!B:G,4,0)),0)/1000","v":0},{"$f":"IFERROR(VLOOKUP(A23,BC_ANTERIOR!B:G,6,0),0)","v":0},null,{"$f":"IFERROR(C23/$C$28,0)","v":0},0,{"$f":"IFERROR(C23-D23,0)","v":0},0]
["3.2.2.02.","Intereses minoritarios - Evolución por variaciones no asignables a reservas",{"$f":"IFERROR((VLOOKUP(A24,BC_ACTUAL!B:G,5,FALSE))-(VLOOKUP(A24,BC_ACTUAL!B:G,4,0)),0)/1000","v":0},{"$f":"IFERROR(VLOOKUP(A24,BC_ANTERIOR!B:G,6,0),0)","v":0},null,0,{"$f":"IFERROR(D24/$D$28,0)","v":0},0,0]
["3.2.2.03.","Intereses minoritarios - Evolución por resultados acumulados",{"$f":"IFERROR((VLOOKUP(A25,BC_ACTUAL!B:G,5,FALSE))-(VLOOKUP(A25,BC_ACTUAL!B:G,4,0)),0)/1000","v":0},{"$f":"IFERROR(VLOOKUP(A25,BC_ANTERIOR!B:G,6,0),0)","v":0},null,{"$f":"IFERROR(C25/$C$28,0)","v":0},0,0,0]
["3.2.2.99.","Intereses minoritarios - Evolución por otros componentes del patrimonio",{"$f":"IFERROR((VLOOKUP(A24,BC_ACTUAL!B:G,5,FALSE))-(VLOOKUP(A24,BC_ACTUAL!B:G,4,0)),0)/1000","v":0},{"$f":"IFERROR(VLOOKUP(A26,BC_ANTERIOR!B:G,6,0),0)","v":0},null,0,{"$f":"IFERROR(D26/$D$28,0)","v":0},{"$f":"IFERROR(C26-D26,0)","v":0},0]
[null,"Total de variaciones del ejercicio",{"$f":"SUM(C9:C26)","v":1913335.41166},{"$f":"SUM(D9:D26)","v":1284534.0963200126},null,1.1522809013232636E-2,{"$f":"IFERROR(D27/$D$28,0)","v":7.7938953774196002E-3},{"$f":"IFERROR(C27-D27,0)","v":628801.3153399874},0.48951702966967081]
[84,"Saldos del período",{"$f":"+C7+C27","v":166047654.65285},{"$f":"+D7+D27","v":164812848.27630001},null,1,{"$f":"IFERROR(D28/$D$28,0)","v":1},1234806.376549989,7.492173028160411E-3,null,{"$f":"\"En\"&\" \"&\"el\"&\" \"&\"Estado\"&\" \"&\"de\"&\" \"&\"Cambio\"&\" \"&\"al\"&\" \"&\"Patrimonio\"&\",\"&\" \"&\"el\"&\" Saldo del periodo al 31 de diciembre 2022, \"&\"comparado\"&\" \"&\"al\"&\" \"&\"periodo\"&\" \"&\"anterior\"&\" \"&\"genera\"&\" \"&\"una\"&\" \"&\"variación\"&\" \"&\"absoluta\"&\" \"&\"de\"&\" \"&TEXT(H28,\"0 000,00\")&\" \"&\"que\"&\" \"&\"corresponde\"&\" \"&\"a\"&\" \"&\"un\"&\" \"&IF(H28<0,\"Disminución\",\"Aumento\")&\" \"&\"del\"&\" \"&TEXT(I28,\"0,00%\")&\" \"&\"de\"&\" \"&\"recursos\"&\" \"&\"disponibles\"&\".\"","v":"En el Estado de Cambio al Patrimonio, el Saldo del periodo al 31 de diciembre 2022, comparado al periodo anterior genera una variación absoluta de 1 234 806,38 que corresponde a un Aumento del 0,75% de recursos disponibles."}]
[null,"   (*) De uso exclusivo en Estados Contables consolidados"]
[]
[]
[]
[]
[]
[{"$f":"DATOS!D13","v":"Municipalidad de Buenos Aires"}]
["ESTADO DE CAMBIOS EN EL PATRIMONIO NETO"]
[{"$f":"DATOS!D15","v":"Del 01 de Enero al 30 de Junio"}]
["En miles de colones "]
["Cuenta ","Concepto",null,"Capital","Transferencias\nde capital","Reservas","Variaciones no asignables a reservas","Resultados acumulados","Intereses Minoritarios Part. Patrimonio","Intereses Minoritarios Evolución","Total Patrimonio"]
[]
[]
[null,null,null,"3.1.1.","3.1.2.","3.1.3.","3.1.4.","3.1.5.","3.2.1.","3.2.2."]
[]
[null,{"$f":"\"Saldo\"&\" \"&\"Iniciales\"&\" \"&\"al\"&\" \"&\"31\"&\" \"&\"de\"&\" \"&\"Diciembre\"&\" \"&RIGHT(D6,4)","v":"Saldo Iniciales al 31 de Diciembre 2023"},null,{"$f":"IFERROR(VLOOKUP(D42,BC_ACTUAL!$B:$G,3,0),0)/1000","v":0.52479999999999993},{"$f":"IFERROR(VLOOKUP(E42,BC_ACTUAL!$B:$G,3,0),0)/1000","v":0},{"$f":"IFERROR(VLOOKUP(F42,BC_ACTUAL!$B:$G,3,0),0)/1000","v":0},{"$f":"IFERROR(VLOOKUP(G42,BC_ACTUAL!$B:$G,3,0),0)/1000","v":0},{"$f":"IFERROR(VLOOKUP(H42,BC_ACTUAL!$B:$G,3,0),0)/1000","v":164134318.71639001},{"$f":"IFERROR(VLOOKUP(I42,BC_ACTUAL!$B:$G,3,0),0)/1000","v":0},{"$f":"IFERROR(VLOOKUP(J42,BC_ACTUAL!$B:$G,3,0),0)/1000","v":0},{"$f":"SUM(D44:J44)","v":164134319.24119002}]
["Variaciones del ejercicio "]
["3.1.1.01.","Capital inicial",null,{"$f":"IFERROR((VLOOKUP(A46,BC_ACTUAL!$B:$G,6,FALSE))-(VLOOKUP(A46,BC_ACTUAL!$B:$G,3,0)),0)/1000","v":0},null,null,null,null,null,null,{"$f":"SUM(C46:J46)","v":0}]
["3.1.1.02.","Incorporaciones al capital",null,{"$f":"IFERROR((VLOOKUP(A47,BC_ACTUAL!$B:$G,6,FALSE))-(VLOOKUP(A47,BC_ACTUAL!$B:$G,3,0)),0)/1000","v":0},null,null,null,null,null,null,{"$f":"SUM(C47:J47)","v":0}]
["3.1.2.01.","Donaciones de capital",null,null,{"$f":"IFERROR((VLOOKUP(A48,BC_ACTUAL!$B:$G,6,FALSE))-(VLOOKUP(A48,BC_ACTUAL!$B:$G,3,0)),0)/1000","v":0},null,null,null,null,null,{"$f":"SUM(C48:J48)","v":0}]
["3.1.2.99.","Otras transferencias de capital",null,null,{"$f":"IFERROR((VLOOKUP(A49,BC_ACTUAL!$B:$G,6,FALSE))-(VLOOKUP(A49,BC_ACTUAL!$B:$G,3,0)),0)/1000","v":0},null,null,null,null,null,0]
["3.1.3.01.","Revaluación de bienes",null,null,null,{"$f":"IFERROR((VLOOKUP(A50,BC_ACTUAL!$B:$G,6,FALSE))-(VLOOKUP(A50,BC_ACTUAL!$B:$G,3,0)),0)/1000","v":0},null,null,null,null,0]
["3.1.3.99.","Otras reservas",null,null,null,{"$f":"IFERROR((VLOOKUP(A51,BC_ACTUAL!$B:$G,6,FALSE))-(VLOOKUP(A51,BC_ACTUAL!$B:$G,3,0)),0)/1000","v":0},null,null,null,null,0]
["3.1.4.01.","Diferencias de conversión de moneda extranjera",null,null,null,null,{"$f":"IFERROR((VLOOKUP(A52,BC_ACTUAL!$B:$G,6,FALSE))-(VLOOKUP(A52,BC_ACTUAL!$B:$G,3,0)),0)/1000","v":0},null,null,null,0]
["3.1.4.02.","Diferencias de valor razonable de activos financieros destinados a la venta",null,null,null,null,{"$f":"IFERROR((VLOOKUP(A53,BC_ACTUAL!$B:$G,6,FALSE))-(VLOOKUP(A53,BC_ACTUAL!$B:$G,3,0)),0)/1000","v":0},null,null,null,0]
["3.1.4.03.","Diferencias de valor razonable de instrumentos financieros designados como cobertura",null,null,null,null,{"$f":"IFERROR((VLOOKUP(A54,BC_ACTUAL!$B:$G,6,FALSE))-(VLOOKUP(A54,BC_ACTUAL!$B:$G,3,0)),0)/1000","v":0},null,null,null,0]
["3.1.4.99.","Otras variaciones no asignables a reservas",null,null,null,null,{"$f":"IFERROR((VLOOKUP(A55,BC_ACTUAL!$B:$G,6,FALSE))-(VLOOKUP(A55,BC_ACTUAL!$B:$G,3,0)),0)/1000","v":0},null,null,null,0]
["3.1.5.01.","Resultados acumulados de ejercicios anteriores",null,null,null,null,null,{"$f":"IFERROR((VLOOKUP(A56,BC_ACTUAL!$B:$G,6,FALSE))-(VLOOKUP(A56,BC_ACTUAL!$B:$G,3,0)),0)/1000","v":-15837.581690002442},null,null,{"$f":"SUM(C56:J56)","v":-15837.581690002442}]
["3.1.5.02.","Resultado del ejercicio",null,null,null,null,null,{"$f":"IFERROR((VLOOKUP(\"4.\",BC_ACTUAL!B:G,6,FALSE))-(VLOOKUP(\"5.\",BC_ACTUAL!B:G,6,0)),0)/1000","v":1929172.9933499999},null,null,1929172.9933499999]
["3.2.1.01.","Intereses minoritarios - Participaciones en el patrimonio de entidades del sector gobierno general",null,null,null,null,null,null,{"$f":"IFERROR((VLOOKUP(A58,BC_ACTUAL!B:G,6,FALSE))-(VLOOKUP(A58,BC_ACTUAL!B:G,3,0)),0)/1000","v":0},null,0]
["3.2.1.02.","Intereses minoritarios - Participaciones en el patrimonio de empresas públicas e instituciones públicas financieras",null,null,null,null,null,null,{"$f":"IFERROR((VLOOKUP(A59,BC_ACTUAL!B:G,6,FALSE))-(VLOOKUP(A59,BC_ACTUAL!B:G,3,0)),0)/1000","v":0},null,0]
["3.2.2.01.","Intereses minoritarios - Evolución por reservas",null,null,null,null,null,null,null,{"$f":"IFERROR((VLOOKUP(A60,BC_ACTUAL!B:G,6,FALSE))-(VLOOKUP(A60,BC_ACTUAL!B:G,3,0)),0)/1000","v":0},0]
["3.2.2.02.","Intereses minoritarios - Evolución por variaciones no asignables a reservas",null,null,null,null,null,null,null,{"$f":"IFERROR((VLOOKUP(A61,BC_ACTUAL!B:G,6,FALSE))-(VLOOKUP(A61,BC_ACTUAL!B:G,3,0)),0)/1000","v":0},0]
["3.2.2.03.","Intereses minoritarios - Evolución por resultados acumulados",null,null,null,null,null,null,null,{"$f":"IFERROR((VLOOKUP(A62,BC_ACTUAL!B:G,6,FALSE))-(VLOOKUP(A62,BC_ACTUAL!B:G,3,0)),0)/1000","v":0},0]
["3.2.2.99.","Intereses minoritarios - Evolución por otros componentes del patrimonio",null,null,null,null,null,null,null,{"$f":"IFERROR((VLOOKUP(A63,BC_ACTUAL!B:G,6,FALSE))-(VLOOKUP(A63,BC_ACTUAL!B:G,3,0)),0)/1000","v":0},0]
[null,"Total de variaciones del ejercicio",null,{"$f":"SUM(D46:D63)","v":0},{"$f":"SUM(E46:E63)","v":0},{"$f":"SUM(F46:F63)","v":0},{"$f":"SUM(G46:G63)","v":0},{"$f":"SUM(H46:H63)","v":1913335.4116599974},{"$f":"SUM(I46:I63)","v":0},0,{"$f":"SUM(K46:K63)","v":1913335.4116599974}]
[null,"Saldos del período",null,{"$f":"+D64+D44+D45","v":0.52479999999999993},{"$f":"+E64+E44+E45","v":0},{"$f":"+F64+F44+F45","v":0},{"$f":"+G64+G44+G45","v":0},{"$f":"+H64+H44+H45","v":166047654.12805},{"$f":"+I64+I44+I45","v":0},0,{"$f":"+K64+K44+K45","v":166047654.65285}]
[null,"   (*) De uso exclusivo en Estados Contables consolidados"]
[]
["SALDOS BC_ACTUAL",null,null,{"$f":"IFERROR(VLOOKUP(D42,BC_ACTUAL!$B:$G,6,0),0)/1000","v":0.52479999999999993},{"$f":"IFERROR(VLOOKUP(E42,BC_ACTUAL!$B:$G,6,0),0)/1000","v":0},{"$f":"IFERROR(VLOOKUP(F42,BC_ACTUAL!$B:$G,6,0),0)/1000","v":0},{"$f":"IFERROR(VLOOKUP(G42,BC_ACTUAL!$B:$G,6,0),0)/1000","v":0},{"$f":"IFERROR(VLOOKUP(H42,BC_ACTUAL!$B:$G,6,0),0)/1000","v":164118481.1347},{"$f":"IFERROR(VLOOKUP(I42,BC_ACTUAL!$B:$G,6,0),0)/1000","v":0},{"$f":"IFERROR(VLOOKUP(J42,BC_ACTUAL!$B:$G,6,0),0)/1000","v":0},{"$f":"SUM(D68:J68)","v":164118481.6595}]
[]
["AJUSTE_ RESULTADOS",null,null,{"$f":"D65-D68","v":0},{"$f":"E65-E68","v":0},{"$f":"F65-F68","v":0},0,{"$f":"H65-H68","v":1929172.9933499992},0,0,{"$f":"K65-K68","v":1929172.9933499992}]
[]
["DIFERENCIAS",null,null,null,null,null,null,{"$f":"H57","v":1929172.9933499999},null,null,{"$f":"H57","v":1929172.9933499999}]
[]
[null,null,null,null,null,null,null,{"$f":"H70-H72","v":0},null,null,{"$f":"K70-K72","v":0}]

{"sheet":"MATRIZ_AUTOVALUACION","index":7,"n_rows":70,"n_cols":12,"rows_kept":70,"cut":false,"hidden":false,"merged":[[67,6,67,7],[68,6,68,7],[69,3,69,7],[59,6,59,7],[60,6,60,7],[61,3,61,7],[63,6,63,7],[64,6,64,7],[65,3,65,7],[8,6,8,7],[3,3,3,11],[4,3,4,11],[5,3,5,11],[6,3,6,11],[7,3,7,11]]}
[]
[]
[]
[]
[]
[null,null,null,"RESUMEN MATRIZ DE AUTOEVALUACIÓN DEL AVANCE DE LA IMPLEMENTACIÓN NICSP VERSIÓN 2018"]
[]
[null,null,null,"VERSIÓN JUNIO 2021"]
[]
[null,null,null,"NICSP ","La norma se encuentra Vigente","La norma ha sido adoptada en el país","Aplica/No Aplica","Grado de aplicación NICSP","Plan de acción","Brechas/Acciones","% avance Plan de Acción","Transitorio"]
[null,null,null,"NICSP 1 Presentación de Estados Financieros","Si","Si","Si",0.9869565217391304,"Si",1,0.95,"Si"]
[null,null,null,"NICSP 2 Estados de Flujo de Efectivo","Si","Si","Si",1,0,0," ",0]
[null,null,null,"NICSP 3 Políticas Contables, Cambios en las Estimaciones Contables y Errores","Si","Si","Si",0.9,"Si",1,0.9,"No"]
[null,null,null,"NICSP 4  Efectos de las Variaciones en las Tasas de Cambio de la Moneda Extranjera","Si","Si","Si",0.47142857142857142,0,4,0,0]
[null,null,null,"NICSP 5 Costos por Préstamos","Si","Si","Si",1,0,0,"",0]
[null,null,null,"NICSP 9 Ingresos Ordinarios Provenientes de Transacciones de Intercambio","Si","Si","Si",1,0,0,"",0]
[null,null,null,"NICSP 10 Información Financiera en Economías Hiperinflacionarias","Si","Si","No","","",0,"",""]
[null,null,null,"NICSP 11 Contratos de Construcción","Si","Si","No","","",0,"",""]
[null,null,null,"NICSP 12 Inventarios","Si","Si","Si",0.97,"Si",1,0.95,"Si"]
[null,null,null,"NICSP 13  Arrendamientos","Si","Si","Si",0.79714285714285715,"Si",5,0.8,"Si"]
[null,null,null,"NICSP 14 Hechos Ocurridos Después de la Fecha de Presentación","Si","Si","Si",1,"No",0,"",0]
[null,null,null,"NICSP 16 Propiedades de Inversión","Si","Si","No","","",0,"",""]
[null,null,null,"NICSP 17 Propiedades, Planta y Equipo","Si","Si","Si",0.96250000000000002,"Si",2,0.9,"Si"]
[null,null,null,"NICSP 18 Información Financiera por Segmentos","Si","Si","No","","",0,"",""]
[null,null,null,"NICSP 19 Provisiones, Activos Contingentes y Pasivos Contingentes","Si","Si","Si",0.92,"Si",6,0.75,"Si"]
[null,null,null,"NICSP 20 Información a Revelar Sobre Partes Relacionadas","Si","Si","Si",0.6399999999999999,"Si",3,0.3,"Si"]
[null,null,null,"NICSP 21 Deterioro del Valor de Activos No Generadores de Efectivo","Si","Si","Si",0.26666666666666666,"Si",6,0,"Si"]
[null,null,null,"NICSP 22 Revelación de Información Financiera sobre el Sector Gobierno General","Si","Si","No","","",0,"",""]
[null,null,null,"NICSP 23 Ingresos de Transacciones sin Contraprestación (Impuestos y Transferencias)","Si","Si","Si",0.96470588235294119,0,0,0,"Si"]
[null,null,null,"NICSP 24 Presentación de Información del Presupuesto en los Estados Financieros","Si","Si","Si",0.625,"Si",4,0.48749999999999999,"No"]
[null,null,null,"NICSP 26 Deterioro del Valor de los Activos Generadores de Efectivo","Si","Si","Si",0.3,"Si",7,0,"Si"]
[null,null,null,"NICSP 27 Agricultura","Si","Si","No","","",0,"",""]
[null,null,null,"NICSP 28 Instrumentos Financieros: Presentación","Si","Si","Si",1,"No",0,"",0]
[null,null,null,"NICSP 29 Instrumentos Financieros: Reconocimiento y medición","Si","Si","Si",1,0,0,"","Si"]
[null,null,null,"NICSP 30 Instrumentos Financieros: Información a Revelar","Si","Si","Si",0.65151515151515149,"Si",3,0.73333333333333339,"No"]
[null,null,null,"NICSP 31 Activos intangibles","Si","Si","Si",0.53333333333333333,"Si",16,0.14000000000000007,"Si"]
[null,null,null,"NICSP 32 Acuerdos de Concesión de Servicios: La concedente","Si","Si","No","","",0,"",""]
[null,null,null,"NICSP 33 Adopción por primera vez de las Normas Internacionales de Contabilidad del Sector Público de Base de Acumulación (o devengo) (NICSP)","Si","Si","Si",0.75,"Si",5,0.6,"No"]
[null,null,null,"NICSP 34 Estados Financieros Separados","Si","Si","No","","",0,"",""]
[null,null,null,"NICSP 35 Estados Financieros Consolidados","Si","Si","Si",0.39999999999999997,"Si",1,0.5,"Si"]
[null,null,null,"NICSP 36 Inversiones en asociadas y negocios conjuntos","Si","Si","No","","",0,"",""]
[null,null,null,"NICSP 37 Acuerdos Conjuntos","Si","Si","No","","",0,"",""]
[null,null,null,"NICSP 38 Información a revelar sobre participaciones en otras entidades","Si","Si","No","","",0,"",""]
[null,null,null,"NICSP 39 Beneficios a los empleados","Si","Si","Si",0.7,"Si",2,0.75,"Si"]
[null,null,null,"NICSP 40 Combinaciones del Sector Público","Si","SI","No","","",0,"",""]
[]
[null,null,null,"Promedio General Grado de Aplicación NICSP",null,null,null,{"$f":"IFERROR(AVERAGE(H11:H45),0)","v":0.77561952105124576}]
[]
[null,null,null,"Promedio General de  Avance en planes de acción (Cantidad de brechas)",null,null,null,null,null,{"$f":"SUM(J11:J45)","v":67},{"$f":"+IFERROR(AVERAGE(K11:K45),0)","v":0.51534313725490188}]
[]
[null,null,null,"Cantidad de normas aplicables / Cantidad de normas que poseen plan",{"$f":"COUNTIF($E$11:$E$45,\"SI\")","v":35},{"$f":"COUNTIF($F$11:$F$45,\"SI\")","v":35},{"$f":"COUNTIF($G$11:$G$45,\"SI\")","v":23},null,{"$f":"COUNTIF($I$11:$I$45,\"SI\")","v":15},null,null,{"$f":"COUNTIF($L$11:$L$45,\"SI\")","v":13}]
[null,null,null,"Cantidad de normas no aplicables / Cantidad de normas que no poseen plan",null,null,{"$f":"COUNTIF($G$11:$G$45,\"NO\")","v":12},null,{"$f":"COUNTIF($I$11:$I$45,\"NO\")","v":2},null,null,{"$f":"COUNTIF($L$11:$L$45,\"NO\")","v":4}]
[]
[null,null,null,"La entidad se acoge a los siguientes transitorios:"]
[]
[]
[]
[null,null,null,"TOTAL NORMAS "]
[]
[]
[null,null,null,"NOMBRE",null,null,"FIRMA"]
[null,null,null,"JERARCA MÁXIMO"]
[]
[]
[null,null,null,"NOMBRE",null,null,"FIRMA"]
[null,null,null,"DIRECTOR ADMINISTRATIVO FINANCIERO"]
[]
[]
[null,null,null,"NOMBRE",null,null,"FIRMA"]
[null,null,null,"CONTADOR"]

{"sheet":"NOTAS_POR_CUENTA","index":8,"n_rows":471,"n_cols":8,"rows_kept":471,"cut":false,"hidden":false,"merged":[[0,0,0,5],[1,0,1,5],[3,0,4,0],[3,1,4,1],[3,2,4,2],[3,3,4,3],[3,4,4,4],[7,0,8,0],[7,1,8,1],[7,2,8,2],[7,3,8,3],[7,4,8,4],[11,0,12,0],[11,1,12,1],[11,2,12,2],[11,3,12,3],[11,4,12,4],[15,0,16,0],[15,1,16,1],[15,2,16,2],[15,3,16,3],[15,4,16,4],[19,0,20,0],[19,1,20,1],[19,2,20,2],[19,3,20,3],[19,4,20,4],[23,0,24,0],[23,1,24,1],[23,2,24,2],[23,3,24,3],[23,4,24,4],[27,0,28,0],[27,1,28,1],[27,2,28,2],[27,3,28,3],[27,4,28,4],[31,0,32,0],[31,1,32,1],[31,2,32,2],[31,3,32,3],[31,4,32,4],[35,0,36,0],[35,1,36,1],[35,2,36,2],[35,3,36,3],[35,4,36,4],[39,0,40,0],[39,1,40,1],[39,2,40,2],[39,3,40,3],[39,4,40,4],[43,0,44,0],[43,1,44,1],[43,2,44,2],[43,3,44,3],[43,4,44,4],[47,0,48,0],[47,1,48,1],[47,2,48,2],[47,3,48,3],[47,4,48,4],[51,0,52,0],[51,1,52,1],[51,2,52,2],[51,3,52,3],[51,4,52,4],[55,0,56,0],[55,1,56,1],[55,2,56,2],[55,3,56,3],[55,4,56,4],[59,0,60,0],[59,1,60,1],[59,2,60,2],[59,3,60,3],[59,4,60,4],[63,0,64,0],[63,1,64,1],[63,2,64,2],[63,3,64,3],[63,4,64,4],[67,0,68,0],[67,1,68,1],[67,2,68,2],[67,3,68,3],[67,4,68,4],[71,0,72,0],[71,1,72,1],[71,2,72,2],[71,3,72,3],[71,4,72,4],[75,0,76,0],[75,1,76,1],[75,2,76,2],[75,3,76,3],[75,4,76,4],[79,0,80,0],[79,1,80,1],[79,2,80,2],[79,3,80,3],[79,4,80,4],[83,0,84,0],[83,1,84,1],[83,2,84,2],[83,3,84,3],[83,4,84,4],[87,0,88,0],[87,1,88,1],[87,2,88,2],[87,3,88,3],[87,4,88,4],[91,0,92,0],[91,1,92,1],[91,2,92,2],[91,3,92,3],[91,4,92,4],[95,0,96,0],[95,1,96,1],[95,2,96,2],[95,3,96,3],[95,4,96,4],[99,0,100,0],[99,1,100,1],[99,2,100,2],[99,3,100,3],[99,4,100,4],[112,0,112,5],[114,0,115,0],[114,1,115,1],[114,2,115,2],[114,3,115,3],[114,4,115,4],[103,0,104,0],[103,1,104,1],[103,2,104,2],[103,3,104,3],[103,4,104,4],[107,0,108,0],[107,1,108,1],[107,2,108,2],[107,3,108,3],[107,4,108,4],[118,0,119,0],[118,1,119,1],[118,2,119,2],[118,3,119,3],[118,4,119,4],[122,0,123,0],[122,1,123,1],[122,2,123,2],[122,3,123,3],[122,4,123,4],[126,0,127,0],[126,1,127,1],[126,2,127,2],[126,3,127,3],[126,4,127,4],[130,0,131,0],[130,1,131,1],[130,2,131,2],[130,3,131,3],[130,4,131,4],[134,0,135,0],[134,1,135,1],[134,2,135,2],[134,3,135,3],[134,4,135,4],[138,0,139,0],[138,1,139,1],[138,2,139,2],[138,3,139,3],[138,4,139,4],[142,0,143,0],[142,1,143,1],[142,2,143,2],[142,3,143,3],[142,4,143,4],[146,0,147,0],[146,1,147,1],[146,2,147,2],[146,3,147,3],[146,4,147,4],[150,0,151,0],[150,1,151,1],[150,2,151,2],[150,3,151,3],[150,4,151,4],[154,0,155,0],[154,1,155,1],[154,2,155,2],[154,3,155,3],[154,4,155,4],[158,0,159,0],[158,1,159,1],[158,2,159,2],[158,3,159,3],[158,4,159,4],[162,0,163,0],[162,1,163,1],[162,2,163,2],[162,3,163,3],[162,4,163,4],[175,0,175,5],[177,0,178,0],[177,1,178,1],[177,2,178,2],[177,3,178,3],[177,4,178,4],[166,0,167,0],[166,1,167,1],[166,2,167,2],[166,3,167,3],[166,4,167,4],[170,0,171,0],[170,1,171,1],[170,2,171,2],[170,3,171,3],[170,4,171,4],[181,0,182,0],[181,1,182,1],[181,2,182,2],[181,3,182,3],[181,4,182,4],[185,0,186,0],[185,1,186,1],[185,2,186,2],[185,3,186,3],[185,4,186,4],[189,0,190,0],[189,1,190,1],[189,2,190,2],[189,3,190,3],[189,4,190,4],[193,0,194,0],[193,1,194,1],[193,2,194,2],[193,3,194,3],[193,4,194,4],[197,0,198,0],[197,1,198,1],[197,2,198,2],[197,3,198,3],[197,4,198,4],[201,0,202,0],[201,1,202,1],[201,2,202,2],[201,3,202,3],[201,4,202,4],[205,0,206,0],[205,1,206,1],[205,2,206,2],[205,3,206,3],[205,4,206,4],[209,0,210,0],[209,1,210,1],[209,2,210,2],[209,3,210,3],[209,4,210,4],[223,0,223,5],[224,0,224,5],[227,0,228,0],[227,1,228,1],[227,2,228,2],[227,3,228,3],[227,4,228,4],[213,0,214,0],[213,1,214,1],[213,2,214,2],[213,3,214,3],[213,4,214,4],[217,0,218,0],[217,1,218,1],[217,2,218,2],[217,3,218,3],[217,4,218,4],[231,0,232,0],[231,1,232,1],[231,2,232,2],[231,3,232,3],[231,4,232,4],[235,0,236,0],[235,1,236,1],[235,2,236,2],[235,3,236,3],[235,4,236,4],[239,0,240,0],[239,1,240,1],[239,2,240,2],[239,3,240,3],[239,4,240,4],[243,0,244,0],[243,1,244,1],[243,2,244,2],[243,3,244,3],[243,4,244,4],[247,0,248,0],[247,1,248,1],[247,2,248,2],[247,3,248,3],[247,4,248,4],[251,0,252,0],[251,1,252,1],[251,2,252,2],[251,3,252,3],[251,4,252,4],[255,0,256,0],[255,1,256,1],[255,2,256,2],[255,3,256,3],[255,4,256,4],[259,0,260,0],[259,1,260,1],[259,2,260,2],[259,3,260,3],[259,4,260,4],[263,0,264,0],[263,1,264,1],[263,2,264,2],[263,3,264,3],[263,4,264,4],[267,0,268,0],[267,1,268,1],[267,2,268,2],[267,3,268,3],[267,4,268,4],[271,0,272,0],[271,1,272,1],[271,2,272,2],[271,3,272,3],[271,4,272,4],[275,0,276,0],[275,1,276,1],[275,2,276,2],[275,3,276,3],[275,4,276,4],[279,0,280,0],[279,1,280,1],[279,2,280,2],[279,3,280,3],[279,4,280,4],[283,0,284,0],[283,1,284,1],[283,2,284,2],[283,3,284,3],[283,4,284,4],[287,0,288,0],[287,1,288,1],[287,2,288,2],[287,3,288,3],[287,4,288,4],[291,0,292,0],[291,1,292,1],[291,2,292,2],[291,3,292,3],[291,4,292,4],[295,0,296,0],[295,1,296,1],[295,2,296,2],[295,3,296,3],[295,4,296,4],[299,0,300,0],[299,1,300,1],[299,2,300,2],[299,3,300,3],[299,4,300,4],[303,0,304,0],[303,1,304,1],[303,2,304,2],[303,3,304,3],[303,4,304,4],[307,0,308,0],[307,1,308,1],[307,2,308,2],[307,3,308,3],[307,4,308,4],[311,0,312,0],[311,1,312,1],[311,2,312,2],[311,3,312,3],[311,4,312,4],[315,0,316,0],[315,1,316,1],[315,2,316,2],[315,3,316,3],[315,4,316,4],[319,0,320,0],[319,1,320,1],[319,2,320,2],[319,3,320,3],[319,4,320,4],[323,0,324,0],[323,1,324,1],[323,2,324,2],[323,3,324,3],[323,4,324,4],[327,0,328,0],[327,1,328,1],[327,2,328,2],[327,3,328,3],[327,4,328,4],[331,0,332,0],[331,1,332,1],[331,2,332,2],[331,3,332,3],[331,4,332,4],[344,0,344,5],[346,0,347,0],[346,1,347,1],[346,2,347,2],[346,3,347,3],[346,4,347,4],[335,0,336,0],[335,1,336,1],[335,2,336,2],[335,3,336,3],[335,4,336,4],[339,0,340,0],[339,1,340,1],[339,2,340,2],[339,3,340,3],[339,4,340,4],[350,0,351,0],[350,1,351,1],[350,2,351,2],[350,3,351,3],[350,4,351,4],[354,0,355,0],[354,1,355,1],[354,2,355,2],[354,3,355,3],[354,4,355,4],[358,0,359,0],[358,1,359,1],[358,2,359,2],[358,3,359,3],[358,4,359,4],[362,0,363,0],[362,1,363,1],[362,2,363,2],[362,3,363,3],[362,4,363,4],[366,0,367,0],[366,1,367,1],[366,2,367,2],[366,3,367,3],[366,4,367,4],[370,0,371,0],[370,1,371,1],[370,2,371,2],[370,3,371,3],[370,4,371,4],[374,0,375,0],[374,1,375,1],[374,2,375,2],[374,3,375,3],[374,4,375,4],[378,0,379,0],[378,1,379,1],[378,2,379,2],[378,3,379,3],[378,4,379,4],[382,0,383,0],[382,1,383,1],[382,2,383,2],[382,3,383,3],[382,4,383,4],[386,0,387,0],[386,1,387,1],[386,2,387,2],[386,3,387,3],[386,4,387,4],[390,0,391,0],[390,1,391,1],[390,2,391,2],[390,3,391,3],[390,4,391,4],[394,0,395,0],[394,1,395,1],[394,2,395,2],[394,3,395,3],[394,4,395,4],[398,0,399,0],[398,1,399,1],[398,2,399,2],[398,3,399,3],[398,4,399,4],[402,0,403,0],[402,1,403,1],[402,2,403,2],[402,3,403,3],[402,4,403,4],[406,0,407,0],[406,1,407,1],[406,2,407,2],[406,3,407,3],[406,4,407,4],[410,0,411,0],[410,1,411,1],[410,2,411,2],[410,3,411,3],[410,4,411,4],[422,0,423,0],[422,1,423,1],[422,2,423,2],[422,3,423,3],[422,4,423,4],[427,0,427,5],[414,0,415,0],[414,1,415,1],[414,2,415,2],[414,3,415,3],[414,4,415,4],[418,0,419,0],[418,1,419,1],[418,2,419,2],[418,3,419,3],[418,4,419,4],[429,0,429,5],[440,0,440,5],[451,0,451,5],[431,4,432,4],[435,2,436,2],[435,3,436,3],[435,4,436,4],[442,2,443,2],[442,3,443,3],[442,4,443,4],[446,1,447,1],[435,1,436,1],[442,1,443,1],[431,3,432,3],[431,2,432,2],[431,1,432,1],[468,1,469,1],[466,0,466,5],[457,2,458,2],[457,3,458,3],[457,4,458,4],[461,2,462,2],[461,3,462,3],[461,4,462,4],[446,2,447,2],[446,3,447,3],[446,4,447,4],[453,2,454,2],[453,3,454,3],[453,4,454,4],[457,1,458,1],[461,1,462,1],[453,1,454,1]]}
["Notas Estado de Situación Financiera o Balance General Comparativo"]
["ACTIVO"]
[]
["Cuenta ","Descripción","Nota","Periodo Actual","Periodo Anterior","Diferencia "]
[null,null,null,null,null,"%"]
["1.1.1.",{"$f":"IFERROR(VLOOKUP(A6,EEFF_SITUACION!A:E,2,0),\"\")","v":"Efectivo y equivalentes de efectivo"},{"$f":"IFERROR(VLOOKUP(A6,EEFF_SITUACION!A:E,3,0),0)","v":"03"},{"$f":"IFERROR(VLOOKUP(A6,EEFF_SITUACION!A:J,4,0),0)","v":1873754.8283600002},{"$f":"IFERROR(VLOOKUP(A6,EEFF_SITUACION!A:J,5,0),0)","v":2221962.6035000002},{"$f":"IFERROR(VLOOKUP(A6,EEFF_SITUACION!A:J,10,0),0)","v":-0.15671180720661484},null,{"$f":"IFERROR(VLOOKUP(A6,EEFF_SITUACION!A:L,12,0),0)","v":"La cuenta Efectivo y equivalentes de efectivo, representa el 1,12% del total del Activo, que comparado al periodo anterior genera una variación absoluta de -348 207,78 que corresponde a un Disminución del -15,67% de recursos disponibles."}]
[]
["Cuenta ","Descripción","Nota","Periodo Actual","Periodo Anterior","Diferencia "]
[null,null,null,null,null,"%"]
["1.1.2.",{"$f":"IFERROR(VLOOKUP(A10,EEFF_SITUACION!A:E,2,0),\"\")","v":"Inversiones a corto plazo"},{"$f":"IFERROR(VLOOKUP(A10,EEFF_SITUACION!A:E,3,0),0)","v":"04"},{"$f":"IFERROR(VLOOKUP(A10,EEFF_SITUACION!A:J,4,0),0)","v":0},{"$f":"IFERROR(VLOOKUP(A10,EEFF_SITUACION!A:J,5,0),0)","v":0},{"$f":"IFERROR(VLOOKUP(A10,EEFF_SITUACION!A:J,10,0),0)","v":0},null,{"$f":"IFERROR(VLOOKUP(A10,EEFF_SITUACION!A:L,12,0),0)","v":"La cuenta Inversiones a corto plazo, representa el 0,00% del total del Activo, que comparado al periodo anterior genera una variación absoluta de 0 000,00 que corresponde a un Aumento del 0,00% de recursos disponibles."}]
[]
["Cuenta ","Descripción","Nota","Periodo Actual","Periodo Anterior","Diferencia "]
[null,null,null,null,null,"%"]
["1.1.3.",{"$f":"IFERROR(VLOOKUP(A14,EEFF_SITUACION!A:E,2,0),\"\")","v":"Cuentas a cobrar a corto plazo"},{"$f":"IFERROR(VLOOKUP(A14,EEFF_SITUACION!A:E,3,0),0)","v":"05"},{"$f":"IFERROR(VLOOKUP(A14,EEFF_SITUACION!A:J,4,0),0)","v":2685853.53541},{"$f":"IFERROR(VLOOKUP(A14,EEFF_SITUACION!A:J,5,0),0)","v":2661314.9290899998},{"$f":"IFERROR(VLOOKUP(A14,EEFF_SITUACION!A:J,10,0),0)","v":9.2204819699376554E-3},null,{"$f":"IFERROR(VLOOKUP(A14,EEFF_SITUACION!A:L,12,0),0)","v":"La cuenta Cuentas a cobrar a corto plazo, representa el 1,60% del total del Activo, que comparado al periodo anterior genera una variación absoluta de 24 538,61 que corresponde a un Aumento del 0,92% de recursos disponibles."}]
[]
["Cuenta ","Descripción","Nota","Periodo Actual","Periodo Anterior","Diferencia "]
[null,null,null,null,null,"%"]
["1.1.4.",{"$f":"IFERROR(VLOOKUP(A18,EEFF_SITUACION!A:E,2,0),\"\")","v":"Inventarios"},{"$f":"IFERROR(VLOOKUP(A18,EEFF_SITUACION!A:E,3,0),0)","v":"06"},{"$f":"IFERROR(VLOOKUP(A18,EEFF_SITUACION!A:J,4,0),0)","v":194362.52791},{"$f":"IFERROR(VLOOKUP(A18,EEFF_SITUACION!A:J,5,0),0)","v":177192.02044999998},{"$f":"IFERROR(VLOOKUP(A18,EEFF_SITUACION!A:J,10,0),0)","v":9.6903389985584565E-2},null,{"$f":"IFERROR(VLOOKUP(A18,EEFF_SITUACION!A:L,12,0),0)","v":"La cuenta Inventarios, representa el 0,12% del total del Activo, que comparado al periodo anterior genera una variación absoluta de 17 170,51 que corresponde a un Aumento del 9,69% de recursos disponibles."}]
[]
["Cuenta ","Descripción","Nota","Periodo Actual","Periodo Anterior","Diferencia "]
[null,null,null,null,null,"%"]
["1.1.9.",{"$f":"IFERROR(VLOOKUP(A22,EEFF_SITUACION!A:E,2,0),\"\")","v":"Otros activos a corto plazo"},{"$f":"IFERROR(VLOOKUP(A22,EEFF_SITUACION!A:E,3,0),0)","v":"07"},{"$f":"IFERROR(VLOOKUP(A22,EEFF_SITUACION!A:J,4,0),0)","v":16571.763310000002},{"$f":"IFERROR(VLOOKUP(A22,EEFF_SITUACION!A:J,5,0),0)","v":20674.100979999999},{"$f":"IFERROR(VLOOKUP(A22,EEFF_SITUACION!A:J,10,0),0)","v":-0.19842883005982093},null,{"$f":"IFERROR(VLOOKUP(A22,EEFF_SITUACION!A:L,12,0),0)","v":"La cuenta Otros activos a corto plazo, representa el 0,01% del total del Activo, que comparado al periodo anterior genera una variación absoluta de -4 102,34 que corresponde a un Disminución del -19,84% de recursos disponibles."}]
[]
["Cuenta ","Descripción","Nota","Periodo Actual","Periodo Anterior","Diferencia "]
[null,null,null,null,null,"%"]
["1.2.2.",{"$f":"IFERROR(VLOOKUP(A26,EEFF_SITUACION!A:E,2,0),\"\")","v":"Inversiones a largo plazo"},{"$f":"IFERROR(VLOOKUP(A26,EEFF_SITUACION!A:E,3,0),0)","v":"08"},{"$f":"IFERROR(VLOOKUP(A26,EEFF_SITUACION!A:J,4,0),0)","v":0},{"$f":"IFERROR(VLOOKUP(A26,EEFF_SITUACION!A:J,5,0),0)","v":0},{"$f":"IFERROR(VLOOKUP(A26,EEFF_SITUACION!A:J,10,0),0)","v":0},null,{"$f":"IFERROR(VLOOKUP(A26,EEFF_SITUACION!A:L,12,0),0)","v":"La cuenta Inversiones a largo plazo, representa el 0,00% del total del Activo, que comparado al periodo anterior genera una variación absoluta de 0 000,00 que corresponde a un Aumento del 0,00% de recursos disponibles."}]
[]
["Cuenta ","Descripción","Nota","Periodo Actual","Periodo Anterior","Diferencia "]
[null,null,null,null,null,"%"]
["1.2.3.",{"$f":"IFERROR(VLOOKUP(A30,EEFF_SITUACION!A:E,2,0),\"\")","v":"Cuentas a cobrar a largo plazo"},{"$f":"IFERROR(VLOOKUP(A30,EEFF_SITUACION!A:E,3,0),0)","v":"09"},{"$f":"IFERROR(VLOOKUP(A30,EEFF_SITUACION!A:J,4,0),0)","v":0},{"$f":"IFERROR(VLOOKUP(A30,EEFF_SITUACION!A:J,5,0),0)","v":0},{"$f":"IFERROR(VLOOKUP(A30,EEFF_SITUACION!A:J,10,0),0)","v":0},null,{"$f":"IFERROR(VLOOKUP(A30,EEFF_SITUACION!A:L,12,0),0)","v":"La cuenta Cuentas a cobrar a largo plazo, representa el 0,00% del total del Activo, que comparado al periodo anterior genera una variación absoluta de 0 000,00 que corresponde a un Aumento del 0,00% de recursos disponibles."}]
[]
["Cuenta ","Descripción","Nota","Periodo Actual","Periodo Anterior","Diferencia "]
[null,null,null,null,null,"%"]
["1.2.5.",{"$f":"IFERROR(VLOOKUP(A34,EEFF_SITUACION!A:E,2,0),\"\")","v":"Bienes no concesionados"},{"$f":"IFERROR(VLOOKUP(A34,EEFF_SITUACION!A:E,3,0),0)","v":"10"},{"$f":"IFERROR(VLOOKUP(A34,EEFF_SITUACION!A:J,4,0),0)","v":163213351.63748002},{"$f":"IFERROR(VLOOKUP(A34,EEFF_SITUACION!A:J,5,0),0)","v":162699631.67161003},{"$f":"IFERROR(VLOOKUP(A34,EEFF_SITUACION!A:J,10,0),0)","v":3.1574746702984304E-3},null,{"$f":"IFERROR(VLOOKUP(A34,EEFF_SITUACION!A:L,12,0),0)","v":"La cuenta Bienes no concesionados, representa el 97,16% del total del Activo, que comparado al periodo anterior genera una variación absoluta de 513 719,97 que corresponde a un Aumento del 0,32% de recursos disponibles."}]
[]
["Cuenta ","Descripción","Nota","Periodo Actual","Periodo Anterior","Diferencia "]
[null,null,null,null,null,"%"]
["1.2.5.01.",{"$f":"IFERROR(VLOOKUP(A38,EEFF_SITUACION!A:E,2,0),\"\")","v":"Propiedades, planta y equipos explotados"},{"$f":"C34","v":"10"},{"$f":"IFERROR(VLOOKUP(A38,EEFF_SITUACION!A:J,4,0),0)","v":2346799.6361500002},{"$f":"IFERROR(VLOOKUP(A38,EEFF_SITUACION!A:J,5,0),0)","v":1848565.3346600002},{"$f":"IFERROR(VLOOKUP(A38,EEFF_SITUACION!A:J,10,0),0)","v":0.26952485375997726},null,{"$f":"IFERROR(VLOOKUP(A38,EEFF_SITUACION!A:L,12,0),0)","v":"La cuenta Propiedades, planta y equipos explotados, representa el 1,40% del total del Activo, que comparado al periodo anterior genera una variación absoluta de 498 234,30 que corresponde a un Aumento del 26,95% de recursos disponibles."}]
[]
["Cuenta ","Descripción","Nota","Periodo Actual","Periodo Anterior","Diferencia "]
[null,null,null,null,null,"%"]
["1.2.5.02.",{"$f":"IFERROR(VLOOKUP(A42,EEFF_SITUACION!A:E,2,0),\"\")","v":"Propiedades de inversión"},{"$f":"C34","v":"10"},{"$f":"IFERROR(VLOOKUP(A42,EEFF_SITUACION!A:J,4,0),0)","v":0},{"$f":"IFERROR(VLOOKUP(A42,EEFF_SITUACION!A:J,5,0),0)","v":0},{"$f":"IFERROR(VLOOKUP(A42,EEFF_SITUACION!A:J,10,0),0)","v":0},null,{"$f":"IFERROR(VLOOKUP(A42,EEFF_SITUACION!A:L,12,0),0)","v":"La cuenta Propiedades de inversión, representa el 0,00% del total del Activo, que comparado al periodo anterior genera una variación absoluta de 0 000,00 que corresponde a un Aumento del 0,00% de recursos disponibles."}]
[]
["Cuenta ","Descripción","Nota","Periodo Actual","Periodo Anterior","Diferencia "]
[null,null,null,null,null,"%"]
["1.2.5.03.",{"$f":"IFERROR(VLOOKUP(A46,EEFF_SITUACION!A:E,2,0),\"\")","v":"Activos biológicos no concesionados"},{"$f":"C34","v":"10"},{"$f":"IFERROR(VLOOKUP(A46,EEFF_SITUACION!A:J,4,0),0)","v":0},{"$f":"IFERROR(VLOOKUP(A46,EEFF_SITUACION!A:J,5,0),0)","v":0},{"$f":"IFERROR(VLOOKUP(A46,EEFF_SITUACION!A:J,10,0),0)","v":0},null,{"$f":"IFERROR(VLOOKUP(A46,EEFF_SITUACION!A:L,12,0),0)","v":"La cuenta Activos biológicos no concesionados, representa el 0,00% del total del Activo, que comparado al periodo anterior genera una variación absoluta de 0 000,00 que corresponde a un Aumento del 0,00% de recursos disponibles."}]
[]
["Cuenta ","Descripción","Nota","Periodo Actual","Periodo Anterior","Diferencia "]
[null,null,null,null,null,"%"]
["1.2.5.04.",{"$f":"IFERROR(VLOOKUP(A50,EEFF_SITUACION!A:E,2,0),\"\")","v":"Bienes de infraestructura y de beneficio y uso público en servicio"},{"$f":"C34","v":"10"},{"$f":"IFERROR(VLOOKUP(A50,EEFF_SITUACION!A:J,4,0),0)","v":160765498.08176002},{"$f":"IFERROR(VLOOKUP(A50,EEFF_SITUACION!A:J,5,0),0)","v":160765498.08176002},{"$f":"IFERROR(VLOOKUP(A50,EEFF_SITUACION!A:J,10,0),0)","v":0},null,{"$f":"IFERROR(VLOOKUP(A50,EEFF_SITUACION!A:L,12,0),0)","v":"La cuenta Bienes de infraestructura y de beneficio y uso público en servicio, representa el 95,70% del total del Activo, que comparado al periodo anterior genera una variación absoluta de 0 000,00 que corresponde a un Aumento del 0,00% de recursos disponibles."}]
[]
["Cuenta ","Descripción","Nota","Periodo Actual","Periodo Anterior","Diferencia "]
[null,null,null,null,null,"%"]
["1.2.5.05.",{"$f":"IFERROR(VLOOKUP(A54,EEFF_SITUACION!A:E,2,0),\"\")","v":"Bienes históricos y culturales"},{"$f":"C34","v":"10"},{"$f":"IFERROR(VLOOKUP(A54,EEFF_SITUACION!A:J,4,0),0)","v":0},{"$f":"IFERROR(VLOOKUP(A54,EEFF_SITUACION!A:J,5,0),0)","v":0},{"$f":"IFERROR(VLOOKUP(A54,EEFF_SITUACION!A:J,10,0),0)","v":0},null,{"$f":"IFERROR(VLOOKUP(A54,EEFF_SITUACION!A:L,12,0),0)","v":"La cuenta Bienes históricos y culturales, representa el 0,00% del total del Activo, que comparado al periodo anterior genera una variación absoluta de 0 000,00 que corresponde a un Aumento del 0,00% de recursos disponibles."}]
[]
["Cuenta ","Descripción","Nota","Periodo Actual","Periodo Anterior","Diferencia "]
[null,null,null,null,null,"%"]
["1.2.5.06.",{"$f":"IFERROR(VLOOKUP(A58,EEFF_SITUACION!A:E,2,0),\"\")","v":"Recursos naturales en explotación"},{"$f":"C34","v":"10"},{"$f":"IFERROR(VLOOKUP(A58,EEFF_SITUACION!A:J,4,0),0)","v":0},{"$f":"IFERROR(VLOOKUP(A58,EEFF_SITUACION!A:J,5,0),0)","v":0},{"$f":"IFERROR(VLOOKUP(A58,EEFF_SITUACION!A:J,10,0),0)","v":0},null,{"$f":"IFERROR(VLOOKUP(A58,EEFF_SITUACION!A:L,12,0),0)","v":"La cuenta Recursos naturales en explotación, representa el 0,00% del total del Activo, que comparado al periodo anterior genera una variación absoluta de 0 000,00 que corresponde a un Aumento del 0,00% de recursos disponibles."}]
[]
["Cuenta ","Descripción","Nota","Periodo Actual","Periodo Anterior","Diferencia "]
[null,null,null,null,null,"%"]
["1.2.5.07.",{"$f":"IFERROR(VLOOKUP(A62,EEFF_SITUACION!A:E,2,0),\"\")","v":"Recursos naturales en conservación"},{"$f":"C34","v":"10"},{"$f":"IFERROR(VLOOKUP(A62,EEFF_SITUACION!A:J,4,0),0)","v":0},{"$f":"IFERROR(VLOOKUP(A62,EEFF_SITUACION!A:J,5,0),0)","v":0},{"$f":"IFERROR(VLOOKUP(A62,EEFF_SITUACION!A:J,10,0),0)","v":0},null,{"$f":"IFERROR(VLOOKUP(A62,EEFF_SITUACION!A:L,12,0),0)","v":"La cuenta Recursos naturales en conservación, representa el 0,00% del total del Activo, que comparado al periodo anterior genera una variación absoluta de 0 000,00 que corresponde a un Aumento del 0,00% de recursos disponibles."}]
[]
["Cuenta ","Descripción","Nota","Periodo Actual","Periodo Anterior","Diferencia "]
[null,null,null,null,null,"%"]
["1.2.5.08.",{"$f":"IFERROR(VLOOKUP(A66,EEFF_SITUACION!A:E,2,0),\"\")","v":"Bienes intangibles no concesionados"},{"$f":"C34","v":"10"},{"$f":"IFERROR(VLOOKUP(A66,EEFF_SITUACION!A:J,4,0),0)","v":3474.7717499999999},{"$f":"IFERROR(VLOOKUP(A66,EEFF_SITUACION!A:J,5,0),0)","v":7987.29414},{"$f":"IFERROR(VLOOKUP(A66,EEFF_SITUACION!A:J,10,0),0)","v":-0.5649625906978305},null,{"$f":"IFERROR(VLOOKUP(A66,EEFF_SITUACION!A:L,12,0),0)","v":"La cuenta Bienes intangibles no concesionados, representa el 0,00% del total del Activo, que comparado al periodo anterior genera una variación absoluta de -4 512,52 que corresponde a un Disminución del -56,50% de recursos disponibles."}]
[]
["Cuenta ","Descripción","Nota","Periodo Actual","Periodo Anterior","Diferencia "]
[null,null,null,null,null,"%"]
["1.2.5.99.",{"$f":"IFERROR(VLOOKUP(A70,EEFF_SITUACION!A:E,2,0),\"\")","v":"Bienes no concesionados en proceso de producción"},{"$f":"C34","v":"10"},{"$f":"IFERROR(VLOOKUP(A70,EEFF_SITUACION!A:J,4,0),0)","v":97579.147819999998},{"$f":"IFERROR(VLOOKUP(A70,EEFF_SITUACION!A:J,5,0),0)","v":77580.961049999998},{"$f":"IFERROR(VLOOKUP(A70,EEFF_SITUACION!A:J,10,0),0)","v":0.25777183601929615},null,{"$f":"IFERROR(VLOOKUP(A70,EEFF_SITUACION!A:L,12,0),0)","v":"La cuenta Bienes no concesionados en proceso de producción, representa el 0,06% del total del Activo, que comparado al periodo anterior genera una variación absoluta de 19 998,19 que corresponde a un Aumento del 25,78% de recursos disponibles."}]
[]
["Cuenta ","Descripción","Nota","Periodo Actual","Periodo Anterior","Diferencia "]
[null,null,null,null,null,"%"]
["1.2.6.",{"$f":"IFERROR(VLOOKUP(A74,EEFF_SITUACION!A:E,2,0),\"\")","v":"Bienes concesionados"},{"$f":"IFERROR(VLOOKUP(A74,EEFF_SITUACION!A:E,3,0),0)","v":"11"},{"$f":"IFERROR(VLOOKUP(A74,EEFF_SITUACION!A:J,4,0),0)","v":0},{"$f":"IFERROR(VLOOKUP(A74,EEFF_SITUACION!A:J,5,0),0)","v":0},{"$f":"IFERROR(VLOOKUP(A74,EEFF_SITUACION!A:J,10,0),0)","v":0},null,{"$f":"IFERROR(VLOOKUP(A74,EEFF_SITUACION!A:L,12,0),0)","v":"La cuenta Bienes concesionados, representa el 0,00% del total del Activo, que comparado al periodo anterior genera una variación absoluta de 0 000,00 que corresponde a un Aumento del 0,00% de recursos disponibles."}]
[]
["Cuenta ","Descripción","Nota","Periodo Actual","Periodo Anterior","Diferencia "]
[null,null,null,null,null,"%"]
["1.2.6.01.",{"$f":"IFERROR(VLOOKUP(A78,EEFF_SITUACION!A:E,2,0),\"\")","v":"Propiedades, planta y equipos concesionados"},{"$f":"C74","v":"11"},{"$f":"IFERROR(VLOOKUP(A78,EEFF_SITUACION!A:J,4,0),0)","v":0},{"$f":"IFERROR(VLOOKUP(A78,EEFF_SITUACION!A:J,5,0),0)","v":0},{"$f":"IFERROR(VLOOKUP(A78,EEFF_SITUACION!A:J,10,0),0)","v":0},null,{"$f":"IFERROR(VLOOKUP(A78,EEFF_SITUACION!A:L,12,0),0)","v":"La cuenta Propiedades, planta y equipos concesionados, representa el 0,00% del total del Activo, que comparado al periodo anterior genera una variación absoluta de 0 000,00 que corresponde a un Aumento del 0,00% de recursos disponibles."}]
[]
["Cuenta ","Descripción","Nota","Periodo Actual","Periodo Anterior","Diferencia "]
[null,null,null,null,null,"%"]
["1.2.6.03.",{"$f":"IFERROR(VLOOKUP(A82,EEFF_SITUACION!A:E,2,0),\"\")","v":"Activos biológicos concesionados"},{"$f":"C74","v":"11"},{"$f":"IFERROR(VLOOKUP(A82,EEFF_SITUACION!A:J,4,0),0)","v":0},{"$f":"IFERROR(VLOOKUP(A82,EEFF_SITUACION!A:J,5,0),0)","v":0},{"$f":"IFERROR(VLOOKUP(A82,EEFF_SITUACION!A:J,10,0),0)","v":0},null,{"$f":"IFERROR(VLOOKUP(A82,EEFF_SITUACION!A:L,12,0),0)","v":"La cuenta Activos biológicos concesionados, representa el 0,00% del total del Activo, que comparado al periodo anterior genera una variación absoluta de 0 000,00 que corresponde a un Aumento del 0,00% de recursos disponibles."}]
[]
["Cuenta ","Descripción","Nota","Periodo Actual","Periodo Anterior","Diferencia "]
[null,null,null,null,null,"%"]
["1.2.6.04.",{"$f":"IFERROR(VLOOKUP(A86,EEFF_SITUACION!A:E,2,0),\"\")","v":"Bienes de infraestructura y de beneficio y uso público concesionados"},{"$f":"C74","v":"11"},{"$f":"IFERROR(VLOOKUP(A86,EEFF_SITUACION!A:J,4,0),0)","v":0},{"$f":"IFERROR(VLOOKUP(A86,EEFF_SITUACION!A:J,5,0),0)","v":0},{"$f":"IFERROR(VLOOKUP(A86,EEFF_SITUACION!A:J,10,0),0)","v":0},null,{"$f":"IFERROR(VLOOKUP(A86,EEFF_SITUACION!A:L,12,0),0)","v":"La cuenta Bienes de infraestructura y de beneficio y uso público concesionados, representa el 0,00% del total del Activo, que comparado al periodo anterior genera una variación absoluta de 0 000,00 que corresponde a un Aumento del 0,00% de recursos disponibles."}]
[]
["Cuenta ","Descripción","Nota","Periodo Actual","Periodo Anterior","Diferencia "]
[null,null,null,null,null,"%"]
["1.2.6.06.",{"$f":"IFERROR(VLOOKUP(A90,EEFF_SITUACION!A:E,2,0),\"\")","v":"Recursos naturales concesionados"},{"$f":"C74","v":"11"},{"$f":"IFERROR(VLOOKUP(A90,EEFF_SITUACION!A:J,4,0),0)","v":0},{"$f":"IFERROR(VLOOKUP(A90,EEFF_SITUACION!A:J,5,0),0)","v":0},{"$f":"IFERROR(VLOOKUP(A90,EEFF_SITUACION!A:J,10,0),0)","v":0},null,{"$f":"IFERROR(VLOOKUP(A90,EEFF_SITUACION!A:L,12,0),0)","v":"La cuenta Recursos naturales concesionados, representa el 0,00% del total del Activo, que comparado al periodo anterior genera una variación absoluta de 0 000,00 que corresponde a un Aumento del 0,00% de recursos disponibles."}]
[]
["Cuenta ","Descripción","Nota","Periodo Actual","Periodo Anterior","Diferencia "]
[null,null,null,null,null,"%"]
["1.2.6.08.",{"$f":"IFERROR(VLOOKUP(A94,EEFF_SITUACION!A:E,2,0),\"\")","v":"Bienes intangibles concesionados"},{"$f":"C74","v":"11"},{"$f":"IFERROR(VLOOKUP(A94,EEFF_SITUACION!A:J,4,0),0)","v":0},{"$f":"IFERROR(VLOOKUP(A94,EEFF_SITUACION!A:J,5,0),0)","v":0},{"$f":"IFERROR(VLOOKUP(A94,EEFF_SITUACION!A:J,10,0),0)","v":0},null,{"$f":"IFERROR(VLOOKUP(A94,EEFF_SITUACION!A:L,12,0),0)","v":"La cuenta Bienes intangibles concesionados, representa el 0,00% del total del Activo, que comparado al periodo anterior genera una variación absoluta de 0 000,00 que corresponde a un Aumento del 0,00% de recursos disponibles."}]
[]
["Cuenta ","Descripción","Nota","Periodo Actual","Periodo Anterior","Diferencia "]
[null,null,null,null,null,"%"]
["1.2.6.99.","Bienes concesionados",{"$f":"C74","v":"11"},0,0,0,null,{"$f":"IFERROR(VLOOKUP(A98,EEFF_SITUACION!A:L,12,0),0)","v":"La cuenta Bienes concesionados en proceso de producción, representa el 0,00% del total del Activo, que comparado al periodo anterior genera una variación absoluta de 0 000,00 que corresponde a un Aumento del 0,00% de recursos disponibles."}]
[]
["Cuenta ","Descripción","Nota","Periodo Actual","Periodo Anterior","Diferencia "]
[null,null,null,null,null,"%"]
["1.2.7.",{"$f":"IFERROR(VLOOKUP(A102,EEFF_SITUACION!A:E,2,0),\"\")","v":"Inversiones patrimoniales - Método de participación"},{"$f":"IFERROR(VLOOKUP(A102,EEFF_SITUACION!A:E,3,0),0)","v":"12"},{"$f":"IFERROR(VLOOKUP(A102,EEFF_SITUACION!A:J,4,0),0)","v":0},{"$f":"IFERROR(VLOOKUP(A102,EEFF_SITUACION!A:J,5,0),0)","v":0},{"$f":"IFERROR(VLOOKUP(A102,EEFF_SITUACION!A:J,10,0),0)","v":0},null,{"$f":"IFERROR(VLOOKUP(A102,EEFF_SITUACION!A:L,12,0),0)","v":"La cuenta Inversiones patrimoniales - Método de participación, representa el 0,00% del total del Activo, que comparado al periodo anterior genera una variación absoluta de 0 000,00 que corresponde a un Aumento del 0,00% de recursos disponibles."}]
[]
["Cuenta ","Descripción","Nota","Periodo Actual","Periodo Anterior","Diferencia "]
[null,null,null,null,null,"%"]
["1.2.9.",{"$f":"IFERROR(VLOOKUP(A106,EEFF_SITUACION!A:E,2,0),\"\")","v":"Otros activos a largo plazo"},{"$f":"IFERROR(VLOOKUP(A106,EEFF_SITUACION!A:E,3,0),0)","v":"13"},{"$f":"IFERROR(VLOOKUP(A106,EEFF_SITUACION!A:J,4,0),0)","v":0},{"$f":"IFERROR(VLOOKUP(A106,EEFF_SITUACION!A:J,5,0),0)","v":0},{"$f":"IFERROR(VLOOKUP(A106,EEFF_SITUACION!A:J,10,0),0)","v":0},null,{"$f":"IFERROR(VLOOKUP(A106,EEFF_SITUACION!A:L,12,0),0)","v":"La cuenta Otros activos a largo plazo, representa el 0,00% del total del Activo, que comparado al periodo anterior genera una variación absoluta de 0 000,00 que corresponde a un Aumento del 0,00% de recursos disponibles."}]
[]
["Cuenta ","Descripción","Nota","Periodo Actual","Periodo Anterior","Diferencia "]
[null,null,null,null,null,"%"]
["1.2.9.01.",{"$f":"IFERROR(VLOOKUP(A110,EEFF_SITUACION!A:E,2,0),\"\")","v":"Gastos a devengar a largo plazo"},{"$f":"C106","v":"13"},{"$f":"IFERROR(VLOOKUP(A110,EEFF_SITUACION!A:J,4,0),0)","v":0},{"$f":"IFERROR(VLOOKUP(A110,EEFF_SITUACION!A:J,5,0),0)","v":0},{"$f":"IFERROR(VLOOKUP(A110,EEFF_SITUACION!A:J,10,0),0)","v":0},null,{"$f":"IFERROR(VLOOKUP(A110,EEFF_SITUACION!A:L,12,0),0)","v":"La cuenta Gastos a devengar a largo plazo, representa el 0,00% del total del Activo, que comparado al periodo anterior genera una variación absoluta de 0 000,00 que corresponde a un Aumento del 0,00% de recursos disponibles."}]
[]
[]
["PASIVO"]
[]
["Cuenta ","Descripción","Nota","Periodo Actual","Periodo Anterior","Diferencia "]
[null,null,null,null,null,"%"]
["2.1.1.",{"$f":"IFERROR(VLOOKUP(A117,EEFF_SITUACION!A:E,2,0),\"\")","v":"Deudas a corto plazo"},{"$f":"IFERROR(VLOOKUP(A117,EEFF_SITUACION!A:E,3,0),0)","v":"14"},{"$f":"IFERROR(VLOOKUP(A117,EEFF_SITUACION!A:J,4,0),0)","v":251050.91753999999},{"$f":"IFERROR(VLOOKUP(A117,EEFF_SITUACION!A:J,5,0),0)","v":573033.20346000011},{"$f":"IFERROR(VLOOKUP(A117,EEFF_SITUACION!A:J,10,0),0)","v":-0.56189115041825966},null,{"$f":"IFERROR(VLOOKUP(A117,EEFF_SITUACION!A:L,12,0),0)","v":"La cuenta Deudas a corto plazo, representa el 12,97% del total del Pasivo, que comparado al periodo anterior genera una variación absoluta de -321 982,29 que corresponde a un Disminución del -56,19% de recursos disponibles."}]
[]
["Cuenta ","Descripción","Nota","Periodo Actual","Periodo Anterior","Diferencia "]
[null,null,null,null,null,"%"]
["2.1.2.",{"$f":"IFERROR(VLOOKUP(A121,EEFF_SITUACION!A:E,2,0),\"\")","v":"Endeudamiento público a corto plazo"},{"$f":"IFERROR(VLOOKUP(A121,EEFF_SITUACION!A:E,3,0),0)","v":"15"},{"$f":"IFERROR(VLOOKUP(A121,EEFF_SITUACION!A:J,4,0),0)","v":485546.59963000001},{"$f":"IFERROR(VLOOKUP(A121,EEFF_SITUACION!A:J,5,0),0)","v":329795.98796},{"$f":"IFERROR(VLOOKUP(A121,EEFF_SITUACION!A:J,10,0),0)","v":0.47226351246240922},null,{"$f":"IFERROR(VLOOKUP(A121,EEFF_SITUACION!A:L,12,0),0)","v":"La cuenta Endeudamiento público a corto plazo, representa el 25,08% del total del Pasivo, que comparado al periodo anterior genera una variación absoluta de 155 750,61 que corresponde a un Aumento del 47,23% de recursos disponibles."}]
[]
["Cuenta ","Descripción","Nota","Periodo Actual","Periodo Anterior","Diferencia "]
[null,null,null,null,null,"%"]
["2.1.3.",{"$f":"IFERROR(VLOOKUP(A125,EEFF_SITUACION!A:E,2,0),\"\")","v":"Fondos de terceros y en garantía"},{"$f":"IFERROR(VLOOKUP(A125,EEFF_SITUACION!A:E,3,0),0)","v":"16"},{"$f":"IFERROR(VLOOKUP(A125,EEFF_SITUACION!A:J,4,0),0)","v":58724.399640000003},{"$f":"IFERROR(VLOOKUP(A125,EEFF_SITUACION!A:J,5,0),0)","v":908486.07078999991},{"$f":"IFERROR(VLOOKUP(A125,EEFF_SITUACION!A:J,10,0),0)","v":-0.93536015407596229},null,{"$f":"IFERROR(VLOOKUP(A125,EEFF_SITUACION!A:L,12,0),0)","v":"La cuenta Fondos de terceros y en garantía, representa el 3,03% del total del Pasivo, que comparado al periodo anterior genera una variación absoluta de -849 761,67 que corresponde a un Disminución del -93,54% de recursos disponibles."}]
[]
["Cuenta ","Descripción","Nota","Periodo Actual","Periodo Anterior","Diferencia "]
[null,null,null,null,null,"%"]
["2.1.3.03.",{"$f":"IFERROR(VLOOKUP(A129,EEFF_SITUACION!A:E,2,0),\"\")","v":"Depósitos en garantía"},{"$f":"C125","v":"16"},{"$f":"IFERROR(VLOOKUP(A129,EEFF_SITUACION!A:J,4,0),0)","v":58724.399640000003},{"$f":"IFERROR(VLOOKUP(A129,EEFF_SITUACION!A:J,5,0),0)","v":67537.733120000004},{"$f":"IFERROR(VLOOKUP(A129,EEFF_SITUACION!A:J,10,0),0)","v":-0.13049495552864657},null,{"$f":"IFERROR(VLOOKUP(A129,EEFF_SITUACION!A:L,12,0),0)","v":"La cuenta Depósitos en garantía, representa el 3,03% del total del Pasivo, que comparado al periodo anterior genera una variación absoluta de -8 813,33 que corresponde a un Disminución del -13,05% de recursos disponibles."}]
[]
["Cuenta ","Descripción","Nota","Periodo Actual","Periodo Anterior","Diferencia "]
[null,null,null,null,null,"%"]
["2.1.4.",{"$f":"IFERROR(VLOOKUP(A133,EEFF_SITUACION!A:E,2,0),\"\")","v":"Provisiones y reservas técnicas a corto plazo"},{"$f":"IFERROR(VLOOKUP(A133,EEFF_SITUACION!A:E,3,0),0)","v":"17"},{"$f":"IFERROR(VLOOKUP(A133,EEFF_SITUACION!A:J,4,0),0)","v":0},{"$f":"IFERROR(VLOOKUP(A133,EEFF_SITUACION!A:J,5,0),0)","v":0},{"$f":"IFERROR(VLOOKUP(A133,EEFF_SITUACION!A:J,10,0),0)","v":0},null,{"$f":"IFERROR(VLOOKUP(A133,EEFF_SITUACION!A:L,12,0),0)","v":"La cuenta Provisiones y reservas técnicas a corto plazo, representa el 0,00% del total del Pasivo, que comparado al periodo anterior genera una variación absoluta de 0 000,00 que corresponde a un Aumento del 0,00% de recursos disponibles."}]
[]
["Cuenta ","Descripción","Nota","Periodo Actual","Periodo Anterior","Diferencia "]
[null,null,null,null,null,"%"]
["2.1.4.01.",{"$f":"IFERROR(VLOOKUP(A137,EEFF_SITUACION!A:E,2,0),\"\")","v":"Provisiones a corto plazo"},{"$f":"C133","v":"17"},{"$f":"IFERROR(VLOOKUP(A137,EEFF_SITUACION!A:J,4,0),0)","v":0},{"$f":"IFERROR(VLOOKUP(A137,EEFF_SITUACION!A:J,5,0),0)","v":0},{"$f":"IFERROR(VLOOKUP(A137,EEFF_SITUACION!A:J,10,0),0)","v":0},null,{"$f":"IFERROR(VLOOKUP(A137,EEFF_SITUACION!A:L,12,0),0)","v":"La cuenta Provisiones a corto plazo, representa el 0,00% del total del Pasivo, que comparado al periodo anterior genera una variación absoluta de 0 000,00 que corresponde a un Aumento del 0,00% de recursos disponibles."}]
[]
["Cuenta ","Descripción","Nota","Periodo Actual","Periodo Anterior","Diferencia "]
[null,null,null,null,null,"%"]
["2.1.9.",{"$f":"IFERROR(VLOOKUP(A141,EEFF_SITUACION!A:E,2,0),\"\")","v":"Otros pasivos a corto plazo"},{"$f":"IFERROR(VLOOKUP(A141,EEFF_SITUACION!A:E,3,0),0)","v":"18"},{"$f":"IFERROR(VLOOKUP(A141,EEFF_SITUACION!A:J,4,0),0)","v":0},{"$f":"IFERROR(VLOOKUP(A141,EEFF_SITUACION!A:J,5,0),0)","v":556.53648999999996},{"$f":"IFERROR(VLOOKUP(A141,EEFF_SITUACION!A:J,10,0),0)","v":-1},null,{"$f":"IFERROR(VLOOKUP(A141,EEFF_SITUACION!A:L,12,0),0)","v":"La cuenta Otros pasivos a corto plazo, representa el 0,00% del total del Pasivo, que comparado al periodo anterior genera una variación absoluta de -0 556,54 que corresponde a un Disminución del -100,00% de recursos disponibles."}]
[]
["Cuenta ","Descripción","Nota","Periodo Actual","Periodo Anterior","Diferencia "]
[null,null,null,null,null,"%"]
["2.1.9.01.",{"$f":"IFERROR(VLOOKUP(A145,EEFF_SITUACION!A:E,2,0),\"\")","v":"Ingresos a devengar a corto plazo"},{"$f":"C141","v":"18"},{"$f":"IFERROR(VLOOKUP(A145,EEFF_SITUACION!A:J,4,0),0)","v":0},{"$f":"IFERROR(VLOOKUP(A145,EEFF_SITUACION!A:J,5,0),0)","v":0},{"$f":"IFERROR(VLOOKUP(A145,EEFF_SITUACION!A:J,10,0),0)","v":0},null,{"$f":"IFERROR(VLOOKUP(A145,EEFF_SITUACION!A:L,12,0),0)","v":"La cuenta Ingresos a devengar a corto plazo, representa el 0,00% del total del Pasivo, que comparado al periodo anterior genera una variación absoluta de 0 000,00 que corresponde a un Aumento del 0,00% de recursos disponibles."}]
[]
["Cuenta ","Descripción","Nota","Periodo Actual","Periodo Anterior","Diferencia "]
[null,null,null,null,null,"%"]
["2.2.1.",{"$f":"IFERROR(VLOOKUP(A149,EEFF_SITUACION!A:E,2,0),\"\")","v":"Deudas a largo plazo"},{"$f":"IFERROR(VLOOKUP(A149,EEFF_SITUACION!A:E,3,0),0)","v":"19"},{"$f":"IFERROR(VLOOKUP(A149,EEFF_SITUACION!A:J,4,0),0)","v":0},{"$f":"IFERROR(VLOOKUP(A149,EEFF_SITUACION!A:J,5,0),0)","v":0},{"$f":"IFERROR(VLOOKUP(A149,EEFF_SITUACION!A:J,10,0),0)","v":0},null,{"$f":"IFERROR(VLOOKUP(A149,EEFF_SITUACION!A:L,12,0),0)","v":"La cuenta Deudas a largo plazo, representa el 0,00% del total del Pasivo, que comparado al periodo anterior genera una variación absoluta de 0 000,00 que corresponde a un Aumento del 0,00% de recursos disponibles."}]
[]
["Cuenta ","Descripción","Nota","Periodo Actual","Periodo Anterior","Diferencia "]
[null,null,null,null,null,"%"]
["2.2.2.",{"$f":"IFERROR(VLOOKUP(A153,EEFF_SITUACION!A:E,2,0),\"\")","v":"Endeudamiento público a largo plazo"},{"$f":"IFERROR(VLOOKUP(A153,EEFF_SITUACION!A:E,3,0),0)","v":"20"},{"$f":"IFERROR(VLOOKUP(A153,EEFF_SITUACION!A:J,4,0),0)","v":1098005.36283},{"$f":"IFERROR(VLOOKUP(A153,EEFF_SITUACION!A:J,5,0),0)","v":1153101.0906500001},{"$f":"IFERROR(VLOOKUP(A153,EEFF_SITUACION!A:J,10,0),0)","v":-4.7780483659886942E-2},null,{"$f":"IFERROR(VLOOKUP(A153,EEFF_SITUACION!A:L,12,0),0)","v":"La cuenta Endeudamiento público a largo plazo, representa el 56,71% del total del Pasivo, que comparado al periodo anterior genera una variación absoluta de -55 095,73 que corresponde a un Disminución del -4,78% de recursos disponibles."}]
[]
["Cuenta ","Descripción","Nota","Periodo Actual","Periodo Anterior","Diferencia "]
[null,null,null,null,null,"%"]
["2.2.3.",{"$f":"IFERROR(VLOOKUP(A157,EEFF_SITUACION!A:E,2,0),\"\")","v":"Fondos de terceros y en garantía"},{"$f":"IFERROR(VLOOKUP(A157,EEFF_SITUACION!A:E,3,0),0)","v":"21"},{"$f":"IFERROR(VLOOKUP(A157,EEFF_SITUACION!A:J,4,0),0)","v":0},{"$f":"IFERROR(VLOOKUP(A157,EEFF_SITUACION!A:J,5,0),0)","v":0},{"$f":"IFERROR(VLOOKUP(A157,EEFF_SITUACION!A:J,10,0),0)","v":0},null,{"$f":"IFERROR(VLOOKUP(A157,EEFF_SITUACION!A:L,12,0),0)","v":"La cuenta Fondos de terceros y en garantía, representa el 0,00% del total del Pasivo, que comparado al periodo anterior genera una variación absoluta de 0 000,00 que corresponde a un Aumento del 0,00% de recursos disponibles."}]
[]
["Cuenta ","Descripción","Nota","Periodo Actual","Periodo Anterior","Diferencia "]
[null,null,null,null,null,"%"]
["2.2.4.",{"$f":"IFERROR(VLOOKUP(A161,EEFF_SITUACION!A:E,2,0),\"\")","v":"Provisiones y reservas técnicas a largo plazo"},{"$f":"IFERROR(VLOOKUP(A161,EEFF_SITUACION!A:E,3,0),0)","v":"22"},{"$f":"IFERROR(VLOOKUP(A161,EEFF_SITUACION!A:J,4,0),0)","v":42912.36},{"$f":"IFERROR(VLOOKUP(A161,EEFF_SITUACION!A:J,5,0),0)","v":2954.16},{"$f":"IFERROR(VLOOKUP(A161,EEFF_SITUACION!A:J,10,0),0)","v":13.526078479161589},null,{"$f":"IFERROR(VLOOKUP(A161,EEFF_SITUACION!A:L,12,0),0)","v":"La cuenta Provisiones y reservas técnicas a largo plazo, representa el 2,22% del total del Pasivo, que comparado al periodo anterior genera una variación absoluta de 39 958,20 que corresponde a un Aumento del 1352,61% de recursos disponibles."}]
[]
["Cuenta ","Descripción","Nota","Periodo Actual","Periodo Anterior","Diferencia "]
[null,null,null,null,null,"%"]
["2.2.4.01.",{"$f":"IFERROR(VLOOKUP(A165,EEFF_SITUACION!A:E,2,0),\"\")","v":"Provisiones a largo plazo"},{"$f":"C161","v":"22"},{"$f":"IFERROR(VLOOKUP(A165,EEFF_SITUACION!A:J,4,0),0)","v":42912.36},{"$f":"IFERROR(VLOOKUP(A165,EEFF_SITUACION!A:J,5,0),0)","v":2954.16},{"$f":"IFERROR(VLOOKUP(A165,EEFF_SITUACION!A:J,10,0),0)","v":13.526078479161589},null,{"$f":"IFERROR(VLOOKUP(A165,EEFF_SITUACION!A:L,12,0),0)","v":"La cuenta Provisiones a largo plazo, representa el 2,22% del total del Pasivo, que comparado al periodo anterior genera una variación absoluta de 39 958,20 que corresponde a un Aumento del 1352,61% de recursos disponibles."}]
[]
["Cuenta ","Descripción","Nota","Periodo Actual","Periodo Anterior","Diferencia "]
[null,null,null,null,null,"%"]
["2.2.9.",{"$f":"IFERROR(VLOOKUP(A169,EEFF_SITUACION!A:E,2,0),\"\")","v":"Otros pasivos a largo plazo"},{"$f":"IFERROR(VLOOKUP(A169,EEFF_SITUACION!A:E,3,0),0)","v":"23"},{"$f":"IFERROR(VLOOKUP(A169,EEFF_SITUACION!A:J,4,0),0)","v":0},{"$f":"IFERROR(VLOOKUP(A169,EEFF_SITUACION!A:J,5,0),0)","v":0},{"$f":"IFERROR(VLOOKUP(A169,EEFF_SITUACION!A:J,10,0),0)","v":0},null,{"$f":"IFERROR(VLOOKUP(A169,EEFF_SITUACION!A:L,12,0),0)","v":"La cuenta Otros pasivos a largo plazo, representa el 0,00% del total del Pasivo, que comparado al periodo anterior genera una variación absoluta de 0 000,00 que corresponde a un Aumento del 0,00% de recursos disponibles."}]
[]
["Cuenta ","Descripción","Nota","Periodo Actual","Periodo Anterior","Diferencia "]
[null,null,null,null,null,"%"]
["2.2.9.01.",{"$f":"IFERROR(VLOOKUP(A173,EEFF_SITUACION!A:E,2,0),\"\")","v":"Ingresos a devengar a largo plazo"},{"$f":"C169","v":"23"},{"$f":"IFERROR(VLOOKUP(A173,EEFF_SITUACION!A:J,4,0),0)","v":0},{"$f":"IFERROR(VLOOKUP(A173,EEFF_SITUACION!A:J,5,0),0)","v":0},{"$f":"IFERROR(VLOOKUP(A173,EEFF_SITUACION!A:J,10,0),0)","v":0},null,{"$f":"IFERROR(VLOOKUP(A173,EEFF_SITUACION!A:L,12,0),0)","v":"La cuenta Ingresos a devengar a largo plazo, representa el 0,00% del total del Pasivo, que comparado al periodo anterior genera una variación absoluta de 0 000,00 que corresponde a un Aumento del 0,00% de recursos disponibles."}]
[]
[]
["PATRIMONIO"]
[]
["Cuenta ","Descripción","Nota","Periodo Actual","Periodo Anterior","Diferencia "]
[null,null,null,null,null,"%"]
["3.1.1.",{"$f":"IFERROR(VLOOKUP(A180,EEFF_SITUACION!A:E,2,0),\"\")","v":"Capital"},{"$f":"IFERROR(VLOOKUP(A180,EEFF_SITUACION!A:E,3,0),0)","v":"24"},{"$f":"IFERROR(VLOOKUP(A180,EEFF_SITUACION!A:J,4,0),0)","v":0.52479999999999993},{"$f":"IFERROR(VLOOKUP(A180,EEFF_SITUACION!A:J,5,0),0)","v":0.52479999999999993},{"$f":"IFERROR(VLOOKUP(A180,EEFF_SITUACION!A:J,10,0),0)","v":0},null,{"$f":"IFERROR(VLOOKUP(A180,EEFF_SITUACION!A:L,12,0),0)","v":"La cuenta Capital, representa el 0,00% del total del Capital, que comparado al periodo anterior genera una variación absoluta de 0 000,00 que corresponde a un Aumento del 0,00% de recursos disponibles."}]
[]
["Cuenta ","Descripción","Nota","Periodo Actual","Periodo Anterior","Diferencia "]
[null,null,null,null,null,"%"]
["3.1.1.01.",{"$f":"IFERROR(VLOOKUP(A184,EEFF_SITUACION!A:E,2,0),\"\")","v":"Capital inicial"},{"$f":"C180","v":"24"},{"$f":"IFERROR(VLOOKUP(A184,EEFF_SITUACION!A:J,4,0),0)","v":0.52479999999999993},{"$f":"IFERROR(VLOOKUP(A184,EEFF_SITUACION!A:J,5,0),0)","v":0.52479999999999993},{"$f":"IFERROR(VLOOKUP(A184,EEFF_SITUACION!A:J,10,0),0)","v":0},null,{"$f":"IFERROR(VLOOKUP(A184,EEFF_SITUACION!A:L,12,0),0)","v":"La cuenta Capital inicial, representa el 0,00% del total del Capital, que comparado al periodo anterior genera una variación absoluta de 0 000,00 que corresponde a un Aumento del 0,00% de recursos disponibles."}]
[]
["Cuenta ","Descripción","Nota","Periodo Actual","Periodo Anterior","Diferencia "]
[null,null,null,null,null,"%"]
["3.1.1.02.",{"$f":"IFERROR(VLOOKUP(A188,EEFF_SITUACION!A:E,2,0),\"\")","v":"Incorporaciones al capital"},{"$f":"C180","v":"24"},{"$f":"IFERROR(VLOOKUP(A188,EEFF_SITUACION!A:J,4,0),0)","v":0},{"$f":"IFERROR(VLOOKUP(A188,EEFF_SITUACION!A:J,5,0),0)","v":0},{"$f":"IFERROR(VLOOKUP(A188,EEFF_SITUACION!A:J,10,0),0)","v":0},null,{"$f":"IFERROR(VLOOKUP(A188,EEFF_SITUACION!A:L,12,0),0)","v":"La cuenta Incorporaciones al capital, representa el 0,00% del total del Capital, que comparado al periodo anterior genera una variación absoluta de 0 000,00 que corresponde a un Aumento del 0,00% de recursos disponibles."}]
[]
["Cuenta ","Descripción","Nota","Periodo Actual","Periodo Anterior","Diferencia "]
[null,null,null,null,null,"%"]
["3.1.2.",{"$f":"IFERROR(VLOOKUP(A192,EEFF_SITUACION!A:E,2,0),\"\")","v":"Transferencias de capital"},{"$f":"IFERROR(VLOOKUP(A192,EEFF_SITUACION!A:E,3,0),0)","v":"25"},{"$f":"IFERROR(VLOOKUP(A192,EEFF_SITUACION!A:J,4,0),0)","v":0},{"$f":"IFERROR(VLOOKUP(A192,EEFF_SITUACION!A:J,5,0),0)","v":0},{"$f":"IFERROR(VLOOKUP(A192,EEFF_SITUACION!A:J,10,0),0)","v":0},null,{"$f":"IFERROR(VLOOKUP(A192,EEFF_SITUACION!A:L,12,0),0)","v":"La cuenta Transferencias de capital, representa el 0,00% del total del Capital, que comparado al periodo anterior genera una variación absoluta de 0 000,00 que corresponde a un Aumento del 0,00% de recursos disponibles."}]
[]
["Cuenta ","Descripción","Nota","Periodo Actual","Periodo Anterior","Diferencia "]
[null,null,null,null,null,"%"]
["3.1.3.",{"$f":"IFERROR(VLOOKUP(A196,EEFF_SITUACION!A:E,2,0),\"\")","v":"Reservas"},{"$f":"IFERROR(VLOOKUP(A196,EEFF_SITUACION!A:E,3,0),0)","v":"26"},{"$f":"IFERROR(VLOOKUP(A196,EEFF_SITUACION!A:J,4,0),0)","v":0},{"$f":"IFERROR(VLOOKUP(A196,EEFF_SITUACION!A:J,5,0),0)","v":0},{"$f":"IFERROR(VLOOKUP(A196,EEFF_SITUACION!A:J,10,0),0)","v":0},null,{"$f":"IFERROR(VLOOKUP(A196,EEFF_SITUACION!A:L,12,0),0)","v":"La cuenta Reservas, representa el 0,00% del total del Capital, que comparado al periodo anterior genera una variación absoluta de 0 000,00 que corresponde a un Aumento del 0,00% de recursos disponibles."}]
[]
["Cuenta ","Descripción","Nota","Periodo Actual","Periodo Anterior","Diferencia "]
[null,null,null,null,null,"%"]
["3.1.4.",{"$f":"IFERROR(VLOOKUP(A200,EEFF_SITUACION!A:E,2,0),\"\")","v":"Variaciones no asignables a reservas"},{"$f":"IFERROR(VLOOKUP(A200,EEFF_SITUACION!A:E,3,0),0)","v":"27"},{"$f":"IFERROR(VLOOKUP(A200,EEFF_SITUACION!A:J,4,0),0)","v":0},{"$f":"IFERROR(VLOOKUP(A200,EEFF_SITUACION!A:J,5,0),0)","v":0},{"$f":"IFERROR(VLOOKUP(A200,EEFF_SITUACION!A:J,10,0),0)","v":0},null,{"$f":"IFERROR(VLOOKUP(A200,EEFF_SITUACION!A:L,12,0),0)","v":"La cuenta Variaciones no asignables a reservas, representa el 0,00% del total del Capital, que comparado al periodo anterior genera una variación absoluta de 0 000,00 que corresponde a un Aumento del 0,00% de recursos disponibles."}]
[]
["Cuenta ","Descripción","Nota","Periodo Actual","Periodo Anterior","Diferencia "]
[null,null,null,null,null,"%"]
["3.1.5.",{"$f":"IFERROR(VLOOKUP(A204,EEFF_SITUACION!A:E,2,0),\"\")","v":"Resultados acumulados"},{"$f":"IFERROR(VLOOKUP(A204,EEFF_SITUACION!A:E,3,0),0)","v":"28"},{"$f":"IFERROR(VLOOKUP(A204,EEFF_SITUACION!A:J,4,0),0)","v":166047654.12805},{"$f":"IFERROR(VLOOKUP(A204,EEFF_SITUACION!A:J,5,0),0)","v":164812847.75150001},{"$f":"IFERROR(VLOOKUP(A204,EEFF_SITUACION!A:J,10,0),0)","v":7.4921730520171211E-3},null,{"$f":"IFERROR(VLOOKUP(A204,EEFF_SITUACION!A:L,12,0),0)","v":"La cuenta Resultados acumulados, representa el 100,00% del total del Capital, que comparado al periodo anterior genera una variación absoluta de 1 234 806,38 que corresponde a un Aumento del 0,75% de recursos disponibles."}]
[]
["Cuenta ","Descripción","Nota","Periodo Actual","Periodo Anterior","Diferencia "]
[null,null,null,null,null,"%"]
["3.1.5.01.",{"$f":"IFERROR(VLOOKUP(A208,EEFF_SITUACION!A:E,2,0),\"\")","v":"Resultados acumulados de ejercicios anteriores"},{"$f":"C204","v":"28"},{"$f":"IFERROR(VLOOKUP(A208,EEFF_SITUACION!A:J,4,0),0)","v":164118481.1347},{"$f":"IFERROR(VLOOKUP(A208,EEFF_SITUACION!A:J,5,0),0)","v":163345249.51438001},{"$f":"IFERROR(VLOOKUP(A208,EEFF_SITUACION!A:J,10,0),0)","v":4.7337257901211337E-3},null,{"$f":"IFERROR(VLOOKUP(A208,EEFF_SITUACION!A:L,12,0),0)","v":"La cuenta Resultados acumulados de ejercicios anteriores, representa el 98,84% del total del Capital, que comparado al periodo anterior genera una variación absoluta de 773 231,62 que corresponde a un Aumento del 0,47% de recursos disponibles."}]
[]
["Cuenta ","Descripción","Nota","Periodo Actual","Periodo Anterior","Diferencia "]
[null,null,null,null,null,"%"]
["3.1.5.02.",{"$f":"IFERROR(VLOOKUP(A212,EEFF_SITUACION!A:E,2,0),\"\")","v":"Resultado del ejercicio"},{"$f":"C204","v":"28"},{"$f":"IFERROR(VLOOKUP(A212,EEFF_SITUACION!A:J,4,0),0)","v":1929172.9933499999},{"$f":"IFERROR(VLOOKUP(A212,EEFF_SITUACION!A:J,5,0),0)","v":1467598.2371200004},{"$f":"IFERROR(VLOOKUP(A212,EEFF_SITUACION!A:J,10,0),0)","v":0.31451029618009696},null,{"$f":"IFERROR(VLOOKUP(A212,EEFF_SITUACION!A:L,12,0),0)","v":"La cuenta Resultado del ejercicio, representa el 1,16% del total del Capital, que comparado al periodo anterior genera una variación absoluta de 461 574,76 que corresponde a un Aumento del 31,45% de recursos disponibles."}]
[]
["Cuenta ","Descripción","Nota","Periodo Actual","Periodo Anterior","Diferencia "]
[null,null,null,null,null,"%"]
["3.2.1.",{"$f":"IFERROR(VLOOKUP(A216,EEFF_SITUACION!A:E,2,0),\"\")","v":"Intereses minoritarios - Participaciones en el patrimonio de entidades controladas"},{"$f":"IFERROR(VLOOKUP(A216,EEFF_SITUACION!A:E,3,0),0)","v":"29"},{"$f":"IFERROR(VLOOKUP(A216,EEFF_SITUACION!A:J,4,0),0)","v":0},{"$f":"IFERROR(VLOOKUP(A216,EEFF_SITUACION!A:J,5,0),0)","v":0},{"$f":"IFERROR(VLOOKUP(A216,EEFF_SITUACION!A:J,10,0),0)","v":0},null,{"$f":"IFERROR(VLOOKUP(A216,EEFF_SITUACION!A:L,12,0),0)","v":"La cuenta Intereses minoritarios - Participaciones en el patrimonio de entidades controladas, representa el 0,00% del total del Capital, que comparado al periodo anterior genera una variación absoluta de 0 000,00 que corresponde a un Aumento del 0,00% de recursos disponibles."}]
[]
["Cuenta ","Descripción","Nota","Periodo Actual","Periodo Anterior","Diferencia "]
[null,null,null,null,null,"%"]
["3.2.2.",{"$f":"IFERROR(VLOOKUP(A220,EEFF_SITUACION!A:E,2,0),\"\")","v":"Intereses minoritarios - Evolución"},{"$f":"IFERROR(VLOOKUP(A220,EEFF_SITUACION!A:E,3,0),0)","v":"30"},{"$f":"IFERROR(VLOOKUP(A220,EEFF_SITUACION!A:J,4,0),0)","v":0},{"$f":"IFERROR(VLOOKUP(A220,EEFF_SITUACION!A:J,5,0),0)","v":0},{"$f":"IFERROR(VLOOKUP(A220,EEFF_SITUACION!A:J,10,0),0)","v":0},null,{"$f":"IFERROR(VLOOKUP(A220,EEFF_SITUACION!A:L,12,0),0)","v":"La cuenta Intereses minoritarios - Evolución, representa el 0,00% del total del Capital, que comparado al periodo anterior genera una variación absoluta de 0 000,00 que corresponde a un Aumento del 0,00% de recursos disponibles."}]
[]
[]
[]
["Notas Estado de Rendimiento Financiero Comparativo"]
["INGRESOS"]
[]
[]
["Cuenta ","Descripción","Nota","Periodo Actual","Periodo Anterior","Diferencia "]
[null,null,null,null,null,"%"]
["4.1.1.",{"$f":"IFERROR(VLOOKUP(A230,EEFF_RENDIMIENTOS!A:E,2,0),\"\")","v":"Impuestos sobre los ingresos, las utilidades y las ganancias de capital"},{"$f":"IFERROR(VLOOKUP(A230,EEFF_RENDIMIENTOS!A:E,3,0),0)","v":31},{"$f":"IFERROR(VLOOKUP(A230,EEFF_RENDIMIENTOS!A:J,4,0),0)","v":0},{"$f":"IFERROR(VLOOKUP(A230,EEFF_RENDIMIENTOS!A:J,5,0),0)","v":0},{"$f":"IFERROR(VLOOKUP(A230,EEFF_RENDIMIENTOS!A:J,10,0),0)","v":0},null,{"$f":"IFERROR(VLOOKUP(A230,EEFF_RENDIMIENTOS!A:L,12,0),0)","v":"La cuenta Impuestos sobre los ingresos, las utilidades y las ganancias de capital, representa el 0,00% del total del Ingresos, que comparado al periodo anterior genera una variación absoluta de 0 000,00 que corresponde a un Aumento del 0,00% de recursos disponibles."}]
[]
["Cuenta ","Descripción","Nota","Periodo Actual","Periodo Anterior","Diferencia "]
[null,null,null,null,null,"%"]
["4.1.2.",{"$f":"IFERROR(VLOOKUP(A234,EEFF_RENDIMIENTOS!A:E,2,0),\"\")","v":"Impuestos sobre la propiedad"},{"$f":"IFERROR(VLOOKUP(A234,EEFF_RENDIMIENTOS!A:E,3,0),0)","v":"32"},{"$f":"IFERROR(VLOOKUP(A234,EEFF_RENDIMIENTOS!A:J,4,0),0)","v":328557.65229},{"$f":"IFERROR(VLOOKUP(A234,EEFF_RENDIMIENTOS!A:J,5,0),0)","v":385026.36343999999},{"$f":"IFERROR(VLOOKUP(A234,EEFF_RENDIMIENTOS!A:J,10,0),0)","v":-0.14666193412181686},null,{"$f":"IFERROR(VLOOKUP(A234,EEFF_RENDIMIENTOS!A:L,12,0),0)","v":"La cuenta Impuestos sobre la propiedad, representa el 7,02% del total del Ingresos, que comparado al periodo anterior genera una variación absoluta de -56 468,71 que corresponde a un Disminución del -14,67% de recursos disponibles."}]
[]
["Cuenta ","Descripción","Nota","Periodo Actual","Periodo Anterior","Diferencia "]
[null,null,null,null,null,"%"]
["4.1.3.",{"$f":"IFERROR(VLOOKUP(A238,EEFF_RENDIMIENTOS!A:E,2,0),\"\")","v":"Impuestos sobre bienes y servicios"},{"$f":"IFERROR(VLOOKUP(A238,EEFF_RENDIMIENTOS!A:E,3,0),0)","v":"33"},{"$f":"IFERROR(VLOOKUP(A238,EEFF_RENDIMIENTOS!A:J,4,0),0)","v":190892.85287},{"$f":"IFERROR(VLOOKUP(A238,EEFF_RENDIMIENTOS!A:J,5,0),0)","v":182289.07923},{"$f":"IFERROR(VLOOKUP(A238,EEFF_RENDIMIENTOS!A:J,10,0),0)","v":4.7198513900793479E-2},null,{"$f":"IFERROR(VLOOKUP(A238,EEFF_RENDIMIENTOS!A:L,12,0),0)","v":"La cuenta Impuestos sobre bienes y servicios, representa el 4,08% del total del Ingresos, que comparado al periodo anterior genera una variación absoluta de 8 603,77 que corresponde a un Aumento del 4,72% de recursos disponibles."}]
[]
["Cuenta ","Descripción","Nota","Periodo Actual","Periodo Anterior","Diferencia "]
[null,null,null,null,null,"%"]
["4.1.4.",{"$f":"IFERROR(VLOOKUP(A242,EEFF_RENDIMIENTOS!A:E,2,0),\"\")","v":"Impuestos sobre el comercio exterior y transacciones internacionales"},{"$f":"IFERROR(VLOOKUP(A242,EEFF_RENDIMIENTOS!A:E,3,0),0)","v":"34"},{"$f":"IFERROR(VLOOKUP(A242,EEFF_RENDIMIENTOS!A:J,4,0),0)","v":0},{"$f":"IFERROR(VLOOKUP(A242,EEFF_RENDIMIENTOS!A:J,5,0),0)","v":0},{"$f":"IFERROR(VLOOKUP(A242,EEFF_RENDIMIENTOS!A:J,10,0),0)","v":0},null,{"$f":"IFERROR(VLOOKUP(A242,EEFF_RENDIMIENTOS!A:L,12,0),0)","v":"La cuenta Impuestos sobre el comercio exterior y transacciones internacionales, representa el 0,00% del total del Ingresos, que comparado al periodo anterior genera una variación absoluta de 0 000,00 que corresponde a un Aumento del 0,00% de recursos disponibles."}]
[]
["Cuenta ","Descripción","Nota","Periodo Actual","Periodo Anterior","Diferencia "]
[null,null,null,null,null,"%"]
["4.1.9.",{"$f":"IFERROR(VLOOKUP(A246,EEFF_RENDIMIENTOS!A:E,2,0),\"\")","v":"Otros impuestos"},{"$f":"IFERROR(VLOOKUP(A246,EEFF_RENDIMIENTOS!A:E,3,0),0)","v":"35"},{"$f":"IFERROR(VLOOKUP(A246,EEFF_RENDIMIENTOS!A:J,4,0),0)","v":0},{"$f":"IFERROR(VLOOKUP(A246,EEFF_RENDIMIENTOS!A:J,5,0),0)","v":0},{"$f":"IFERROR(VLOOKUP(A246,EEFF_RENDIMIENTOS!A:J,10,0),0)","v":0},null,{"$f":"IFERROR(VLOOKUP(A246,EEFF_RENDIMIENTOS!A:L,12,0),0)","v":"La cuenta Otros impuestos, representa el 0,00% del total del Ingresos, que comparado al periodo anterior genera una variación absoluta de 0 000,00 que corresponde a un Aumento del 0,00% de recursos disponibles."}]
[]
["Cuenta ","Descripción","Nota","Periodo Actual","Periodo Anterior","Diferencia "]
[null,null,null,null,null,"%"]
["4.2.1.",{"$f":"IFERROR(VLOOKUP(A250,EEFF_RENDIMIENTOS!A:E,2,0),\"\")","v":"Contribuciones a la seguridad social"},{"$f":"IFERROR(VLOOKUP(A250,EEFF_RENDIMIENTOS!A:E,3,0),0)","v":"36"},{"$f":"IFERROR(VLOOKUP(A250,EEFF_RENDIMIENTOS!A:J,4,0),0)","v":0},{"$f":"IFERROR(VLOOKUP(A250,EEFF_RENDIMIENTOS!A:J,5,0),0)","v":0},{"$f":"IFERROR(VLOOKUP(A250,EEFF_RENDIMIENTOS!A:J,10,0),0)","v":0},null,{"$f":"IFERROR(VLOOKUP(A250,EEFF_RENDIMIENTOS!A:L,12,0),0)","v":"La cuenta Contribuciones a la seguridad social, representa el 0,00% del total del Ingresos, que comparado al periodo anterior genera una variación absoluta de 0 000,00 que corresponde a un Aumento del 0,00% de recursos disponibles."}]
[]
["Cuenta ","Descripción","Nota","Periodo Actual","Periodo Anterior","Diferencia "]
[null,null,null,null,null,"%"]
["4.2.9.",{"$f":"IFERROR(VLOOKUP(A254,EEFF_RENDIMIENTOS!A:E,2,0),\"\")","v":"Contribuciones sociales diversas"},{"$f":"IFERROR(VLOOKUP(A254,EEFF_RENDIMIENTOS!A:E,3,0),0)","v":"37"},{"$f":"IFERROR(VLOOKUP(A254,EEFF_RENDIMIENTOS!A:J,4,0),0)","v":0},{"$f":"IFERROR(VLOOKUP(A254,EEFF_RENDIMIENTOS!A:J,5,0),0)","v":0},{"$f":"IFERROR(VLOOKUP(A254,EEFF_RENDIMIENTOS!A:J,10,0),0)","v":0},null,{"$f":"IFERROR(VLOOKUP(A254,EEFF_RENDIMIENTOS!A:L,12,0),0)","v":"La cuenta Contribuciones sociales diversas, representa el 0,00% del total del Ingresos, que comparado al periodo anterior genera una variación absoluta de 0 000,00 que corresponde a un Aumento del 0,00% de recursos disponibles."}]
[]
["Cuenta ","Descripción","Nota","Periodo Actual","Periodo Anterior","Diferencia "]
[null,null,null,null,null,"%"]
["4.3.1.",{"$f":"IFERROR(VLOOKUP(A258,EEFF_RENDIMIENTOS!A:E,2,0),\"\")","v":"Multas y sanciones administrativas"},{"$f":"IFERROR(VLOOKUP(A258,EEFF_RENDIMIENTOS!A:E,3,0),0)","v":"38"},{"$f":"IFERROR(VLOOKUP(A258,EEFF_RENDIMIENTOS!A:J,4,0),0)","v":0},{"$f":"IFERROR(VLOOKUP(A258,EEFF_RENDIMIENTOS!A:J,5,0),0)","v":0},{"$f":"IFERROR(VLOOKUP(A258,EEFF_RENDIMIENTOS!A:J,10,0),0)","v":0},null,{"$f":"IFERROR(VLOOKUP(A258,EEFF_RENDIMIENTOS!A:L,12,0),0)","v":"La cuenta Multas y sanciones administrativas, representa el 0,00% del total del Ingresos, que comparado al periodo anterior genera una variación absoluta de 0 000,00 que corresponde a un Aumento del 0,00% de recursos disponibles."}]
[]
["Cuenta ","Descripción","Nota","Periodo Actual","Periodo Anterior","Diferencia "]
[null,null,null,null,null,"%"]
["4.3.2.",{"$f":"IFERROR(VLOOKUP(A262,EEFF_RENDIMIENTOS!A:E,2,0),\"\")","v":"Remates y confiscaciones de origen no tributario"},{"$f":"IFERROR(VLOOKUP(A262,EEFF_RENDIMIENTOS!A:E,3,0),0)","v":"39"},{"$f":"IFERROR(VLOOKUP(A262,EEFF_RENDIMIENTOS!A:J,4,0),0)","v":0},{"$f":"IFERROR(VLOOKUP(A262,EEFF_RENDIMIENTOS!A:J,5,0),0)","v":0},{"$f":"IFERROR(VLOOKUP(A262,EEFF_RENDIMIENTOS!A:J,10,0),0)","v":0},null,{"$f":"IFERROR(VLOOKUP(A262,EEFF_RENDIMIENTOS!A:L,12,0),0)","v":"La cuenta Remates y confiscaciones de origen no tributario, representa el 0,00% del total del Ingresos, que comparado al periodo anterior genera una variación absoluta de 0 000,00 que corresponde a un Aumento del 0,00% de recursos disponibles."}]
[]
["Cuenta ","Descripción","Nota","Periodo Actual","Periodo Anterior","Diferencia "]
[null,null,null,null,null,"%"]
["4.3.3.",{"$f":"IFERROR(VLOOKUP(A266,EEFF_RENDIMIENTOS!A:E,2,0),\"\")","v":"Intereses Moratorios"},{"$f":"IFERROR(VLOOKUP(A266,EEFF_RENDIMIENTOS!A:E,3,0),0)","v":"40"},{"$f":"IFERROR(VLOOKUP(A266,EEFF_RENDIMIENTOS!A:J,4,0),0)","v":0},{"$f":"IFERROR(VLOOKUP(A266,EEFF_RENDIMIENTOS!A:J,5,0),0)","v":0},{"$f":"IFERROR(VLOOKUP(A266,EEFF_RENDIMIENTOS!A:J,10,0),0)","v":0},null,{"$f":"IFERROR(VLOOKUP(A266,EEFF_RENDIMIENTOS!A:L,12,0),0)","v":"La cuenta Intereses Moratorios, representa el 0,00% del total del Ingresos, que comparado al periodo anterior genera una variación absoluta de 0 000,00 que corresponde a un Aumento del 0,00% de recursos disponibles."}]
[]
["Cuenta ","Descripción","Nota","Periodo Actual","Periodo Anterior","Diferencia "]
[null,null,null,null,null,"%"]
["4.4.1.",{"$f":"IFERROR(VLOOKUP(A270,EEFF_RENDIMIENTOS!A:E,2,0),\"\")","v":"Ventas de bienes y servicios"},{"$f":"IFERROR(VLOOKUP(A270,EEFF_RENDIMIENTOS!A:E,3,0),0)","v":"41"},{"$f":"IFERROR(VLOOKUP(A270,EEFF_RENDIMIENTOS!A:J,4,0),0)","v":346642.69841000001},{"$f":"IFERROR(VLOOKUP(A270,EEFF_RENDIMIENTOS!A:J,5,0),0)","v":218573.69969000001},{"$f":"IFERROR(VLOOKUP(A270,EEFF_RENDIMIENTOS!A:J,10,0),0)","v":0.58593050720026452},null,{"$f":"IFERROR(VLOOKUP(A270,EEFF_RENDIMIENTOS!A:L,12,0),0)","v":"La cuenta Ventas de bienes y servicios, representa el 7,40% del total del Ingresos, que comparado al periodo anterior genera una variación absoluta de 128 069,00 que corresponde a un Aumento del 58,59% de recursos disponibles."}]
[]
["Cuenta ","Descripción","Nota","Periodo Actual","Periodo Anterior","Diferencia "]
[null,null,null,null,null,"%"]
["4.4.2.",{"$f":"IFERROR(VLOOKUP(A274,EEFF_RENDIMIENTOS!A:E,2,0),\"\")","v":"Derechos administrativos"},{"$f":"IFERROR(VLOOKUP(A274,EEFF_RENDIMIENTOS!A:E,3,0),0)","v":"42"},{"$f":"IFERROR(VLOOKUP(A274,EEFF_RENDIMIENTOS!A:J,4,0),0)","v":368.93333000000001},{"$f":"IFERROR(VLOOKUP(A274,EEFF_RENDIMIENTOS!A:J,5,0),0)","v":338},{"$f":"IFERROR(VLOOKUP(A274,EEFF_RENDIMIENTOS!A:J,10,0),0)","v":9.1518727810650929E-2},null,{"$f":"IFERROR(VLOOKUP(A274,EEFF_RENDIMIENTOS!A:L,12,0),0)","v":"La cuenta Derechos administrativos, representa el 0,01% del total del Ingresos, que comparado al periodo anterior genera una variación absoluta de 0 030,93 que corresponde a un Aumento del 9,15% de recursos disponibles."}]
[]
["Cuenta ","Descripción","Nota","Periodo Actual","Periodo Anterior","Diferencia "]
[null,null,null,null,null,"%"]
["4.4.3.",{"$f":"IFERROR(VLOOKUP(A278,EEFF_RENDIMIENTOS!A:E,2,0),\"\")","v":"Comisiones por préstamos"},{"$f":"IFERROR(VLOOKUP(A278,EEFF_RENDIMIENTOS!A:E,3,0),0)","v":"43"},{"$f":"IFERROR(VLOOKUP(A278,EEFF_RENDIMIENTOS!A:J,4,0),0)","v":0},{"$f":"IFERROR(VLOOKUP(A278,EEFF_RENDIMIENTOS!A:J,5,0),0)","v":0},{"$f":"IFERROR(VLOOKUP(A278,EEFF_RENDIMIENTOS!A:J,10,0),0)","v":0},null,{"$f":"IFERROR(VLOOKUP(A278,EEFF_RENDIMIENTOS!A:L,12,0),0)","v":"La cuenta Comisiones por préstamos, representa el 0,00% del total del Ingresos, que comparado al periodo anterior genera una variación absoluta de 0 000,00 que corresponde a un Aumento del 0,00% de recursos disponibles."}]
[]
["Cuenta ","Descripción","Nota","Periodo Actual","Periodo Anterior","Diferencia "]
[null,null,null,null,null,"%"]
["4.4.4.",{"$f":"IFERROR(VLOOKUP(A282,EEFF_RENDIMIENTOS!A:E,2,0),\"\")","v":"Resultados positivos por ventas de inversiones"},{"$f":"IFERROR(VLOOKUP(A282,EEFF_RENDIMIENTOS!A:E,3,0),0)","v":"44"},{"$f":"IFERROR(VLOOKUP(A282,EEFF_RENDIMIENTOS!A:J,4,0),0)","v":0},{"$f":"IFERROR(VLOOKUP(A282,EEFF_RENDIMIENTOS!A:J,5,0),0)","v":0},{"$f":"IFERROR(VLOOKUP(A282,EEFF_RENDIMIENTOS!A:J,10,0),0)","v":0},null,{"$f":"IFERROR(VLOOKUP(A282,EEFF_RENDIMIENTOS!A:L,12,0),0)","v":"La cuenta Resultados positivos por ventas de inversiones, representa el 0,00% del total del Ingresos, que comparado al periodo anterior genera una variación absoluta de 0 000,00 que corresponde a un Aumento del 0,00% de recursos disponibles."}]
[]
["Cuenta ","Descripción","Nota","Periodo Actual","Periodo Anterior","Diferencia "]
[null,null,null,null,null,"%"]
["4.4.5.",{"$f":"IFERROR(VLOOKUP(A286,EEFF_RENDIMIENTOS!A:E,2,0),\"\")","v":"Resultados positivos por ventas e intercambio de bienes"},{"$f":"IFERROR(VLOOKUP(A286,EEFF_RENDIMIENTOS!A:E,3,0),0)","v":"45"},{"$f":"IFERROR(VLOOKUP(A286,EEFF_RENDIMIENTOS!A:J,4,0),0)","v":0},{"$f":"IFERROR(VLOOKUP(A286,EEFF_RENDIMIENTOS!A:J,5,0),0)","v":0},{"$f":"IFERROR(VLOOKUP(A286,EEFF_RENDIMIENTOS!A:J,10,0),0)","v":0},null,{"$f":"IFERROR(VLOOKUP(A286,EEFF_RENDIMIENTOS!A:L,12,0),0)","v":"La cuenta Resultados positivos por ventas e intercambio de bienes, representa el 0,00% del total del Ingresos, que comparado al periodo anterior genera una variación absoluta de 0 000,00 que corresponde a un Aumento del 0,00% de recursos disponibles."}]
[]
["Cuenta ","Descripción","Nota","Periodo Actual","Periodo Anterior","Diferencia "]
[null,null,null,null,null,"%"]
["4.4.6.",{"$f":"IFERROR(VLOOKUP(A290,EEFF_RENDIMIENTOS!A:E,2,0),\"\")","v":"Resultados positivos por la recuperación de dinero mal acreditado de periodos anteriores"},{"$f":"IFERROR(VLOOKUP(A290,EEFF_RENDIMIENTOS!A:E,3,0),0)","v":"46"},{"$f":"IFERROR(VLOOKUP(A290,EEFF_RENDIMIENTOS!A:J,4,0),0)","v":0},{"$f":"IFERROR(VLOOKUP(A290,EEFF_RENDIMIENTOS!A:J,5,0),0)","v":0},{"$f":"IFERROR(VLOOKUP(A290,EEFF_RENDIMIENTOS!A:J,10,0),0)","v":0},null,{"$f":"IFERROR(VLOOKUP(A290,EEFF_RENDIMIENTOS!A:L,12,0),0)","v":"La cuenta Resultados positivos por la recuperación de dinero mal acreditado de periodos anteriores, representa el 0,00% del total del Ingresos, que comparado al periodo anterior genera una variación absoluta de 0 000,00 que corresponde a un Aumento del 0,00% de recursos disponibles."}]
[]
["Cuenta ","Descripción","Nota","Periodo Actual","Periodo Anterior","Diferencia "]
[null,null,null,null,null,"%"]
["4.5.1.",{"$f":"IFERROR(VLOOKUP(A294,EEFF_RENDIMIENTOS!A:E,2,0),\"\")","v":"Rentas de inversiones y de colocación de efectivo"},{"$f":"IFERROR(VLOOKUP(A294,EEFF_RENDIMIENTOS!A:E,3,0),0)","v":"47"},{"$f":"IFERROR(VLOOKUP(A294,EEFF_RENDIMIENTOS!A:J,4,0),0)","v":10732.52867},{"$f":"IFERROR(VLOOKUP(A294,EEFF_RENDIMIENTOS!A:J,5,0),0)","v":13009.264799999999},{"$f":"IFERROR(VLOOKUP(A294,EEFF_RENDIMIENTOS!A:J,10,0),0)","v":-0.17500882371154436},null,{"$f":"IFERROR(VLOOKUP(A294,EEFF_RENDIMIENTOS!A:L,12,0),0)","v":"La cuenta Rentas de inversiones y de colocación de efectivo, representa el 0,23% del total del Ingresos, que comparado al periodo anterior genera una variación absoluta de -2 276,74 que corresponde a un Disminución del -17,50% de recursos disponibles."}]
[]
["Cuenta ","Descripción","Nota","Periodo Actual","Periodo Anterior","Diferencia "]
[null,null,null,null,null,"%"]
["4.5.2.",{"$f":"IFERROR(VLOOKUP(A298,EEFF_RENDIMIENTOS!A:E,2,0),\"\")","v":"Alquileres y derechos sobre bienes"},{"$f":"IFERROR(VLOOKUP(A298,EEFF_RENDIMIENTOS!A:E,3,0),0)","v":"48"},{"$f":"IFERROR(VLOOKUP(A298,EEFF_RENDIMIENTOS!A:J,4,0),0)","v":21544.069079999997},{"$f":"IFERROR(VLOOKUP(A298,EEFF_RENDIMIENTOS!A:J,5,0),0)","v":20960.346239999999},{"$f":"IFERROR(VLOOKUP(A298,EEFF_RENDIMIENTOS!A:J,10,0),0)","v":2.7848912098887093E-2},null,{"$f":"IFERROR(VLOOKUP(A298,EEFF_RENDIMIENTOS!A:L,12,0),0)","v":"La cuenta Alquileres y derechos sobre bienes, representa el 0,46% del total del Ingresos, que comparado al periodo anterior genera una variación absoluta de 0 583,72 que corresponde a un Aumento del 2,78% de recursos disponibles."}]
[]
["Cuenta ","Descripción","Nota","Periodo Actual","Periodo Anterior","Diferencia "]
[null,null,null,null,null,"%"]
["4.5.2.01.",{"$f":"IFERROR(VLOOKUP(A302,EEFF_RENDIMIENTOS!A:E,2,0),\"\")","v":"Alquileres"},{"$f":"C298","v":"48"},{"$f":"IFERROR(VLOOKUP(A302,EEFF_RENDIMIENTOS!A:J,4,0),0)","v":21544.069079999997},{"$f":"IFERROR(VLOOKUP(A302,EEFF_RENDIMIENTOS!A:J,5,0),0)","v":20960.346239999999},{"$f":"IFERROR(VLOOKUP(A302,EEFF_RENDIMIENTOS!A:J,10,0),0)","v":2.7848912098887093E-2},null,{"$f":"IFERROR(VLOOKUP(A302,EEFF_RENDIMIENTOS!A:L,12,0),0)","v":"La cuenta Alquileres, representa el 0,46% del total del Ingresos, que comparado al periodo anterior genera una variación absoluta de 0 583,72 que corresponde a un Aumento del 2,78% de recursos disponibles."}]
[]
["Cuenta ","Descripción","Nota","Periodo Actual","Periodo Anterior","Diferencia "]
[null,null,null,null,null,"%"]
["4.5.9.",{"$f":"IFERROR(VLOOKUP(A306,EEFF_RENDIMIENTOS!A:E,2,0),\"\")","v":"Otros ingresos de la propiedad"},{"$f":"IFERROR(VLOOKUP(A306,EEFF_RENDIMIENTOS!A:E,3,0),0)","v":"49"},{"$f":"IFERROR(VLOOKUP(A306,EEFF_RENDIMIENTOS!A:J,4,0),0)","v":0},{"$f":"IFERROR(VLOOKUP(A306,EEFF_RENDIMIENTOS!A:J,5,0),0)","v":0},{"$f":"IFERROR(VLOOKUP(A306,EEFF_RENDIMIENTOS!A:J,10,0),0)","v":0},null,{"$f":"IFERROR(VLOOKUP(A306,EEFF_RENDIMIENTOS!A:L,12,0),0)","v":"La cuenta Otros ingresos de la propiedad, representa el 0,00% del total del Ingresos, que comparado al periodo anterior genera una variación absoluta de 0 000,00 que corresponde a un Aumento del 0,00% de recursos disponibles."}]
[]
["Cuenta ","Descripción","Nota","Periodo Actual","Periodo Anterior","Diferencia "]
[null,null,null,null,null,"%"]
["4.6.1.",{"$f":"IFERROR(VLOOKUP(A310,EEFF_RENDIMIENTOS!A:E,2,0),\"\")","v":"Transferencias corrientes"},{"$f":"IFERROR(VLOOKUP(A310,EEFF_RENDIMIENTOS!A:E,3,0),0)","v":"50"},{"$f":"IFERROR(VLOOKUP(A310,EEFF_RENDIMIENTOS!A:J,4,0),0)","v":11322.83007},{"$f":"IFERROR(VLOOKUP(A310,EEFF_RENDIMIENTOS!A:J,5,0),0)","v":11962.125779999998},{"$f":"IFERROR(VLOOKUP(A310,EEFF_RENDIMIENTOS!A:J,10,0),0)","v":-5.3443319503366615E-2},null,{"$f":"IFERROR(VLOOKUP(A310,EEFF_RENDIMIENTOS!A:L,12,0),0)","v":"La cuenta Transferencias corrientes, representa el 0,24% del total del Ingresos, que comparado al periodo anterior genera una variación absoluta de -0 639,30 que corresponde a un Disminución del -5,34% de recursos disponibles."}]
[]
["Cuenta ","Descripción","Nota","Periodo Actual","Periodo Anterior","Diferencia "]
[null,null,null,null,null,"%"]
["4.6.2.",{"$f":"IFERROR(VLOOKUP(A314,EEFF_RENDIMIENTOS!A:E,2,0),\"\")","v":"Transferencias de capital"},{"$f":"IFERROR(VLOOKUP(A314,EEFF_RENDIMIENTOS!A:E,3,0),0)","v":"51"},{"$f":"IFERROR(VLOOKUP(A314,EEFF_RENDIMIENTOS!A:J,4,0),0)","v":3772816.719},{"$f":"IFERROR(VLOOKUP(A314,EEFF_RENDIMIENTOS!A:J,5,0),0)","v":3799661.7280000001},{"$f":"IFERROR(VLOOKUP(A314,EEFF_RENDIMIENTOS!A:J,10,0),0)","v":-7.0651049808400411E-3},null,{"$f":"IFERROR(VLOOKUP(A314,EEFF_RENDIMIENTOS!A:L,12,0),0)","v":"La cuenta Transferencias de capital, representa el 80,56% del total del Ingresos, que comparado al periodo anterior genera una variación absoluta de -26 845,01 que corresponde a un Disminución del -0,71% de recursos disponibles."}]
[]
["Cuenta ","Descripción","Nota","Periodo Actual","Periodo Anterior","Diferencia "]
[null,null,null,null,null,"%"]
["4.9.1.",{"$f":"IFERROR(VLOOKUP(A318,EEFF_RENDIMIENTOS!A:E,2,0),\"\")","v":"Resultados positivos por tenencia y por exposición a la inflación"},{"$f":"IFERROR(VLOOKUP(A318,EEFF_RENDIMIENTOS!A:E,3,0),0)","v":"52"},{"$f":"IFERROR(VLOOKUP(A318,EEFF_RENDIMIENTOS!A:J,4,0),0)","v":0},{"$f":"IFERROR(VLOOKUP(A318,EEFF_RENDIMIENTOS!A:J,5,0),0)","v":0},{"$f":"IFERROR(VLOOKUP(A318,EEFF_RENDIMIENTOS!A:J,10,0),0)","v":0},null,{"$f":"IFERROR(VLOOKUP(A318,EEFF_RENDIMIENTOS!A:L,12,0),0)","v":"La cuenta Resultados positivos por tenencia y por exposición a la inflación, representa el 0,00% del total del Ingresos, que comparado al periodo anterior genera una variación absoluta de 0 000,00 que corresponde a un Aumento del 0,00% de recursos disponibles."}]
[]
["Cuenta ","Descripción","Nota","Periodo Actual","Periodo Anterior","Diferencia "]
[null,null,null,null,null,"%"]
["4.9.2.",{"$f":"IFERROR(VLOOKUP(A322,EEFF_RENDIMIENTOS!A:E,2,0),\"\")","v":"Reversión de consumo de bienes"},{"$f":"IFERROR(VLOOKUP(A322,EEFF_RENDIMIENTOS!A:E,3,0),0)","v":"53"},{"$f":"IFERROR(VLOOKUP(A322,EEFF_RENDIMIENTOS!A:J,4,0),0)","v":0},{"$f":"IFERROR(VLOOKUP(A322,EEFF_RENDIMIENTOS!A:J,5,0),0)","v":0},{"$f":"IFERROR(VLOOKUP(A322,EEFF_RENDIMIENTOS!A:J,10,0),0)","v":0},null,{"$f":"IFERROR(VLOOKUP(A322,EEFF_RENDIMIENTOS!A:L,12,0),0)","v":"La cuenta Reversión de consumo de bienes, representa el 0,00% del total del Ingresos, que comparado al periodo anterior genera una variación absoluta de 0 000,00 que corresponde a un Aumento del 0,00% de recursos disponibles."}]
[]
["Cuenta ","Descripción","Nota","Periodo Actual","Periodo Anterior","Diferencia "]
[null,null,null,null,null,"%"]
["4.9.3.",{"$f":"IFERROR(VLOOKUP(A326,EEFF_RENDIMIENTOS!A:E,2,0),\"\")","v":"Reversión de pérdidas por deterioro y desvalorización de bienes"},{"$f":"IFERROR(VLOOKUP(A326,EEFF_RENDIMIENTOS!A:E,3,0),0)","v":"54"},{"$f":"IFERROR(VLOOKUP(A326,EEFF_RENDIMIENTOS!A:J,4,0),0)","v":0},{"$f":"IFERROR(VLOOKUP(A326,EEFF_RENDIMIENTOS!A:J,5,0),0)","v":0},{"$f":"IFERROR(VLOOKUP(A326,EEFF_RENDIMIENTOS!A:J,10,0),0)","v":0},null,{"$f":"IFERROR(VLOOKUP(A326,EEFF_RENDIMIENTOS!A:L,12,0),0)","v":"La cuenta Reversión de pérdidas por deterioro y desvalorización de bienes, representa el 0,00% del total del Ingresos, que comparado al periodo anterior genera una variación absoluta de 0 000,00 que corresponde a un Aumento del 0,00% de recursos disponibles."}]
[]
["Cuenta ","Descripción","Nota","Periodo Actual","Periodo Anterior","Diferencia "]
[null,null,null,null,null,"%"]
["4.9.4.",{"$f":"IFERROR(VLOOKUP(A330,EEFF_RENDIMIENTOS!A:E,2,0),\"\")","v":"Recuperación de previsiones"},{"$f":"IFERROR(VLOOKUP(A330,EEFF_RENDIMIENTOS!A:E,3,0),0)","v":"55"},{"$f":"IFERROR(VLOOKUP(A330,EEFF_RENDIMIENTOS!A:J,4,0),0)","v":0},{"$f":"IFERROR(VLOOKUP(A330,EEFF_RENDIMIENTOS!A:J,5,0),0)","v":0},{"$f":"IFERROR(VLOOKUP(A330,EEFF_RENDIMIENTOS!A:J,10,0),0)","v":0},null,{"$f":"IFERROR(VLOOKUP(A330,EEFF_RENDIMIENTOS!A:L,12,0),0)","v":"La cuenta Recuperación de previsiones, representa el 0,00% del total del Ingresos, que comparado al periodo anterior genera una variación absoluta de 0 000,00 que corresponde a un Aumento del 0,00% de recursos disponibles."}]
[]
["Cuenta ","Descripción","Nota","Periodo Actual","Periodo Anterior","Diferencia "]
[null,null,null,null,null,"%"]
["4.9.5.",{"$f":"IFERROR(VLOOKUP(A334,EEFF_RENDIMIENTOS!A:E,2,0),\"\")","v":"Recuperación de provisiones y reservas técnicas"},{"$f":"IFERROR(VLOOKUP(A334,EEFF_RENDIMIENTOS!A:E,3,0),0)","v":"56"},{"$f":"IFERROR(VLOOKUP(A334,EEFF_RENDIMIENTOS!A:J,4,0),0)","v":0},{"$f":"IFERROR(VLOOKUP(A334,EEFF_RENDIMIENTOS!A:J,5,0),0)","v":0},{"$f":"IFERROR(VLOOKUP(A334,EEFF_RENDIMIENTOS!A:J,10,0),0)","v":0},null,{"$f":"IFERROR(VLOOKUP(A334,EEFF_RENDIMIENTOS!A:L,12,0),0)","v":"La cuenta Recuperación de provisiones y reservas técnicas, representa el 0,00% del total del Ingresos, que comparado al periodo anterior genera una variación absoluta de 0 000,00 que corresponde a un Aumento del 0,00% de recursos disponibles."}]
[]
["Cuenta ","Descripción","Nota","Periodo Actual","Periodo Anterior","Diferencia "]
[null,null,null,null,null,"%"]
["4.9.6.",{"$f":"IFERROR(VLOOKUP(A338,EEFF_RENDIMIENTOS!A:E,2,0),\"\")","v":"Resultados positivos de inversiones patrimoniales y participación de los intereses minoritarios"},{"$f":"IFERROR(VLOOKUP(A338,EEFF_RENDIMIENTOS!A:E,3,0),0)","v":"57"},{"$f":"IFERROR(VLOOKUP(A338,EEFF_RENDIMIENTOS!A:J,4,0),0)","v":0},{"$f":"IFERROR(VLOOKUP(A338,EEFF_RENDIMIENTOS!A:J,5,0),0)","v":0},{"$f":"IFERROR(VLOOKUP(A338,EEFF_RENDIMIENTOS!A:J,10,0),0)","v":0},null,{"$f":"IFERROR(VLOOKUP(A338,EEFF_RENDIMIENTOS!A:L,12,0),0)","v":"La cuenta Resultados positivos de inversiones patrimoniales y participación de los intereses minoritarios, representa el 0,00% del total del Ingresos, que comparado al periodo anterior genera una variación absoluta de 0 000,00 que corresponde a un Aumento del 0,00% de recursos disponibles."}]
[]
["Cuenta ","Descripción","Nota","Periodo Actual","Periodo Anterior","Diferencia "]
[null,null,null,null,null,"%"]
["4.9.9.",{"$f":"IFERROR(VLOOKUP(A342,EEFF_RENDIMIENTOS!A:E,2,0),\"\")","v":"Otros ingresos y resultados positivos"},{"$f":"IFERROR(VLOOKUP(A342,EEFF_RENDIMIENTOS!A:E,3,0),0)","v":"58"},{"$f":"IFERROR(VLOOKUP(A342,EEFF_RENDIMIENTOS!A:J,4,0),0)","v":153.47015999999999},{"$f":"IFERROR(VLOOKUP(A342,EEFF_RENDIMIENTOS!A:J,5,0),0)","v":270.91465999999997},{"$f":"IFERROR(VLOOKUP(A342,EEFF_RENDIMIENTOS!A:J,10,0),0)","v":-0.43351105473583451},null,{"$f":"IFERROR(VLOOKUP(A342,EEFF_RENDIMIENTOS!A:L,12,0),0)","v":"La cuenta Otros ingresos y resultados positivos, representa el 0,00% del total del Ingresos, que comparado al periodo anterior genera una variación absoluta de -0 117,44 que corresponde a un Disminución del -43,35% de recursos disponibles."}]
[]
[]
["GASTOS"]
[]
["Cuenta ","Descripción","Nota","Periodo Actual","Periodo Anterior","Diferencia "]
[null,null,null,null,null,"%"]
["5.1.1.",{"$f":"IFERROR(VLOOKUP(A349,EEFF_RENDIMIENTOS!A:E,2,0),\"\")","v":"Gastos en personal"},{"$f":"IFERROR(VLOOKUP(A349,EEFF_RENDIMIENTOS!A:E,3,0),0)","v":"59"},{"$f":"IFERROR(VLOOKUP(A349,EEFF_RENDIMIENTOS!A:J,4,0),0)","v":753404.4540400001},{"$f":"IFERROR(VLOOKUP(A349,EEFF_RENDIMIENTOS!A:J,5,0),0)","v":675149.91631},{"$f":"IFERROR(VLOOKUP(A349,EEFF_RENDIMIENTOS!A:J,10,0),0)","v":0.11590690576945722},null,{"$f":"IFERROR(VLOOKUP(A349,EEFF_RENDIMIENTOS!A:L,12,0),0)","v":"La cuenta Gastos en personal, representa el 27,36% del total del Gastos, que comparado al periodo anterior genera una variación absoluta de 78 254,54 que corresponde a un Aumento del 11,59% de recursos disponibles."}]
[]
["Cuenta ","Descripción","Nota","Periodo Actual","Periodo Anterior","Diferencia "]
[null,null,null,null,null,"%"]
["5.1.2.",{"$f":"IFERROR(VLOOKUP(A353,EEFF_RENDIMIENTOS!A:E,2,0),\"\")","v":"Servicios"},{"$f":"IFERROR(VLOOKUP(A353,EEFF_RENDIMIENTOS!A:E,3,0),0)","v":"60"},{"$f":"IFERROR(VLOOKUP(A353,EEFF_RENDIMIENTOS!A:J,4,0),0)","v":1430106.5490599999},{"$f":"IFERROR(VLOOKUP(A353,EEFF_RENDIMIENTOS!A:J,5,0),0)","v":1905864.2449599998},{"$f":"IFERROR(VLOOKUP(A353,EEFF_RENDIMIENTOS!A:J,10,0),0)","v":-0.24962832329643977},null,{"$f":"IFERROR(VLOOKUP(A353,EEFF_RENDIMIENTOS!A:L,12,0),0)","v":"La cuenta Servicios, representa el 51,93% del total del Gastos, que comparado al periodo anterior genera una variación absoluta de -475 757,70 que corresponde a un Disminución del -24,96% de recursos disponibles."}]
[]
["Cuenta ","Descripción","Nota","Periodo Actual","Periodo Anterior","Diferencia "]
[null,null,null,null,null,"%"]
["5.1.2.01.",{"$f":"IFERROR(VLOOKUP(A357,EEFF_RENDIMIENTOS!A:E,2,0),\"\")","v":"Alquileres y derechos sobre bienes"},{"$f":"C353","v":"60"},{"$f":"IFERROR(VLOOKUP(A357,EEFF_RENDIMIENTOS!A:J,4,0),0)","v":79312.638630000001},{"$f":"IFERROR(VLOOKUP(A357,EEFF_RENDIMIENTOS!A:J,5,0),0)","v":107134.45126},{"$f":"IFERROR(VLOOKUP(A357,EEFF_RENDIMIENTOS!A:J,10,0),0)","v":-0.25969062521709696},null,{"$f":"IFERROR(VLOOKUP(A357,EEFF_RENDIMIENTOS!A:L,12,0),0)","v":"La cuenta Alquileres y derechos sobre bienes, representa el 2,88% del total del Gastos, que comparado al periodo anterior genera una variación absoluta de -27 821,81 que corresponde a un Disminución del -25,97% de recursos disponibles."}]
[]
["Cuenta ","Descripción","Nota","Periodo Actual","Periodo Anterior","Diferencia "]
[null,null,null,null,null,"%"]
["5.1.3.",{"$f":"IFERROR(VLOOKUP(A361,EEFF_RENDIMIENTOS!A:E,2,0),\"\")","v":"Materiales y suministros consumidos"},{"$f":"IFERROR(VLOOKUP(A361,EEFF_RENDIMIENTOS!A:E,3,0),0)","v":"61"},{"$f":"IFERROR(VLOOKUP(A361,EEFF_RENDIMIENTOS!A:J,4,0),0)","v":289260.24393},{"$f":"IFERROR(VLOOKUP(A361,EEFF_RENDIMIENTOS!A:J,5,0),0)","v":259761.79598999996},{"$f":"IFERROR(VLOOKUP(A361,EEFF_RENDIMIENTOS!A:J,10,0),0)","v":0.11355960882383044},null,{"$f":"IFERROR(VLOOKUP(A361,EEFF_RENDIMIENTOS!A:L,12,0),0)","v":"La cuenta Materiales y suministros consumidos, representa el 10,50% del total del Gastos, que comparado al periodo anterior genera una variación absoluta de 29 498,45 que corresponde a un Aumento del 11,36% de recursos disponibles."}]
[]
["Cuenta ","Descripción","Nota","Periodo Actual","Periodo Anterior","Diferencia "]
[null,null,null,null,null,"%"]
["5.1.4.",{"$f":"IFERROR(VLOOKUP(A365,EEFF_RENDIMIENTOS!A:E,2,0),\"\")","v":"Consumo de bienes distintos de inventarios"},{"$f":"IFERROR(VLOOKUP(A365,EEFF_RENDIMIENTOS!A:E,3,0),0)","v":"62"},{"$f":"IFERROR(VLOOKUP(A365,EEFF_RENDIMIENTOS!A:J,4,0),0)","v":104440.80535},{"$f":"IFERROR(VLOOKUP(A365,EEFF_RENDIMIENTOS!A:J,5,0),0)","v":196608.41191},{"$f":"IFERROR(VLOOKUP(A365,EEFF_RENDIMIENTOS!A:J,10,0),0)","v":-0.46878770681587567},null,{"$f":"IFERROR(VLOOKUP(A365,EEFF_RENDIMIENTOS!A:L,12,0),0)","v":"La cuenta Consumo de bienes distintos de inventarios, representa el 3,79% del total del Gastos, que comparado al periodo anterior genera una variación absoluta de -92 167,61 que corresponde a un Disminución del -46,88% de recursos disponibles."}]
[]
["Cuenta ","Descripción","Nota","Periodo Actual","Periodo Anterior","Diferencia "]
[null,null,null,null,null,"%"]
["5.1.5.",{"$f":"IFERROR(VLOOKUP(A369,EEFF_RENDIMIENTOS!A:E,2,0),\"\")","v":"Pérdidas por deterioro y desvalorización de bienes "},{"$f":"IFERROR(VLOOKUP(A369,EEFF_RENDIMIENTOS!A:E,3,0),0)","v":"63"},{"$f":"IFERROR(VLOOKUP(A369,EEFF_RENDIMIENTOS!A:J,4,0),0)","v":0},{"$f":"IFERROR(VLOOKUP(A369,EEFF_RENDIMIENTOS!A:J,5,0),0)","v":0},{"$f":"IFERROR(VLOOKUP(A369,EEFF_RENDIMIENTOS!A:J,10,0),0)","v":0},null,{"$f":"IFERROR(VLOOKUP(A369,EEFF_RENDIMIENTOS!A:L,12,0),0)","v":"La cuenta Pérdidas por deterioro y desvalorización de bienes , representa el 0,00% del total del Gastos, que comparado al periodo anterior genera una variación absoluta de 0 000,00 que corresponde a un Aumento del 0,00% de recursos disponibles."}]
[]
["Cuenta ","Descripción","Nota","Periodo Actual","Periodo Anterior","Diferencia "]
[null,null,null,null,null,"%"]
["5.1.6.",{"$f":"IFERROR(VLOOKUP(A373,EEFF_RENDIMIENTOS!A:E,2,0),\"\")","v":"Deterioro y pérdidas de inventarios"},{"$f":"IFERROR(VLOOKUP(A373,EEFF_RENDIMIENTOS!A:E,3,0),0)","v":"64"},{"$f":"IFERROR(VLOOKUP(A373,EEFF_RENDIMIENTOS!A:J,4,0),0)","v":0},{"$f":"IFERROR(VLOOKUP(A373,EEFF_RENDIMIENTOS!A:J,5,0),0)","v":0},{"$f":"IFERROR(VLOOKUP(A373,EEFF_RENDIMIENTOS!A:J,10,0),0)","v":0},null,{"$f":"IFERROR(VLOOKUP(A373,EEFF_RENDIMIENTOS!A:L,12,0),0)","v":"La cuenta Deterioro y pérdidas de inventarios, representa el 0,00% del total del Gastos, que comparado al periodo anterior genera una variación absoluta de 0 000,00 que corresponde a un Aumento del 0,00% de recursos disponibles."}]
[]
["Cuenta ","Descripción","Nota","Periodo Actual","Periodo Anterior","Diferencia "]
[null,null,null,null,null,"%"]
["5.1.7.",{"$f":"IFERROR(VLOOKUP(A377,EEFF_RENDIMIENTOS!A:E,2,0),\"\")","v":"Deterioro de inversiones y cuentas a cobrar"},{"$f":"IFERROR(VLOOKUP(A377,EEFF_RENDIMIENTOS!A:E,3,0),0)","v":"65"},{"$f":"IFERROR(VLOOKUP(A377,EEFF_RENDIMIENTOS!A:J,4,0),0)","v":0},{"$f":"IFERROR(VLOOKUP(A377,EEFF_RENDIMIENTOS!A:J,5,0),0)","v":0},{"$f":"IFERROR(VLOOKUP(A377,EEFF_RENDIMIENTOS!A:J,10,0),0)","v":0},null,{"$f":"IFERROR(VLOOKUP(A377,EEFF_RENDIMIENTOS!A:L,12,0),0)","v":"La cuenta Deterioro de inversiones y cuentas a cobrar, representa el 0,00% del total del Gastos, que comparado al periodo anterior genera una variación absoluta de 0 000,00 que corresponde a un Aumento del 0,00% de recursos disponibles."}]
[]
["Cuenta ","Descripción","Nota","Periodo Actual","Periodo Anterior","Diferencia "]
[null,null,null,null,null,"%"]
["5.1.8.",{"$f":"IFERROR(VLOOKUP(A381,EEFF_RENDIMIENTOS!A:E,2,0),\"\")","v":"Cargos por provisiones y reservas técnicas"},{"$f":"IFERROR(VLOOKUP(A381,EEFF_RENDIMIENTOS!A:E,3,0),0)","v":"66"},{"$f":"IFERROR(VLOOKUP(A381,EEFF_RENDIMIENTOS!A:J,4,0),0)","v":0},{"$f":"IFERROR(VLOOKUP(A381,EEFF_RENDIMIENTOS!A:J,5,0),0)","v":181.5},{"$f":"IFERROR(VLOOKUP(A381,EEFF_RENDIMIENTOS!A:J,10,0),0)","v":-1},null,{"$f":"IFERROR(VLOOKUP(A381,EEFF_RENDIMIENTOS!A:L,12,0),0)","v":"La cuenta Cargos por provisiones y reservas técnicas, representa el 0,00% del total del Gastos, que comparado al periodo anterior genera una variación absoluta de -0 181,50 que corresponde a un Disminución del -100,00% de recursos disponibles."}]
[]
["Cuenta ","Descripción","Nota","Periodo Actual","Periodo Anterior","Diferencia "]
[null,null,null,null,null,"%"]
["5.1.8.01.",{"$f":"IFERROR(VLOOKUP(A385,EEFF_RENDIMIENTOS!A:E,2,0),\"\")","v":"Cargos por litigios y demandas"},{"$f":"C381","v":"66"},{"$f":"IFERROR(VLOOKUP(A385,EEFF_RENDIMIENTOS!A:J,4,0),0)","v":0},{"$f":"IFERROR(VLOOKUP(A385,EEFF_RENDIMIENTOS!A:J,5,0),0)","v":181.5},{"$f":"IFERROR(VLOOKUP(A385,EEFF_RENDIMIENTOS!A:J,10,0),0)","v":-1},null,{"$f":"IFERROR(VLOOKUP(A385,EEFF_RENDIMIENTOS!A:L,12,0),0)","v":"La cuenta Cargos por litigios y demandas, representa el 0,00% del total del Gastos, que comparado al periodo anterior genera una variación absoluta de -0 181,50 que corresponde a un Disminución del -100,00% de recursos disponibles."}]
[]
["Cuenta ","Descripción","Nota","Periodo Actual","Periodo Anterior","Diferencia "]
[null,null,null,null,null,"%"]
["5.2.1.",{"$f":"IFERROR(VLOOKUP(A389,EEFF_RENDIMIENTOS!A:E,2,0),\"\")","v":"Intereses sobre endeudamiento público"},{"$f":"IFERROR(VLOOKUP(A389,EEFF_RENDIMIENTOS!A:E,3,0),0)","v":"67"},{"$f":"IFERROR(VLOOKUP(A389,EEFF_RENDIMIENTOS!A:J,4,0),0)","v":54399.29999},{"$f":"IFERROR(VLOOKUP(A389,EEFF_RENDIMIENTOS!A:J,5,0),0)","v":56507.799619999998},{"$f":"IFERROR(VLOOKUP(A389,EEFF_RENDIMIENTOS!A:J,10,0),0)","v":-3.731342653897516E-2},null,{"$f":"IFERROR(VLOOKUP(A389,EEFF_RENDIMIENTOS!A:L,12,0),0)","v":"La cuenta Intereses sobre endeudamiento público, representa el 1,98% del total del Gastos, que comparado al periodo anterior genera una variación absoluta de -2 108,50 que corresponde a un Disminución del -3,73% de recursos disponibles."}]
[]
["Cuenta ","Descripción","Nota","Periodo Actual","Periodo Anterior","Diferencia "]
[null,null,null,null,null,"%"]
["5.2.9.",{"$f":"IFERROR(VLOOKUP(A393,EEFF_RENDIMIENTOS!A:E,2,0),\"\")","v":"Otros gastos financieros"},{"$f":"IFERROR(VLOOKUP(A393,EEFF_RENDIMIENTOS!A:E,3,0),0)","v":"68"},{"$f":"IFERROR(VLOOKUP(A393,EEFF_RENDIMIENTOS!A:J,4,0),0)","v":0},{"$f":"IFERROR(VLOOKUP(A393,EEFF_RENDIMIENTOS!A:J,5,0),0)","v":0},{"$f":"IFERROR(VLOOKUP(A393,EEFF_RENDIMIENTOS!A:J,10,0),0)","v":0},null,{"$f":"IFERROR(VLOOKUP(A393,EEFF_RENDIMIENTOS!A:L,12,0),0)","v":"La cuenta Otros gastos financieros, representa el 0,00% del total del Gastos, que comparado al periodo anterior genera una variación absoluta de 0 000,00 que corresponde a un Aumento del 0,00% de recursos disponibles."}]
[]
["Cuenta ","Descripción","Nota","Periodo Actual","Periodo Anterior","Diferencia "]
[null,null,null,null,null,"%"]
["5.3.1.",{"$f":"IFERROR(VLOOKUP(A397,EEFF_RENDIMIENTOS!A:E,2,0),\"\")","v":"Costo de ventas de bienes y servicios"},{"$f":"IFERROR(VLOOKUP(A397,EEFF_RENDIMIENTOS!A:E,3,0),0)","v":"69"},{"$f":"IFERROR(VLOOKUP(A397,EEFF_RENDIMIENTOS!A:J,4,0),0)","v":0},{"$f":"IFERROR(VLOOKUP(A397,EEFF_RENDIMIENTOS!A:J,5,0),0)","v":0},{"$f":"IFERROR(VLOOKUP(A397,EEFF_RENDIMIENTOS!A:J,10,0),0)","v":0},null,{"$f":"IFERROR(VLOOKUP(A397,EEFF_RENDIMIENTOS!A:L,12,0),0)","v":"La cuenta Costo de ventas de bienes y servicios, representa el 0,00% del total del Gastos, que comparado al periodo anterior genera una variación absoluta de 0 000,00 que corresponde a un Aumento del 0,00% de recursos disponibles."}]
[]
["Cuenta ","Descripción","Nota","Periodo Actual","Periodo Anterior","Diferencia "]
[null,null,null,null,null,"%"]
["5.3.2.",{"$f":"IFERROR(VLOOKUP(A401,EEFF_RENDIMIENTOS!A:E,2,0),\"\")","v":"Resultados negativos por ventas de inversiones"},{"$f":"IFERROR(VLOOKUP(A401,EEFF_RENDIMIENTOS!A:E,3,0),0)","v":"70"},{"$f":"IFERROR(VLOOKUP(A401,EEFF_RENDIMIENTOS!A:J,4,0),0)","v":0},{"$f":"IFERROR(VLOOKUP(A401,EEFF_RENDIMIENTOS!A:J,5,0),0)","v":0},{"$f":"IFERROR(VLOOKUP(A401,EEFF_RENDIMIENTOS!A:J,10,0),0)","v":0},null,{"$f":"IFERROR(VLOOKUP(A401,EEFF_RENDIMIENTOS!A:L,12,0),0)","v":"La cuenta Resultados negativos por ventas de inversiones, representa el 0,00% del total del Gastos, que comparado al periodo anterior genera una variación absoluta de 0 000,00 que corresponde a un Aumento del 0,00% de recursos disponibles."}]
[]
["Cuenta ","Descripción","Nota","Periodo Actual","Periodo Anterior","Diferencia "]
[null,null,null,null,null,"%"]
["5.3.3.",{"$f":"IFERROR(VLOOKUP(A405,EEFF_RENDIMIENTOS!A:E,2,0),\"\")","v":"Resultados negativos por ventas e intercambio de bienes"},{"$f":"IFERROR(VLOOKUP(A405,EEFF_RENDIMIENTOS!A:E,3,0),0)","v":"71"},{"$f":"IFERROR(VLOOKUP(A405,EEFF_RENDIMIENTOS!A:J,4,0),0)","v":0},{"$f":"IFERROR(VLOOKUP(A405,EEFF_RENDIMIENTOS!A:J,5,0),0)","v":0},{"$f":"IFERROR(VLOOKUP(A405,EEFF_RENDIMIENTOS!A:J,10,0),0)","v":0},null,{"$f":"IFERROR(VLOOKUP(A405,EEFF_RENDIMIENTOS!A:L,12,0),0)","v":"La cuenta Resultados negativos por ventas e intercambio de bienes, representa el 0,00% del total del Gastos, que comparado al periodo anterior genera una variación absoluta de 0 000,00 que corresponde a un Aumento del 0,00% de recursos disponibles."}]
[]
["Cuenta ","Descripción","Nota","Periodo Actual","Periodo Anterior","Diferencia "]
[null,null,null,null,null,"%"]
["5.4.1.",{"$f":"IFERROR(VLOOKUP(A409,EEFF_RENDIMIENTOS!A:E,2,0),\"\")","v":"Transferencias corrientes"},{"$f":"IFERROR(VLOOKUP(A409,EEFF_RENDIMIENTOS!A:E,3,0),0)","v":"72"},{"$f":"IFERROR(VLOOKUP(A409,EEFF_RENDIMIENTOS!A:J,4,0),0)","v":122247.40272},{"$f":"IFERROR(VLOOKUP(A409,EEFF_RENDIMIENTOS!A:J,5,0),0)","v":60703.674899999998},{"$f":"IFERROR(VLOOKUP(A409,EEFF_RENDIMIENTOS!A:J,10,0),0)","v":1.0138385842600774},null,{"$f":"IFERROR(VLOOKUP(A409,EEFF_RENDIMIENTOS!A:L,12,0),0)","v":"La cuenta Transferencias corrientes, representa el 4,44% del total del Gastos, que comparado al periodo anterior genera una variación absoluta de 61 543,73 que corresponde a un Aumento del 101,38% de recursos disponibles."}]
[]
["Cuenta ","Descripción","Nota","Periodo Actual","Periodo Anterior","Diferencia "]
[null,null,null,null,null,"%"]
["5.4.2.",{"$f":"IFERROR(VLOOKUP(A413,EEFF_RENDIMIENTOS!A:E,2,0),\"\")","v":"Transferencias de capital"},{"$f":"IFERROR(VLOOKUP(A413,EEFF_RENDIMIENTOS!A:E,3,0),0)","v":"73"},{"$f":"IFERROR(VLOOKUP(A413,EEFF_RENDIMIENTOS!A:J,4,0),0)","v":0},{"$f":"IFERROR(VLOOKUP(A413,EEFF_RENDIMIENTOS!A:J,5,0),0)","v":0},{"$f":"IFERROR(VLOOKUP(A413,EEFF_RENDIMIENTOS!A:J,10,0),0)","v":0},null,{"$f":"IFERROR(VLOOKUP(A413,EEFF_RENDIMIENTOS!A:L,12,0),0)","v":"La cuenta Transferencias de capital, representa el 0,00% del total del Gastos, que comparado al periodo anterior genera una variación absoluta de 0 000,00 que corresponde a un Aumento del 0,00% de recursos disponibles."}]
[]
["Cuenta ","Descripción","Nota","Periodo Actual","Periodo Anterior","Diferencia "]
[null,null,null,null,null,"%"]
["5.9.1.",{"$f":"IFERROR(VLOOKUP(A417,EEFF_RENDIMIENTOS!A:E,2,0),\"\")","v":"Resultados negativos por tenencia y por exposición a la inflación"},{"$f":"IFERROR(VLOOKUP(A417,EEFF_RENDIMIENTOS!A:E,3,0),0)","v":"74"},{"$f":"IFERROR(VLOOKUP(A417,EEFF_RENDIMIENTOS!A:J,4,0),0)","v":0},{"$f":"IFERROR(VLOOKUP(A417,EEFF_RENDIMIENTOS!A:J,5,0),0)","v":9715.9410000000007},{"$f":"IFERROR(VLOOKUP(A417,EEFF_RENDIMIENTOS!A:J,10,0),0)","v":-1},null,{"$f":"IFERROR(VLOOKUP(A417,EEFF_RENDIMIENTOS!A:L,12,0),0)","v":"La cuenta Resultados negativos por tenencia y por exposición a la inflación, representa el 0,00% del total del Gastos, que comparado al periodo anterior genera una variación absoluta de -9 715,94 que corresponde a un Disminución del -100,00% de recursos disponibles."}]
[]
["Cuenta ","Descripción","Nota","Periodo Actual","Periodo Anterior","Diferencia "]
[null,null,null,null,null,"%"]
["5.9.2.",{"$f":"IFERROR(VLOOKUP(A421,EEFF_RENDIMIENTOS!A:E,2,0),\"\")","v":"Resultados negativos de inversiones patrimoniales y participación de los intereses minoritarios"},{"$f":"IFERROR(VLOOKUP(A421,EEFF_RENDIMIENTOS!A:E,3,0),0)","v":"75"},{"$f":"IFERROR(VLOOKUP(A421,EEFF_RENDIMIENTOS!A:J,4,0),0)","v":0},{"$f":"IFERROR(VLOOKUP(A421,EEFF_RENDIMIENTOS!A:J,5,0),0)","v":0},{"$f":"IFERROR(VLOOKUP(A421,EEFF_RENDIMIENTOS!A:J,10,0),0)","v":0},null,{"$f":"IFERROR(VLOOKUP(A421,EEFF_RENDIMIENTOS!A:L,12,0),0)","v":"La cuenta Resultados negativos de inversiones patrimoniales y participación de los intereses minoritarios, representa el 0,00% del total del Gastos, que comparado al periodo anterior genera una variación absoluta de 0 000,00 que corresponde a un Aumento del 0,00% de recursos disponibles."}]
[]
["Cuenta ","Descripción","Nota","Periodo Actual","Periodo Anterior","Diferencia "]
[null,null,null,null,null,"%"]
["5.9.9.",{"$f":"IFERROR(VLOOKUP(A425,EEFF_RENDIMIENTOS!A:E,2,0),\"\")","v":"Otros gastos y resultados negativos"},{"$f":"IFERROR(VLOOKUP(A425,EEFF_RENDIMIENTOS!A:E,3,0),0)","v":"76"},{"$f":"IFERROR(VLOOKUP(A425,EEFF_RENDIMIENTOS!A:J,4,0),0)","v":5.4400000000000004E-3},{"$f":"IFERROR(VLOOKUP(A425,EEFF_RENDIMIENTOS!A:J,5,0),0)","v":2.9999999999999997E-5},{"$f":"IFERROR(VLOOKUP(A425,EEFF_RENDIMIENTOS!A:J,10,0),0)","v":180.33333333333337},null,{"$f":"IFERROR(VLOOKUP(A425,EEFF_RENDIMIENTOS!A:L,12,0),0)","v":"La cuenta Otros gastos y resultados negativos, representa el 0,00% del total del Gastos, que comparado al periodo anterior genera una variación absoluta de 0 000,01 que corresponde a un Aumento del 18033,33% de recursos disponibles."}]
[]
[]
["Notas Estado de Flujo de Efectivo Comparativo"]
[]
["FLUJOS DE EFECTIVO DE LAS ACTIVIDADES DE OPERACIÓN"]
[]
[null,"Descripción ","Nota","Periodo Actual","Periodo Anterior","Diferencia "]
[null,null,null,null,null,"%"]
["COBROS_OPE","Cobros",{"$f":"VLOOKUP(A434,EEFF_FLUJO!B:J,2,0)","v":77},{"$f":"VLOOKUP(A434,EEFF_FLUJO!B:J,3,0)","v":2595053.2877199999},{"$f":"VLOOKUP(A434,EEFF_FLUJO!B:J,4,0)","v":2678293.9209600003},{"$f":"VLOOKUP(A434,EEFF_FLUJO!B:J,9,0)","v":-3.1079723023888207E-2},null,{"$f":"VLOOKUP(A434,EEFF_FLUJO!B:L,11,0)","v":"Los Cobros de los Flujos de Efectivo de las Actividades de Operación, comparado al periodo anterior genera una variación absoluta de -83 240,63 que corresponde a un Disminución del -3,11% de recursos disponibles."}]
[]
[null,"Descripción ","Nota","Periodo Actual","Periodo Anterior","Diferencia "]
[null,null,null,null,null,"%"]
["PAGOS_OPE","Pagos",{"$f":"VLOOKUP(A438,EEFF_FLUJO!B:J,2,0)","v":78},{"$f":"VLOOKUP(A438,EEFF_FLUJO!B:J,3,0)","v":2425420.3404200128},{"$f":"VLOOKUP(A438,EEFF_FLUJO!B:J,4,0)","v":2844721.4481699881},{"$f":"VLOOKUP(A438,EEFF_FLUJO!B:J,9,0)","v":-0.14739619164460269},null,{"$f":"VLOOKUP(A438,EEFF_FLUJO!B:L,11,0)","v":"Los Pagos de los Flujos de Efectivo de las Actividades de Operación, comparado al periodo anterior genera una variación absoluta de -419 301,11 que corresponde a un Disminución del -14,74% de recursos disponibles."}]
[]
[]
["FLUJOS DE EFECTIVO DE LAS ACTIVIDADES DE INVERSIÓN"]
[]
[null,"Descripción ","Nota","Periodo Actual","Periodo Anterior","Diferencia "]
[null,null,null,null,null,"%"]
["COBROS_INV","Cobros",{"$f":"VLOOKUP(A445,EEFF_FLUJO!B:J,2,0)","v":79},{"$f":"VLOOKUP(A445,EEFF_FLUJO!B:J,3,0)","v":0},{"$f":"VLOOKUP(A445,EEFF_FLUJO!B:J,4,0)","v":0},{"$f":"VLOOKUP(A445,EEFF_FLUJO!B:J,9,0)","v":0},null,{"$f":"VLOOKUP(A445,EEFF_FLUJO!B:L,11,0)","v":"Los Cobros de los Flujos de Efectivo de las Actividades de Inversión, comparado al periodo anterior genera una variación absoluta de 0 000,00 que corresponde a un Aumento del 0,00% de recursos disponibles."}]
[]
[null,"Descripción ","Nota","Periodo Actual","Periodo Anterior","Diferencia "]
[null,null,null,null,null,"%"]
["PAGOS_INV","Pagos",{"$f":"VLOOKUP(A449,EEFF_FLUJO!B:J,2,0)","v":80},{"$f":"VLOOKUP(A449,EEFF_FLUJO!B:J,3,0)","v":408916.80907000008},{"$f":"VLOOKUP(A449,EEFF_FLUJO!B:J,4,0)","v":101165.45105},{"$f":"VLOOKUP(A449,EEFF_FLUJO!B:J,9,0)","v":3.0420598616013388},null,{"$f":"VLOOKUP(A449,EEFF_FLUJO!B:L,11,0)","v":"Los Pagos de los Flujos de Efectivo de las Actividades de Inversión, comparado al periodo anterior genera una variación absoluta de 307 751,36 que corresponde a un Aumento del 304,21% de recursos disponibles."}]
[]
[]
["FLUJOS DE EFECTIVO DE LAS ACTIVIDADES DE FINANCIACIÓN"]
[]
[null,"Descripción ","Nota","Periodo Actual","Periodo Anterior","Diferencia "]
[null,null,null,null,null,"%"]
["COBROS_FIN","Cobros",{"$f":"VLOOKUP(A456,EEFF_FLUJO!B:J,2,0)","v":81},{"$f":"VLOOKUP(A456,EEFF_FLUJO!B:J,3,0)","v":254836.45},{"$f":"VLOOKUP(A456,EEFF_FLUJO!B:J,4,0)","v":0},{"$f":"VLOOKUP(A456,EEFF_FLUJO!B:J,9,0)","v":0},null,{"$f":"VLOOKUP(A456,EEFF_FLUJO!B:L,11,0)","v":"Los Cobros de los Flujos de Efectivo de las Actividades de Financiamiento, comparado al periodo anterior genera una variación absoluta de 254 836,45 que corresponde a un Aumento del 0,00% de recursos disponibles."}]
[]
[null,"Descripción ","Nota","Periodo Actual","Periodo Anterior","Diferencia "]
[null,null,null,null,null,"%"]
["PAGOS_FIN","Pagos",{"$f":"VLOOKUP(A460,EEFF_FLUJO!B:J,2,0)","v":82},{"$f":"VLOOKUP(A460,EEFF_FLUJO!B:J,3,0)","v":248609.66998999999},{"$f":"VLOOKUP(A460,EEFF_FLUJO!B:J,4,0)","v":216211.81166000001},{"$f":"VLOOKUP(A460,EEFF_FLUJO!B:J,9,0)","v":0.14984314724186604},null,{"$f":"VLOOKUP(A460,EEFF_FLUJO!B:L,11,0)","v":"Los Pagos de los Flujos de Efectivo de las Actividades de Financiamiento, comparado al periodo anterior genera una variación absoluta de 32 397,86 que corresponde a un Aumento del 14,98% de recursos disponibles."}]
[]
[null,"Descripción ","Nota","Periodo Actual","Periodo Anterior","Diferencia "]
[null,null,null,null,null,"%"]
[null,"Efectivo y equivalentes de efectivo al final del ejercicio",{"$f":"VLOOKUP(B464,EEFF_FLUJO!A:J,3,0)","v":83},{"$f":"VLOOKUP(B464,EEFF_FLUJO!A:J,4,0)","v":1873754.8295599869},{"$f":"VLOOKUP(B464,EEFF_FLUJO!A:J,5,0)","v":2221962.5993800126},{"$f":"VLOOKUP(B464,EEFF_FLUJO!A:J,10,0)","v":-0.15671180510292343},null,{"$f":"VLOOKUP(B464,EEFF_FLUJO!A:L,12,0)","v":"La cuenta Efectivo y equivalentes de efectivo al final del ejercicio, comparado al periodo anterior genera una variación absoluta de -348 207,77 que corresponde a un Disminución del -15,67% de recursos disponibles."}]
[]
[]
["Notas Estado de Cambios en el Patrimonio Comparativo"]
[]
[null,"Descripción ","Nota ","Periodo Actual","Periodo Anterior","Diferencia "]
[null,null,null,null,null,"%"]
[null,"Saldos del período",84,{"$f":"VLOOKUP(C471,EEFF_CAPITAL!A:I,3,0)","v":166047654.65285},{"$f":"VLOOKUP(C471,EEFF_CAPITAL!A:I,4,0)","v":164812848.27630001},{"$f":"VLOOKUP(C471,EEFF_CAPITAL!A:I,9,0)","v":7.492173028160411E-3},null,{"$f":"VLOOKUP(B471,EEFF_CAPITAL!B:K,10,0)","v":"En el Estado de Cambio al Patrimonio, el Saldo del periodo al 31 de diciembre 2022, comparado al periodo anterior genera una variación absoluta de 1 234 806,38 que corresponde a un Aumento del 0,75% de recursos disponibles."}]

{"sheet":"NICSP","index":9,"n_rows":49,"n_cols":9,"rows_kept":49,"cut":false,"hidden":false,"merged":[[1,1,1,7],[14,3,14,7],[15,3,15,7],[16,3,16,7],[32,3,32,7],[8,1,8,2],[2,1,2,7],[3,1,3,7]]}
[]
[null,{"$f":"DATOS!D13","v":"Municipalidad de Buenos Aires"}]
[null,"Cuadro Resumen - Normativa Contable"]
[null,"Normas Internacionales de Contabilidad para el Sector Pública"]
[]
[null,"Este apartado se completa de forma automática al pegar la información de la pestaña \"MATRIZ_AUTOEVALUACION\", con excepción de la aplicación de los fideicomisos"]
[null,"por lo que en esta sección se le solicita indicar SI - NO de acuerdo a la situación de la entidad."]
[]
[null,"NORMA",null,"NORMA TRANSITORIO","FECHA","APLICACIÓN","GRADO APLICACION","APLICACIÓN TRANSITORIO"]
["NICSP_1","NICSP 1","Presentación Estados Financieros","SI","2024-12-31",{"$f":"OFFSET(MATRIZ_AUTOVALUACION!D11,0,3)","v":"Si"},0.99,{"$f":"OFFSET(MATRIZ_AUTOVALUACION!D11,0,8)","v":"Si"},{"$f":"IFERROR(IF(AND(F10=\"NO\",H10=\"SI\"),\"ERROR\",\"\"),\"\")","v":""}]
["NICSP_2","NICSP 2","Estado Flujo de Efectivo","NO","31-12-2022",{"$f":"OFFSET(MATRIZ_AUTOVALUACION!D12,0,3)","v":"Si"},{"$f":"OFFSET(MATRIZ_AUTOVALUACION!D12,0,4)","v":1},{"$f":"OFFSET(MATRIZ_AUTOVALUACION!D12,0,8)","v":0},{"$f":"IFERROR(IF(AND(F11=\"NO\",H11=\"SI\"),\"ERROR\",\"\"),\"\")","v":""}]
["NICSP_3","NICSP 3","Políticas Contables, Cambios en las estimaciones contables y Errores","NO","31-12-2022",{"$f":"OFFSET(MATRIZ_AUTOVALUACION!D13,0,3)","v":"Si"},{"$f":"OFFSET(MATRIZ_AUTOVALUACION!D13,0,4)","v":0.9},{"$f":"OFFSET(MATRIZ_AUTOVALUACION!D13,0,8)","v":"No"},""]
["NICSP_4","NICSP 4","Efectos de las variaciones en las tasas de cambio de la moneda","NO","31-12-2022",{"$f":"OFFSET(MATRIZ_AUTOVALUACION!D14,0,3)","v":"Si"},0.47,{"$f":"OFFSET(MATRIZ_AUTOVALUACION!D14,0,8)","v":0},""]
["NICSP_5","NICSP 5","Costo por Préstamos","SI","2024-12-31",{"$f":"OFFSET(MATRIZ_AUTOVALUACION!D15,0,3)","v":"Si"},{"$f":"OFFSET(MATRIZ_AUTOVALUACION!D15,0,4)","v":1},{"$f":"OFFSET(MATRIZ_AUTOVALUACION!D15,0,8)","v":0},""]
["NICSP_6","NICSP 6","Estados Financieros Consolidados y separados.","Derogada en la versión 2018"]
["NICSP_7","NICSP 7","Inversiones en Asociadas","Derogada en la versión 2018"]
["NICSP_8","NICSP 8","Participaciones en Negocios Conjuntos","Derogada en la versión 2018"]
["NICSP_9","NICSP 9","Ingresos de transacciones con contraprestación","NO","31-12-2022",{"$f":"OFFSET(MATRIZ_AUTOVALUACION!D16,0,3)","v":"Si"},{"$f":"OFFSET(MATRIZ_AUTOVALUACION!D16,0,4)","v":1},{"$f":"OFFSET(MATRIZ_AUTOVALUACION!D16,0,8)","v":0},""]
["NICSP_10","NICSP 10","Información Financiera en Economía Hiperinflacionarias","NO","31-12-2022",{"$f":"OFFSET(MATRIZ_AUTOVALUACION!D17,0,3)","v":"No"},{"$f":"OFFSET(MATRIZ_AUTOVALUACION!D17,0,4)","v":""},{"$f":"OFFSET(MATRIZ_AUTOVALUACION!D17,0,8)","v":""},""]
["NICSP_11","NICSP 11","Contrato de Construcción","NO","31-12-2022",{"$f":"OFFSET(MATRIZ_AUTOVALUACION!D18,0,3)","v":"No"},{"$f":"OFFSET(MATRIZ_AUTOVALUACION!D18,0,4)","v":""},{"$f":"OFFSET(MATRIZ_AUTOVALUACION!D18,0,8)","v":""},""]
["NICSP_12","NICSP 12","Inventarios","SI","2024-12-31",{"$f":"OFFSET(MATRIZ_AUTOVALUACION!D19,0,3)","v":"Si"},{"$f":"OFFSET(MATRIZ_AUTOVALUACION!D19,0,4)","v":0.97},{"$f":"OFFSET(MATRIZ_AUTOVALUACION!D19,0,8)","v":"Si"},""]
["NICSP_13","NICSP 13","Arrendamientos","SI","2024-12-31",{"$f":"OFFSET(MATRIZ_AUTOVALUACION!D20,0,3)","v":"Si"},0.8,{"$f":"OFFSET(MATRIZ_AUTOVALUACION!D20,0,8)","v":"Si"},""]
["NICSP_14","NICSP 14","Hechos ocurridos después de la fecha de presentación.","NO","31-12-2022",{"$f":"OFFSET(MATRIZ_AUTOVALUACION!D21,0,3)","v":"Si"},{"$f":"OFFSET(MATRIZ_AUTOVALUACION!D21,0,4)","v":1},{"$f":"OFFSET(MATRIZ_AUTOVALUACION!D21,0,8)","v":0},""]
["NICSP_16","NICSP 16","Propiedades de Inversión","SI","2024-12-31",{"$f":"OFFSET(MATRIZ_AUTOVALUACION!D22,0,3)","v":"No"},{"$f":"OFFSET(MATRIZ_AUTOVALUACION!D22,0,4)","v":""},{"$f":"OFFSET(MATRIZ_AUTOVALUACION!D22,0,8)","v":""},""]
["NICSP_17","NICSP 17","Propiedad, Planta y Equipo","SI","2024-12-31",{"$f":"OFFSET(MATRIZ_AUTOVALUACION!D23,0,3)","v":"Si"},0.96,{"$f":"OFFSET(MATRIZ_AUTOVALUACION!D23,0,8)","v":"Si"},""]
["NICSP_18","NICSP 18","Información Financiera por Segmentos","SI","2024-12-31",{"$f":"OFFSET(MATRIZ_AUTOVALUACION!D24,0,3)","v":"No"},{"$f":"OFFSET(MATRIZ_AUTOVALUACION!D24,0,4)","v":""},{"$f":"OFFSET(MATRIZ_AUTOVALUACION!D24,0,8)","v":""},""]
["NICSP_19","NICSP 19","Provisiones, Pasivos contingentes y Activos Contingentes","SI","2024-12-31",{"$f":"OFFSET(MATRIZ_AUTOVALUACION!D25,0,3)","v":"Si"},{"$f":"OFFSET(MATRIZ_AUTOVALUACION!D25,0,4)","v":0.92},{"$f":"OFFSET(MATRIZ_AUTOVALUACION!D25,0,8)","v":"Si"},""]
["NICSP_20","NICSP 20","Información a Revelar sobre partes relacionadas","SI","2024-12-31",{"$f":"OFFSET(MATRIZ_AUTOVALUACION!D26,0,3)","v":"Si"},{"$f":"OFFSET(MATRIZ_AUTOVALUACION!D26,0,4)","v":0.6399999999999999},{"$f":"OFFSET(MATRIZ_AUTOVALUACION!D26,0,8)","v":"Si"},""]
["NICSP_21","NICSP 21","Deterioro de Valor de Activos no generadores de Efectivo","SI","2024-12-31",{"$f":"OFFSET(MATRIZ_AUTOVALUACION!D27,0,3)","v":"Si"},0.27,{"$f":"OFFSET(MATRIZ_AUTOVALUACION!D27,0,8)","v":"Si"},""]
["NICSP_22","NICSP 22","Revelación de Información Financiera sobre Sector Gobierno General","NO","31-12-2022",{"$f":"OFFSET(MATRIZ_AUTOVALUACION!D28,0,3)","v":"No"},{"$f":"OFFSET(MATRIZ_AUTOVALUACION!D28,0,4)","v":""},{"$f":"OFFSET(MATRIZ_AUTOVALUACION!D28,0,8)","v":""},""]
["NICSP_23","NICSP 23","Ingresos ordinarios provenientes de transacciones que no son de intercambio (Impuestos y transferencias)","SI","2024-12-31",{"$f":"OFFSET(MATRIZ_AUTOVALUACION!D29,0,3)","v":"Si"},0.96,{"$f":"OFFSET(MATRIZ_AUTOVALUACION!D29,0,8)","v":"Si"},""]
["NICSP_24","NICSP 24","Presentación de Información del presupuesto en los Estados Financieros","NO","31-12-2022",{"$f":"OFFSET(MATRIZ_AUTOVALUACION!D30,0,3)","v":"Si"},0.63,{"$f":"OFFSET(MATRIZ_AUTOVALUACION!D30,0,8)","v":"No"},""]
["NICSP_25","NICSP 25","Beneficios a los Empleados","Derogada en la versión 2018"]
["NICSP_26","NICSP 26","Deterioro del Valor de Activos generadores de efectivo","SI","2024-12-31",{"$f":"OFFSET(MATRIZ_AUTOVALUACION!D31,0,3)","v":"Si"},{"$f":"OFFSET(MATRIZ_AUTOVALUACION!D31,0,4)","v":0.3},{"$f":"OFFSET(MATRIZ_AUTOVALUACION!D31,0,8)","v":"Si"},""]
["NICSP_27","NICSP 27","Agricultura","SI","2024-12-31",{"$f":"OFFSET(MATRIZ_AUTOVALUACION!D32,0,3)","v":"No"},{"$f":"OFFSET(MATRIZ_AUTOVALUACION!D32,0,4)","v":""},{"$f":"OFFSET(MATRIZ_AUTOVALUACION!D32,0,8)","v":""},""]
["NICSP_28","NICSP 28","Instrumentos Financieros- Presentación","NO","31-12-2022",{"$f":"OFFSET(MATRIZ_AUTOVALUACION!D33,0,3)","v":"Si"},{"$f":"OFFSET(MATRIZ_AUTOVALUACION!D33,0,4)","v":1},{"$f":"OFFSET(MATRIZ_AUTOVALUACION!D33,0,8)","v":0},""]
["NICSP_29","NICSP 29","Instrumentos Financieros- Reconocimiento y Medición","SI","2024-12-31",{"$f":"OFFSET(MATRIZ_AUTOVALUACION!D34,0,3)","v":"Si"},{"$f":"OFFSET(MATRIZ_AUTOVALUACION!D34,0,4)","v":1},{"$f":"OFFSET(MATRIZ_AUTOVALUACION!D34,0,8)","v":"Si"},""]
["NICSP_30","NICSP 30","Instrumentos Financieros- Información a revelar","NO","31-12-2022",{"$f":"OFFSET(MATRIZ_AUTOVALUACION!D35,0,3)","v":"Si"},0.65,{"$f":"OFFSET(MATRIZ_AUTOVALUACION!D35,0,8)","v":"No"},""]
["NICSP_31","NICSP 31","Activos Intangibles","SI","2024-12-31",{"$f":"OFFSET(MATRIZ_AUTOVALUACION!D36,0,3)","v":"Si"},0.53,{"$f":"OFFSET(MATRIZ_AUTOVALUACION!D36,0,8)","v":"Si"},""]
["NICSP_32","NICSP 32","Acuerdos de servicio de concesión: Otorgante","SI","2024-12-31",{"$f":"OFFSET(MATRIZ_AUTOVALUACION!D37,0,3)","v":"No"},{"$f":"OFFSET(MATRIZ_AUTOVALUACION!D37,0,4)","v":""},{"$f":"OFFSET(MATRIZ_AUTOVALUACION!D37,0,8)","v":""},""]
["NICSP_33","NICSP 33","Adopción por primera vez de las NICSP de base de acumulación (o Devengo)","NO","31-12-2022",{"$f":"OFFSET(MATRIZ_AUTOVALUACION!D38,0,3)","v":"Si"},{"$f":"OFFSET(MATRIZ_AUTOVALUACION!D38,0,4)","v":0.75},{"$f":"OFFSET(MATRIZ_AUTOVALUACION!D38,0,8)","v":"No"},""]
["NICSP_34","NICSP 34","Estados financieros separados","SI","2024-12-31",{"$f":"OFFSET(MATRIZ_AUTOVALUACION!D39,0,3)","v":"No"},{"$f":"OFFSET(MATRIZ_AUTOVALUACION!D39,0,4)","v":""},{"$f":"OFFSET(MATRIZ_AUTOVALUACION!D39,0,8)","v":""},""]
["NICSP_35","NICSP 35","Estados financieros consolidados","SI","2024-12-31",{"$f":"OFFSET(MATRIZ_AUTOVALUACION!D40,0,3)","v":"Si"},{"$f":"OFFSET(MATRIZ_AUTOVALUACION!D40,0,4)","v":0.39999999999999997},{"$f":"OFFSET(MATRIZ_AUTOVALUACION!D40,0,8)","v":"Si"},""]
["NICSP_36","NICSP 36","Inversiones en asociadas y negocios conjuntos","SI","2024-12-31",{"$f":"OFFSET(MATRIZ_AUTOVALUACION!D41,0,3)","v":"No"},{"$f":"OFFSET(MATRIZ_AUTOVALUACION!D41,0,4)","v":""},{"$f":"OFFSET(MATRIZ_AUTOVALUACION!D41,0,8)","v":""},""]
["NICSP_37","NICSP 37","Acuerdos conjuntos","NO","31-12-2022",{"$f":"OFFSET(MATRIZ_AUTOVALUACION!D42,0,3)","v":"No"},{"$f":"OFFSET(MATRIZ_AUTOVALUACION!D42,0,4)","v":""},{"$f":"OFFSET(MATRIZ_AUTOVALUACION!D42,0,8)","v":""},""]
["NICSP_38","NICSP 38","Revelación de intereses en otras entidades","NO","31-12-2022",{"$f":"OFFSET(MATRIZ_AUTOVALUACION!D43,0,3)","v":"No"},{"$f":"OFFSET(MATRIZ_AUTOVALUACION!D43,0,4)","v":""},{"$f":"OFFSET(MATRIZ_AUTOVALUACION!D43,0,8)","v":""},""]
["NICSP_39","NICSP 39","Beneficios para empleados","SI","2024-12-31",{"$f":"OFFSET(MATRIZ_AUTOVALUACION!D44,0,3)","v":"Si"},{"$f":"OFFSET(MATRIZ_AUTOVALUACION!D44,0,4)","v":0.7},{"$f":"OFFSET(MATRIZ_AUTOVALUACION!D44,0,8)","v":"Si"},""]
["NICSP_40","NICSP 40","Combinaciones en el sector público","SI","2024-12-31",{"$f":"OFFSET(MATRIZ_AUTOVALUACION!D45,0,3)","v":"No"},{"$f":"OFFSET(MATRIZ_AUTOVALUACION!D45,0,4)","v":""},{"$f":"OFFSET(MATRIZ_AUTOVALUACION!D45,0,8)","v":""},""]
["FIDEI",null,"Fideicomisos",null,null,"NO"]

{"sheet":"NICSP_1","index":10,"n_rows":20,"n_cols":5,"rows_kept":20,"cut":false,"hidden":false,"merged":[[13,2,13,8],[15,4,15,5]]}
[]
[null,null,"NICSP 1 - Presentación de Estados Financieros"]
[]
[null,null,"Los cuadros de aplicación y procentaje de avance se completan de forma automatica al pegar la información "]
[null,null,"de la  pestaña \"MATRIZ_AUTOEVALUACION\". De igual manera se completa de forma automatica el cuadro con respecto"]
[null,null,"a la Afirmación Explicita e Incondicional sobre el cumplimiento de las NICSP, y de las Políticas Contables Generales."]
[]
[null,null,"NICSP 1 "]
[null,"NICSP_1","Aplica",{"$f":"VLOOKUP(B9,NICSP!$A:$H,6,0)","v":"Si"}]
[null,"NICSP_1","Porcentaje_Avance",{"$f":"VLOOKUP(B10,NICSP!$A:$H,7,0)","v":0.99}]
[]
[]
[]
[null,null,"El Ente Contable aplica lo dispuesto en la Resolución DCN-0003-2022 con respecto a la Afirmación Explicita e Incondicional sobre el cumplimiento de las NICSP, y de las Políticas Contables Generales."]
[]
[null,null,"APLICACIÓN",{"$f":"IF(D20=100%,\"SI\",IF(D20=0%,\"\",\"NO\"))","v":"NO"},{"$f":"IF(D16=\"\",\"COMPLETAR_CAMPO\",\"\")","v":""}]
[]
[]
[]
[null,null,"Promedio_General ",{"$f":"MATRIZ_AUTOVALUACION!H47","v":0.77561952105124576}]

{"sheet":"NICSP_2","index":11,"n_rows":10,"n_cols":4,"rows_kept":10,"cut":false,"hidden":false,"merged":[]}
[]
[null,null,"NICSP 2 - Estado de Flujo de Efectivo"]
[]
[null,null,"Los cuadros de aplicación y procentaje de avance se completan de forma automatica al pegar la información "]
[null,null,"de la  pestaña \"MATRIZ_AUTOEVALUACION\"."]
[null,null,"Si esta es de aplicación, completar los cuadros con la información respectiva"]
[]
[null,null,"NICSP 2 "]
[null,"NICSP_2","Aplica",{"$f":"VLOOKUP(B9,NICSP!$A:$H,6,0)","v":"Si"}]
[null,"NICSP_2","Porcentaje_Avance",{"$f":"VLOOKUP(B10,NICSP!$A:$H,7,0)","v":1}]

{"sheet":"NICSP_3","index":12,"n_rows":19,"n_cols":16,"rows_kept":19,"cut":false,"hidden":false,"merged":[[12,4,12,5],[12,9,12,10],[12,14,12,15],[18,2,18,5],[18,7,18,10],[18,12,18,15]]}
[]
[null,null,"NICSP 3 - Políticas contables, cambios en las estimaciones contables y errores"]
[]
[null,null,"Los cuadros de aplicación y procentaje de avance se completan de forma automatica al pegar la información "]
[null,null,"de la  pestaña \"MATRIZ_AUTOEVALUACION\"."]
[null,null,"Si esta es de aplicación, completar los cuadros con la información respectiva"]
[]
[null,null,"NICSP 3 "]
[null,"NICSP_3","Aplica",{"$f":"VLOOKUP(B9,NICSP!$A:$H,6,0)","v":"Si"}]
[null,"NICSP_3","Porcentaje_Avance",{"$f":"VLOOKUP(B10,NICSP!$A:$H,7,0)","v":0.9}]
[]
[]
[null,null,"Cambios_en_Estimación",null,{"$f":"IF(D13=\"\",\"COMPLETAR_CAMPO\",\"\")","v":"COMPLETAR_CAMPO"},null,null,"Cambios_en_Politica",null,{"$f":"IF(I13=\"\",\"COMPLETAR_CAMPO\",\"\")","v":"COMPLETAR_CAMPO"},null,null,"Errores",null,{"$f":"IF(N13=\"\",\"COMPLETAR_CAMPO\",\"\")","v":"COMPLETAR_CAMPO"}]
[]
[null,null,"Cambio Estimación","Naturaleza","Periodo","Efecto futuro",null,"Cambio Política Contable","Naturaleza","Periodo","Efecto futuro",null,"Error","Naturaleza","Periodo","Efecto futuro"]
[]
[]
[]
[null,null,{"$f":"IF(AND(D13=\"SI\",C16=\"\"),\"COMPLETAR_CAMPO\",\"\")","v":""},null,null,null,null,{"$f":"IF(AND(I13=\"SI\",H16=\"\"),\"COMPLETAR_CAMPO\",\"\")","v":""},null,null,null,null,{"$f":"IF(AND(N13=\"SI\",M16=\"\"),\"COMPLETAR_CAMPO\",\"\")","v":""}]

{"sheet":"NICSP_4","index":13,"n_rows":15,"n_cols":5,"rows_kept":15,"cut":false,"hidden":false,"merged":[]}
[]
[null,null,"NICSP 4 - Efectos de las variaciones en las tasas de cambio de la moneda"]
[]
[null,null,"Los cuadros de aplicación y procentaje de avance se completan de forma automatica al pegar la información "]
[null,null,"de la  pestaña \"MATRIZ_AUTOEVALUACION\"."]
[null,null,"Si esta es de aplicación, completar los cuadros con la información respectiva"]
[]
[null,null,"NICSP 4"]
[null,"NICSP_4","Aplica",{"$f":"VLOOKUP(B9,NICSP!$A:$H,6,0)","v":"Si"}]
[null,"NICSP_4","Porcentaje_Avance",{"$f":"VLOOKUP(B10,NICSP!$A:$H,7,0)","v":0.47}]
[]
[]
[null,null,"Moneda","Compra","Venta"]
[null,null,"Dólar",523.41999999999996,530.41]
[null,null,"Euro",564.08000000000004,564.08000000000004]

{"sheet":"NICSP_5","index":14,"n_rows":16,"n_cols":4,"rows_kept":16,"cut":false,"hidden":false,"merged":[[15,2,15,6]]}
[]
[null,null,"NICSP 5 - Costo por Préstamos"]
[]
[null,null,"Los cuadros de aplicación y procentaje de avance se completan de forma automatica al pegar la información "]
[null,null,"de la  pestaña \"MATRIZ_AUTOEVALUACION\"."]
[null,null,"Si esta es de aplicación, completar los cuadros con la información respectiva"]
[]
[null,null,"NICSP 5"]
[null,"NICSP_5","Aplica",{"$f":"VLOOKUP(B9,NICSP!$A:$H,6,0)","v":"Si"}]
[null,"NICSP_5","Porcentaje_Avance",{"$f":"VLOOKUP(B10,NICSP!$A:$H,7,0)","v":1}]
[]
[]
[null,null,"Se realizará la revelación considerando la política 1.172 del Plan General de Contabilidad."]
[null,null,"a) las políticas contables adoptadas con relación a los costos por préstamos;"]
[null,null,"b) el importe de los costos por préstamos capitalizados durante el período; y"]
[null,null,"c) la tasa de capitalización utilizada para determinar el importe de los costos por préstamos susceptibles de capitalización \n(si ha sido necesario aplicar una tasa de capitalización a los fondos obtenidos mediante un endeudamiento centralizado)."]

{"sheet":"NICSP_9","index":15,"n_rows":19,"n_cols":7,"rows_kept":19,"cut":false,"hidden":false,"merged":[]}
[]
[null,null,"NICSP 9 - Ingresos de transacciones con contraprestación"]
[]
[null,null,"Los cuadros de aplicación y porcentaje de avance se completan de forma automática al pegar la información "]
[null,null,"de la  pestaña \"MATRIZ_AUTOEVALUACION\"."]
[null,null,"Si esta es de aplicación, completar los cuadros con la información respectiva"]
[]
[null,null,"NICSP 9"]
[null,"NICSP_9","Aplica",{"$f":"VLOOKUP(B9,NICSP!$A:$H,6,0)","v":"Si"},null,"TIPO DE INGRESO","TIEMPOS DEL DEVENGO:"]
[null,"NICSP_9","Porcentaje_Avance",{"$f":"VLOOKUP(B10,NICSP!$A:$H,7,0)","v":1},null,"Servicios de saneamiento ambiental","Trimestre vencido (abril, julio, octubre y enero)"]
[null,null,null,null,null,"Otros servicios comunitarios CECUDI","Mes adelantado (inicio del mes arrendado)"]
[null,null,null,null,null,"Alquiler de mercado","Mes adelantado (inicio del mes arrendado)"]
[null,null,null,null,null,"Alquiler de locales en edificio terminal de buses                       ","Mes adelantado (inicio del mes arrendado)"]
[null,null,null,null,null,"Servicios de cementerio                                                            ","Trimestre vencido (abril, julio, octubre y enero)"]
[null,null,null,null,null,"Servicio de mantenimiento de parques obras y ornato             ","Trimestre vencido (abril, julio, octubre y enero)"]
[]
[]
[]
[null,null,null,null,null,null,{"$f":"IF(AND(D9=\"SI\",G10=\"\"),\"COMPLETAR_CAMPO\",\"\")","v":""}]

{"sheet":"NISCP_10","index":16,"n_rows":10,"n_cols":4,"rows_kept":10,"cut":false,"hidden":false,"merged":[]}
[]
[null,null,"NICSP 10 - Información Financiera en Economía Hiperinflacionarias"]
[]
[null,null,"Los cuadros de aplicación y procentaje de avance se completan de forma automatica al pegar la información "]
[null,null,"de la  pestaña \"MATRIZ_AUTOEVALUACION\"."]
[null,null,"Si esta es de aplicación, completar los cuadros con la información respectiva"]
[]
[null,null,"NICSP 10"]
[null,"NICSP_10","Aplica",{"$f":"VLOOKUP(B9,NICSP!$A:$H,6,0)","v":"No"}]
[null,"NICSP_10","Porcentaje_Avance",{"$f":"VLOOKUP(B10,NICSP!$A:$H,7,0)","v":""}]

{"sheet":"NICSP_11","index":17,"n_rows":10,"n_cols":4,"rows_kept":10,"cut":false,"hidden":false,"merged":[]}
[]
[null,null,"NICSP 11 - Contrato de Construcción"]
[]
[null,null,"Los cuadros de aplicación y procentaje de avance se completan de forma automatica al pegar la información "]
[null,null,"de la  pestaña \"MATRIZ_AUTOEVALUACION\"."]
[null,null,"Si esta es de aplicación, completar los cuadros con la información respectiva"]
[]
[null,null,"NICSP 11"]
[null,"NICSP_11","Aplica",{"$f":"VLOOKUP(B9,NICSP!$A:$H,6,0)","v":"No"}]
[null,"NICSP_11","Porcentaje_Avance",{"$f":"VLOOKUP(B10,NICSP!$A:$H,7,0)","v":""}]

{"sheet":"NICSP_12","index":18,"n_rows":32,"n_cols":12,"rows_kept":32,"cut":false,"hidden":false,"merged":[[18,6,18,7],[19,6,19,7],[20,6,20,7],[17,6,17,8],[11,2,11,4],[12,2,12,4],[13,2,13,4],[14,2,14,4],[15,2,15,4]]}
[]
[null,null,"NICSP 12 - Inventarios"]
[]
[null,null,"Los cuadros de aplicación y porcentaje de avance se completan de forma automática al pegar la información "]
[null,null,"de la  pestaña \"MATRIZ_AUTOEVALUACION\"."]
[null,null,"Si esta es de aplicación, completar los cuadros con la información respectiva"]
[]
[null,null,"NICSP 12"]
[null,"NICSP_12","Aplica",{"$f":"VLOOKUP(B9,NICSP!$A:$H,6,0)","v":"Si"}]
[null,"NICSP_12","Porcentaje_Avance",{"$f":"VLOOKUP(B10,NICSP!$A:$H,7,0)","v":0.97}]
[]
[null,null,"TIEMPOS DEL DEVENGO:",null,null,null,"Sistema de Inventario","SI","NO"]
[null,null,"Describir los tiempos del devengo ",null,null,null,"Perpetuo o constante",null,1]
[null,null,"en los insumos que por materialidad aplica:",null,null,null,"periódico",1]
[null,null,"Como parte de las políticas que están operando actualmente se tiene establecido reconocer el gasto de inventarios con base en el recuento que hacen los encargados de las diferentes bodegas trimestralmente, quienes informan a la contabilidad municipal los saldos de las existencias para que realice el registro respectivo.  Por lo tanto, el método que está operando actualmente es el de inventario periódico que hacen los encargados de las bodegas e informan loDe momento se está en proceso de construcción de las políticas y procedimientos de control para la administración de los inventarios de materiales y suministros, sustentado en el método de primera en entrar primera en salir.s saldos de las existencias."]
[null,null,"De momento se está en proceso de construcción de las políticas y procedimientos de control para la administración de los inventarios de materiales y suministros, sustentado en el método de primera en entrar primera en salir."]
[]
[null,null,null,null,null,null,"Inventarios Método Valuación PEPS.",null,null,"Observaciones"]
[null,null,null,null,null,null,"Nombre de responsables institucional ",null," Albán Serrano Siles, Proveedor Municipal"]
[null,null,null,null,null,null,"Fecha de ultimo inventario físico",null," 30 de junio de 2024"]
[null,null,null,null,null,null,"Fecha de ultimo asiento por depuración",null," 31 de mayo de 2023","Se registró el inventario de materiales y repuestos que mantiene la UTGV "]
[]
[]
[]
[]
[null,null,"Cantidad","No._inscripción","Ubicación","Categoría_Inventario","Medición","Valor_al_Inicio ","Altas"," Bajas","Monto_reconocido_como_gasto\n(En_el_Periódo)","Valor_al_Cierre"]
[null,null,null,null,null,"Bienes_Producidos_Terminados","Valor_Razonable"]
[null,null,null,null,null,"Materiales_y_suministros_para_proceso_productivo","Valor_Razonable",177192.02,null,null,289260.24393,194362.53]
[null,null,null,null,null,"Alimentos_y_Productos_Agrícolas_posterior_Cosecha_y_Recolección","Costo"]
[]
[]
[null,null,{"$f":"SUM(C27:C31)","v":0},"Totales",null,null,null,{"$f":"SUM(H27:H31)","v":177192.02},{"$f":"SUM(I27:I31)","v":0},0,289260.24393,194362.53]

{"sheet":"NICSP_13","index":19,"n_rows":121,"n_cols":42,"rows_kept":121,"cut":false,"hidden":false,"merged":[[78,7,78,9],[22,6,22,12],[22,16,22,17],[22,21,22,26],[22,30,22,31],[22,33,22,35],[22,37,22,41],[19,16,19,17],[19,30,19,31],[20,16,20,17],[20,30,20,31],[21,16,21,17],[21,30,21,31],[17,38,18,38],[17,39,18,39],[17,41,18,41],[18,16,18,17],[18,30,18,31],[17,35,18,35],[17,37,18,37],[12,5,12,6],[17,6,17,17],[17,20,17,31],[17,33,18,33],[17,34,18,34],[13,5,13,6]]}
[]
[null,null,"NICSP 13 - Arrendamientos"]
[]
[null,null,"Los cuadros de aplicación y porcentaje de avance se completan de forma automática al pegar la información "]
[null,null,"de la  pestaña \"MATRIZ_AUTOEVALUACION\"."]
[null,null,"Si esta es de aplicación, completar los cuadros con la información respectiva"]
[]
[null,null,"NICSP 13"]
[null,"NICSP_13","Aplica",{"$f":"VLOOKUP(B9,NICSP!$A:$H,6,0)","v":"Si"}]
[null,"NICSP_13","Porcentaje_Avance",{"$f":"VLOOKUP(B10,NICSP!$A:$H,7,0)","v":0.8}]
[]
[null,null,"Resumen","CANTIDAD ","MONTO TOTAL"]
[null,"NICSP_13_ARR_OPE","Arrendamiento Operativo",33,{"$f":"$P$23","v":50373.02},{"$f":"IF(AND(D9=\"SI\",D13<>\"\",E13>0),\"\",IF(OR(D9=0,D9=\"NO\"),\"\",\"REVELACION_JUSTIFICAR\"))","v":""}]
[null,"NICSP_13_ARR_FIN","Arrendamiento Financiero",0,{"$f":"$AD$23","v":0},{"$f":"IF(AND(D9=\"SI\",D14<>\"\",E14>0),\"\",IF(OR(D9=0,D9=\"NO\"),\"\",\"REVELACION_JUSTIFICAR\"))","v":"REVELACION_JUSTIFICAR"}]
[]
[]
[null,null,null,null,null,null,"ANEXOS"]
[null,null,null,null,null,null,"Arrendamiento Operativo",null,null,null,null,null,null,null,null,null,null,null,null,null,"Arrendamiento Financiero",null,null,null,null,null,null,null,null,null,null,null,null,"Ítem","No. Contrato","Descripción","Monto  ","Fiduciario","Fideicomisario","Tipo Arrendamiento (Operativo/Financiero)","Valor","Observación"]
[null,null,null,null,null,null,"Ítem","No. Contrato","Descripción","Fecha Inicio","Fecha Final","Ente vinculante (Proveedor)","Moneda del Contrato","Monto ₡","Monto $","Monto Total Colones","Observación",null,null,null,"Ítem","No. Contrato","Descripción","Fecha Inicio","Fecha Final","Ente vinculante (Proveedor)","Moneda del Contrato","Monto ₡","Monto $","Monto Total Colones","Observación",null,null,null,null,null,"Fideicomitente",null,null,null,"Razonable"]
[null,null,null,null,null,null,1,"Ver detalle inserto","17 Locales mercado municipal","Ver detalle inserto","Ver detalle inserto","Arrendatarios según control a cargo de la Administración del Mercado Municipal","Colones",24803.96,null,24803.96,null,null,null,null,1,null,null,null,null,null,null,0,null,0,null,null,null,1]
[null,null,null,null,null,null,2,"Ver detalle inserto","3 Locales terminal municipal de autobuses","Ver detalle inserto","Ver detalle inserto","Arrendatarios según control a cargo de la Administración del Mercado Municipal","Colones",13500,null,13500,null,null,null,null,2,null,null,null,null,null,null,0,null,0,null,null,null,2]
[null,null,null,null,null,null,3,"Ver detalle inserto","7 Espacio terminal municipal de autobuses","Ver detalle inserto","Ver detalle inserto","Arrendatarios según control a cargo de la Administración del Mercado Municipal","Colones",12069.06,null,12069.06,null,null,null,null,3,null,null,null,null,null,null,0,null,0,null,null,null,3]
[null,null,null,null,null,null,"GRAN TOTAL",null,null,null,null,null,null,{"$f":"SUM(N20:N22)","v":50373.02},{"$f":"SUM(O20:O22)","v":0},{"$f":"SUM(P20:P22)","v":50373.02},null,null,null,null,null,"GRAN TOTAL",null,null,null,null,null,{"$f":"SUM(AB20:AB22)","v":0},{"$f":"SUM(AC20:AC22)","v":0},{"$f":"SUM(AD20:AD22)","v":0},null,null,null,"GRAN TOTAL",null,null,{"$f":"SUM(AK20:AK22)","v":0}]
[]
[]
[]
[null,null,null,null,null,null,"TABLA DE FLUJOS POR CADA CONTRATO DE ARRENDAMIENTO"]
[]
[null,null,null,null,null,null,"Indicar para cada uno de los contratos por arrendamientos financieros las tablas de medición inicial y amortización"]
[]
[null,null,null,null,null,null,"Se detallan los cuadros respectivos como ejemplo, para arrendamiento con plazo de 36 meses"]
[]
[null,null,null,null,null,null,null,"Datos de Arrendamiento"]
[]
[null,null,null,null,null,null,null,"Plazo en meses",null,36]
[null,null,null,null,null,null,null,"Tasa",null,0]
[null,null,null,null,null,null,null,"Cuota mensual",null,0]
[]
[null,null,null,null,null,null,null,"Medición Inicial Pasivo por Arrendamiento",null,{"$f":"J37","v":0}]
[]
[null,null,null,null,null,null,null,"N° Flujo ","Flujos","Factor","Valor Presente"]
[null,null,null,null,null,null,null,0]
[null,null,null,null,null,null,null,1,{"$f":"$J$37","v":0},{"$f":"(1+$J$36)^-H43","v":1},{"$f":"J43*I43","v":0}]
[null,null,null,null,null,null,null,2,{"$f":"$J$37","v":0},{"$f":"+(1+$J$36)^-H44","v":1},0]
[null,null,null,null,null,null,null,3,0,1,0]
[null,null,null,null,null,null,null,4,0,1,0]
[null,null,null,null,null,null,null,5,0,1,0]
[null,null,null,null,null,null,null,6,0,1,0]
[null,null,null,null,null,null,null,7,0,1,0]
[null,null,null,null,null,null,null,8,0,1,0]
[null,null,null,null,null,null,null,9,0,1,0]
[null,null,null,null,null,null,null,10,0,1,0]
[null,null,null,null,null,null,null,11,0,1,0]
[null,null,null,null,null,null,null,12,0,1,0]
[null,null,null,null,null,null,null,13,0,1,0]
[null,null,null,null,null,null,null,14,0,1,0]
[null,null,null,null,null,null,null,15,0,1,0]
[null,null,null,null,null,null,null,16,0,1,0]
[null,null,null,null,null,null,null,17,0,1,0]
[null,null,null,null,null,null,null,18,0,1,0]
[null,null,null,null,null,null,null,19,0,1,0]
[null,null,null,null,null,null,null,20,0,1,0]
[null,null,null,null,null,null,null,21,0,1,0]
[null,null,null,null,null,null,null,22,0,1,0]
[null,null,null,null,null,null,null,23,0,1,0]
[null,null,null,null,null,null,null,24,0,1,0]
[null,null,null,null,null,null,null,25,0,1,0]
[null,null,null,null,null,null,null,26,0,1,0]
[null,null,null,null,null,null,null,27,0,1,0]
[null,null,null,null,null,null,null,28,0,1,0]
[null,null,null,null,null,null,null,29,0,1,0]
[null,null,null,null,null,null,null,30,0,1,0]
[null,null,null,null,null,null,null,31,0,1,0]
[null,null,null,null,null,null,null,32,0,1,0]
[null,null,null,null,null,null,null,33,0,1,0]
[null,null,null,null,null,null,null,34,0,1,0]
[null,null,null,null,null,null,null,35,0,1,0]
[null,null,null,null,null,null,null,36,0,1,0]
[null,null,null,null,null,null,null,"TOTAL ACTIVO EN DERECHO DE USO",null,null,{"$f":"SUM(K42:K78)","v":0}]
[]
[]
[null,null,null,null,null,null,null,"Tabla de Amortización por Arrendamiento"]
[]
[null,null,null,null,null,null,null,"N°_FLUJO","FLUJOS","INTERESES","AMORTIZACION","SALDOS"]
[null,null,null,null,null,null,null,0,null,null,null,{"$f":"K79","v":0}]
[null,null,null,null,null,null,null,1,{"$f":"$J$37","v":0},{"$f":"L85*$J$36","v":0},{"$f":"I86-J86","v":0},{"$f":"L85-K86","v":0}]
[null,null,null,null,null,null,null,2,{"$f":"$J$37","v":0},0,{"$f":"I87-J87","v":0},{"$f":"L86-K87","v":0}]
[null,null,null,null,null,null,null,3,0,0,0,0]
[null,null,null,null,null,null,null,4,0,0,0,0]
[null,null,null,null,null,null,null,5,0,0,0,0]
[null,null,null,null,null,null,null,6,0,0,0,0]
[null,null,null,null,null,null,null,7,0,0,0,0]
[null,null,null,null,null,null,null,8,0,0,0,0]
[null,null,null,null,null,null,null,9,0,0,0,0]
[null,null,null,null,null,null,null,10,0,0,0,0]
[null,null,null,null,null,null,null,11,0,0,0,0]
[null,null,null,null,null,null,null,12,0,0,0,0]
[null,null,null,null,null,null,null,13,0,0,0,0]
[null,null,null,null,null,null,null,14,0,0,0,0]
[null,null,null,null,null,null,null,15,0,0,0,0]
[null,null,null,null,null,null,null,16,0,0,0,0]
[null,null,null,null,null,null,null,17,0,0,0,0]
[null,null,null,null,null,null,null,18,0,0,0,0]
[null,null,null,null,null,null,null,19,0,0,0,0]
[null,null,null,null,null,null,null,20,0,0,0,0]
[null,null,null,null,null,null,null,21,0,0,{"$f":"I106-J106","v":0},{"$f":"L105-K106","v":0}]
[null,null,null,null,null,null,null,22,0,0,0,0]
[null,null,null,null,null,null,null,23,0,0,0,0]
[null,null,null,null,null,null,null,24,0,0,0,0]
[null,null,null,null,null,null,null,25,0,0,0,0]
[null,null,null,null,null,null,null,26,0,0,0,0]
[null,null,null,null,null,null,null,27,0,0,0,0]
[null,null,null,null,null,null,null,28,0,0,0,0]
[null,null,null,null,null,null,null,29,0,0,0,0]
[null,null,null,null,null,null,null,30,0,0,0,0]
[null,null,null,null,null,null,null,31,0,0,0,0]
[null,null,null,null,null,null,null,32,0,0,0,0]
[null,null,null,null,null,null,null,33,0,0,0,0]
[null,null,null,null,null,null,null,34,0,0,0,0]
[null,null,null,null,null,null,null,35,0,0,0,0]
[null,null,null,null,null,null,null,36,0,0,0,0]

{"sheet":"NICSP_14","index":20,"n_rows":25,"n_cols":6,"rows_kept":25,"cut":false,"hidden":false,"merged":[[14,4,14,5]]}
[]
[null,null,"NICSP 14 - Hechos ocurridos después de fecha de presentación"]
[]
[null,null,"Los cuadros de aplicación y porcentaje de avance se completan de forma automática al pegar la información "]
[null,null,"de la  pestaña \"MATRIZ_AUTOEVALUACION\"."]
[null,null,"Si esta es de aplicación, completar los cuadros con la información respectiva"]
[]
[null,null,"NICSP 14"]
[null,"NICSP_14","Aplica",{"$f":"VLOOKUP(B9,NICSP!$A:$H,6,0)","v":"Si"}]
[null,"NICSP_14","Porcentaje_Avance",{"$f":"VLOOKUP(B10,NICSP!$A:$H,7,0)","v":1}]
[]
[]
[null,null,"Eventos_posterior_del_cierre",null,{"$f":"IF(D13=\"\",\"COMPLETAR_CAMPO\",\"\")","v":"COMPLETAR_CAMPO"}]
[]
[null,null,null,null,"Indique los eventos posteriores después del cierre"]
[null,null,null,null,"Fecha de cierre"]
[null,null,null,null,"Fecha del Evento"]
[null,null,null,null,"Descripción"]
[null,null,null,null,"Cuenta Contable"]
[null,null,null,null,"Materialidad"]
[null,null,null,null,"Oficio de ente fiscalizador que lo detecto"]
[null,null,null,null,"Oficio de la administración que lo detecto"]
[null,null,null,null,"Fecha de Re expresión"]
[null,null,null,null,"Observaciones"]
[null,null,null,null,null,{"$f":"IF(AND(D13=\"SI\",F16=\"\"),\"COMPLETAR_CAMPO\",\"\")","v":""}]

{"sheet":"NICSP_16","index":21,"n_rows":21,"n_cols":12,"rows_kept":21,"cut":false,"hidden":false,"merged":[[13,3,13,4]]}
[]
[null,null,"NICSP 16 - Propiedades de Inversión"]
[]
[null,null,"Los cuadros de aplicación y porcentaje de avance se completan de forma automática al pegar la información "]
[null,null,"de la  pestaña \"MATRIZ_AUTOEVALUACION\"."]
[null,null,"Si esta es de aplicación, completar los cuadros con la información respectiva"]
[]
[null,null,"NICSP 16"]
[null,"NICSP_16","Aplica",{"$f":"VLOOKUP(B9,NICSP!$A:$H,6,0)","v":"No"}]
[null,"NICSP_16","Porcentaje_Avance",{"$f":"VLOOKUP(B10,NICSP!$A:$H,7,0)","v":""}]
[]
[null,null,"Resumen","CANTIDAD ","MONTO TOTAL"]
[null,"NICSP_16_PROP_INV","Propiedades de Inversión",null,{"$f":"$J$21","v":0},null,"ANEXOS"]
[null,null,null,{"$f":"IF(AND(D9=\"SI\",D13<>\"\",E13>0),\"\",IF(OR(D9=0,D9=\"NO\"),\"\",\"REVELACION_JUSTIFICAR\"))","v":""},null,null,"Ítem","No. Propiedad","Ubicación","Monto","Cuenta contable","Observaciones"]
[null,null,null,null,null,{"$f":"SUM(D13:E13)","v":0},1]
[null,null,null,null,null,null,2]
[null,null,null,null,null,null,3]
[null,null,null,null,null,null,4]
[null,null,null,null,null,null,5]
[null,null,null,null,null,null,6]
[null,null,null,null,null,null,"GRAN TOTAL",null,null,{"$f":"SUM(J15:J20)","v":0}]

{"sheet":"NICSP_17","index":22,"n_rows":28,"n_cols":22,"rows_kept":28,"cut":false,"hidden":false,"merged":[[25,2,25,3]]}
[]
[null,null,"NICSP 17 - Propiedad Planta y Equipo"]
[]
[null,null,"Los cuadros de aplicación y porcentaje de avance se completan de forma automática al pegar la información "]
[null,null,"de la  pestaña \"MATRIZ_AUTOEVALUACION\"."]
[null,null,"Si esta es de aplicación, completar los cuadros con la información respectiva"]
[]
[null,null,"NICSP 17"]
[null,"NICSP_17","Aplica",{"$f":"VLOOKUP(B9,NICSP!$A:$H,6,0)","v":"Si"}]
[null,"NICSP_17","Porcentaje_Avance",{"$f":"VLOOKUP(B10,NICSP!$A:$H,7,0)","v":0.96}]
[]
[null,null,"Resumen","PPE"]
[null,"NICSP_17_C","CANTIDAD ",{"$f":"$F$26","v":1002}]
[null,"NICSP_17_VI","Valor  Inicio ",{"$f":"$M$26","v":164474502.56543002}]
[null,"NICSP_17_ALT","Altas",{"$f":"$P$26","v":388918.62230000005},null,"Cantidad","No._inscripción","Ubicación","Categoría_Activo","Registro_EEFF // Revelación","Medición","Vida_útil_en_años","Costo_al_Inicio ","Revaluaciones","Mejoras","Altas"," Bajas","Depreciación","Deterioro","Ajustes_por_reversión_de_Deterioro ","Ajustes_por_diferencias_derivadas_T.C.","Valor_al_Cierre"]
[null,"NICSP_17_BAJ"," Bajas",{"$f":"-$Q$26","v":-1597.5},null,17,"Ver Detalle","MBA","Edificios y Terrenos","Registro","Valor_Razonable","Ver detalle",1277039.2731000001,null,null,21370.15,0,44762.491695166049,null,null,null,{"$f":"M16+P16-Q16-R16","v":1253646.9314048339}]
[null,"NICSP_17_DEPR","Depreciación",{"$f":"-$R$26","v":-1749525.9691869207},null,121,"Ver Detalle","MBA","Maquinaria y equipos para la  producción","Registro","Costo","Ver detalle",2051579.4645,null,null,282324.83791,0,1395577.5247038659,null,null,null,{"$f":"M17+P17-Q17-R17","v":938326.77770613413}]
[null,"NICSP_17_DET","Deterioro",{"$f":"-$S$26","v":0},null,18,"Ver Detalle","MBA","Equipos de transporte, tracción y elevación","Registro","Costo","Ver detalle",171300.81999999998,null,null,49444.63,0,168080.36786499966,null,null,null,52665.082135000324]
[null,"NICSP_17_AJ_DET","Ajustes por reversión de Deterioro ",{"$f":"$T$26","v":0},null,124,"Ver Detalle","MBA","Equipos de comunicación","Registro","Costo","Ver detalle",32142.276000000002,null,null,2140.1239999999998,0,15013.162358469968,null,null,null,19269.237641530031]
[null,"NICSP_17_AJ_TC","Ajustes por diferencias derivadas T.C.",{"$f":"$U$26","v":0},null,362,"Ver Detalle","MBA","Equipos y mobiliario de oficina","Registro","Costo","Ver detalle",69862.609999999986,null,null,6536.9560000000001,1597.5,40771.205810000007,null,null,null,34030.860189999985]
[null,"NICSP_17_VC","Valor al Cierre",{"$f":"$V$26","v":163112297.71854311},null,307,"Ver Detalle","MBA","Equipos para computación","Registro","Costo","Ver detalle",99324.46,null,null,13698.08527,0,79859.223876415519,null,null,null,33163.321393584483]
[null,null,null,null,null,26,"Ver Detalle","MBA","Equipos de seguridad, orden, vigilancia y control público","Registro","Costo","Ver detalle",2333.87,null,null,770.625,0,1382.6701001111112,null,null,null,1721.8248998888887]
[null,null,null,null,null,25,"Ver Detalle","MBA","Maquinarias, equipos y mobiliarios diversos","Registro","Costo","Ver detalle",5421.7100700000001,null,null,12633.214119999999,0,3237.1120692258301,null,null,null,14817.812120774168]
[null,null,null,null,null,2,"Ver Detalle","MBA","Equipos y mobiliario educacional, deportivo y recreativo","Registro","Costo","Ver detalle",0,null,null,0,0,842.21070866666673,null,null,null,-842.21070866666673]
[null,null,null,null,null,null,"Ver Detalle","MBA","Bienes de infraestructura y de beneficio y uso público en servicio","Registro","Valor_Razonable","Ver detalle",160765498.08176002,null,null,0,0,0,null,null,null,160765498.08176002]
[null,null,{"$f":"IF(AND(D9=\"SI\",D13=0),\"REVELACION_JUSTIFICAR\",\"\")","v":""},null,null,{"$f":"SUM(F16:F24)","v":1002}," "," ",null," "," "," ",{"$f":"SUM(M16:M25)","v":164474502.56543002},{"$f":"SUM(N16:N21)","v":0},{"$f":"SUM(O16:O21)","v":0},{"$f":"SUM(P16:P25)","v":388918.62230000005},{"$f":"SUM(Q16:Q25)","v":1597.5},{"$f":"SUM(R16:R25)","v":1749525.9691869207},{"$f":"SUM(S16:S21)","v":0},{"$f":"SUM(T16:T21)","v":0},{"$f":"SUM(U16:U21)","v":0},{"$f":"SUM(V16:V25)","v":163112297.71854311}]
[]
[null,null,null,null,null," ",null,null,null,null,null,null,null,null,null,{"$f":"M26+P26-Q26","v":164861823.68773001}]

{"sheet":"NICSP_18","index":23,"n_rows":10,"n_cols":7,"rows_kept":10,"cut":false,"hidden":false,"merged":[]}
[]
[null,null,"NICSP 18 - Información Financiera por Segmentos"]
[]
[null,null,"Los cuadros de aplicación y porcentaje de avance se completan de forma automática al pegar la información "]
[null,null,"de la  pestaña \"MATRIZ_AUTOEVALUACION\"."]
[null,null,"Si esta es de aplicación, completar los cuadros con la información respectiva"]
[]
[null,null,"NICSP 18"]
[null,"NICSP_18","Aplica",{"$f":"VLOOKUP(B9,NICSP!$A:$H,6,0)","v":"No"},null,"Ente contable","Código de Segmento asignado"]
[null,"NICSP_18","Porcentaje_Avance",{"$f":"VLOOKUP(B10,NICSP!$A:$H,7,0)","v":""}]

{"sheet":"NICSP_19_ACTIVO","index":24,"n_rows":80,"n_cols":46,"rows_kept":80,"cut":false,"hidden":false,"merged":[[23,43,24,43],[23,44,24,44],[23,45,24,45],[23,4,24,4],[23,26,24,26],[23,27,24,27],[23,34,24,34],[23,35,24,35],[23,36,24,36],[23,37,24,37],[23,15,24,15],[23,14,24,14],[23,16,24,16],[23,17,24,17],[23,24,24,24],[23,25,24,25],[18,8,18,9],[18,5,18,6],[23,6,24,6],[23,5,24,5],[23,7,24,7]]}
[]
[null,null,"NICSP 19 - Activos y Pasivos Contingentes"]
[]
[null,null,"Los cuadros de aplicación y porcentaje de avance se completan de forma automática al pegar la información "]
[null,null,"de la  pestaña \"MATRIZ_AUTOEVALUACION\"."]
[null,null,"Si esta es de aplicación, completar los cuadros con la información respectiva"]
[]
[null,null,"NICSP 19 Activos Contingentes"]
[null,"NICSP_19","Aplica",{"$f":"VLOOKUP(B9,NICSP!$A:$H,6,0)","v":"Si"}]
[null,"NICSP_19","Porcentaje_Avance",{"$f":"VLOOKUP(B10,NICSP!$A:$H,7,0)","v":0.92}]
[]
[]
[null,null,null,null,null,"Resumen\nMontos","Activos Contingentes",null,"Resumen\nCantidad ","Activos Contingentes"]
[null,"NICSP_19_A_PI",null,null,null,"Pretensión Inicial",{"$f":"$M$31","v":0},null,"Pretensión Inicial"]
[null,"NICSP_19_A_P1",null,null,null,"Resolución provisional 1",{"$f":"$W$31","v":0},null,"Resolución provisional 1"]
[null,"NICSP_19_A_P2",null,null,null,"Resolución provisional 2",{"$f":"$AG$31","v":0},null,"Resolución provisional 2"]
[null,"NICSP_19_A_RF",null,null,null,"Resolución en firme",{"$f":"$AQ$31","v":0},null,"Resolución en firme"]
[null,"NICSP_19_A_TOTAL",null,null,null,"GRAN TOTAL",{"$f":"SUM(G14:G17)","v":0},null,"GRAN TOTAL",{"$f":"SUM(J14:J17)","v":0}]
[null,null,null,null,null,{"$f":"IF(AND(D9=\"SI\",G18=0),\"REVELACION_JUSTIFICAR\",\"\")","v":"REVELACION_JUSTIFICAR"},null,null,{"$f":"IF(AND(D9=\"SI\",J18=0),\"REVELACION_JUSTIFICAR\",\"\")","v":"REVELACION_JUSTIFICAR"}]
[]
[]
[null,null,null,null,"ANEXOS"]
[null,null,null,null,null,"Activos Contingentes (NICSP 19)"]
[null,null,null,null,"#","Nº de Expediente judicial","Nombre Actor","Motivo demanda","Pretensión Inicial",null,null,null,null,null,"#","Nº de Expediente judicial","Nombre Actor","Motivo de la demanda","Resolución provisional 1",null,null,null,null,null,"#","Nº de Expediente judicial","Nombre Actor","Motivo de la demanda","Resolución provisional 2",null,null,null,null,null,"#","Nº de Expediente judicial","Nombre Actor","Motivo de la demanda","Resolución en firme",null,null,null,null,"Fecha de recepción de pago","Monto recibido","Observaciones"]
[null,null,null,null,null,null,null,null,"Fecha","Moneda","Monto","Tipo de Cambio","Monto colones",null,null,null,null,null,"Fecha","Moneda","Monto","Tipo de Cambio","Monto colones",null,null,null,null,null,"Fecha","Moneda","Monto","Tipo de Cambio","Monto colones",null,null,null,null,null,"Fecha","Monto","Moneda","Tipo de Cambio","Monto colones"]
[null,null,null,null,1,null,null,null,null,null,null,null,null,null,1,null,null,null,null,null,null,null,null,null,1,null,null,null,null,null,null,null,null,null,1,null,null,null,null," "]
[null,null,null,null,2,null,null,null,null,null,null,null,null,null,2,null,null,null,null,null,null,null,null,null,2,null,null,null,null,null,null,null,null,null,2]
[null,null,null,null,3,null,null,null,null,null,null,null,null,null,3,null,null,null,null,null,null,null,null,null,3,null,null,null,null,null,null,null,null,null,3]
[null,null,null,null,4,null,null,null,null,null,null,null,null,null,4,null,null,null,null,null,null,null,null,null,4,null,null,null,null,null,null,null,null,null,4]
[null,null,null,null,5,null,null,null,null,null,null,null,null,null,5,null,null,null,null,null,null,null,null,null,5,null,null,null,null,null,null,null,null,null,5]
[null,null,null,null,null,null,null,null," Total en colones ",null,null,null,{"$f":"SUM(M26:M30)","v":0},null,null,null,null,null," Total en colones ",null,null,null,{"$f":"SUM(W26:W30)","v":0},null,null,null,null,null," Total en colones ",null,null,null,{"$f":"SUM(AG26:AG30)","v":0},null,null,null,null,null," Total en colones ",null,null,null,{"$f":"SUM(AQ26:AQ30)","v":0}]
[]
[]
[]
[]
[]
[]
[]
[]
[]
[]
[]
[]
[]
[]
[]
[]
[]
[]
[]
[]
[]
[]
[]
[]
[]
[]
[]
[]
[]
[]
[]
[]
[]
[]
[]
[]
[]
[]
[]
[]
[]
[]
[]
[]
[]
[]
[null,null,null,null,null,null,null,null,null,"Hecho por:"]
[null,null,null,null,null,null,null,null,null,"Revisado por:"]
[null,null,null,null,null,null,null,null,null,"Aprobado por:"]

{"sheet":"NICSP_19_PASIVO","index":25,"n_rows":99,"n_cols":46,"rows_kept":99,"cut":false,"hidden":false,"merged":[[23,44,24,44],[23,45,24,45],[18,5,18,6],[18,8,18,9],[23,26,24,26],[23,27,24,27],[23,34,24,34],[23,35,24,35],[23,36,24,36],[23,43,24,43],[23,14,24,14],[23,15,24,15],[23,16,24,16],[23,17,24,17],[23,24,24,24],[23,25,24,25],[97,9,97,12],[98,9,98,12],[23,4,24,4],[23,5,24,5],[23,6,24,6],[23,7,24,7],[23,38,23,42],[23,28,23,32],[23,18,23,22],[23,8,23,12],[96,9,96,12]]}
[]
[null,null,"NICSP 19 - Activos y Pasivos Contingentes"]
[]
[null,null,"Los cuadros de aplicación y porcentaje de avance se completan de forma automática al pegar la información "]
[null,null,"de la  pestaña \"MATRIZ_AUTOEVALUACION\"."]
[null,null,"Si esta es de aplicación, completar los cuadros con la información respectiva"]
[]
[null,null,"NICSP 19 Pasivos Contingentes"]
[null,"NICSP_19","Aplica",{"$f":"VLOOKUP(B9,NICSP!$A:$H,6,0)","v":"Si"}]
[null,"NICSP_19","Porcentaje_Avance",{"$f":"VLOOKUP(B10,NICSP!$A:$H,7,0)","v":0.92}]
[]
[]
[null,null,null,null,null,"Resumen\nMontos","Pasivos Contingentes",null,"Resumen\nCantidad ","Pasivos Contingentes"]
[null,"NICSP_19_P_PI",null,null,null,"Pretensión Inicial",{"$f":"$M$31","v":0},null,"Pretensión Inicial"]
[null,"NICSP_19_P_P1",null,null,null,"Resolución provisional 1",{"$f":"$W$31","v":0},null,"Resolución provisional 1"]
[null,"NICSP_19_P_P2",null,null,null,"Resolución provisional 2",{"$f":"$AG$31","v":0},null,"Resolución provisional 2"]
[null,"NICSP_19_P_RF",null,null,null,"Resolución en firme",{"$f":"$AQ$31","v":0},null,"Resolución en firme"]
[null,"NICSP_19_P_TOTAL",null,null,null,"GRAN TOTAL",{"$f":"SUM(G14:G17)","v":0},null,"GRAN TOTAL",{"$f":"SUM(J14:J17)","v":0}]
[null,null,null,null,null,{"$f":"IF(AND(D9=\"SI\",G18=0),\"REVELACION_JUSTIFICAR\",\"\")","v":"REVELACION_JUSTIFICAR"},null,null,{"$f":"IF(AND(D9=\"SI\",J18=0),\"REVELACION_JUSTIFICAR\",\"\")","v":"REVELACION_JUSTIFICAR"}]
[]
[]
[null,null,null,null,"ANEXOS"]
[null,null,null,null,"Pasivos Contingentes (NICSP 19)"]
[null,null,null,null,"#","Nº de Expediente judicial","Nombre Demandado","Motivo demanda","Pretensión Inicial",null,null,null,null,null,"#","Nº de Expediente judicial","Nombre Demandado","Motivo de la demanda","Resolución provisional 1",null,null,null,null,null,"#","Nº de Expediente judicial","Nombre Demandado","Motivo de la demanda","Resolución provisional 2",null,null,null,null,null,"#","Nº de Expediente judicial","Nombre Demandado","Motivo de la demanda","Resolución en firme",null,null,null,null,"Fecha de recepción de pago","Monto recibido","Observaciones"]
[null,null,null,null,null,null,null,null,"Fecha","Moneda","Monto","Tipo de Cambio","Monto colones",null,null,null,null,null,"Fecha","Monto","Moneda","Tipo de Cambio","Monto colones",null,null,null,null,null,"Fecha","Moneda","Monto","Tipo de Cambio","Monto colones",null,null,null,null,null,"Fecha","Monto","Moneda","Tipo de Cambio","Monto colones"]
[null,null,null,null,1,null,null,null,null,null,null,null,null,null,1,null,null,null,null,null,null,null,null,null,1,null,null,null,null,null,null,null,null,null,1]
[null,null,null,null,2,null,null,null,null,null,null,null,null,null,2,null,null,null,null,null,null,null,null,null,2,null,null,null,null,null,null,null,null,null,2]
[null,null,null,null,3,null,null,null,null,null,null,null,null,null,3,null,null,null,null,null,null,null,null,null,3,null,null,null,null,null,null,null,null,null,3]
[null,null,null,null,4,null,null,null,null,null,null,null,null,null,4,null,null,null,null,null,null,null,null,null,4,null,null,null,null,null,null,null,null,null,4]
[null,null,null,null,5,null,null,null,null,null,null,null,null,null,5,null,null,null,null,null,null,null,null,null,5,null,null,null,null,null,null,null,null,null,5]
[null,null,null,null,{"$f":"COUNT(E26:E30)","v":5},null,null,null," Total en colones ",null,null,null,{"$f":"SUM(M26:M30)","v":0},null,{"$f":"COUNT(O26:O30)","v":5},null,null,null," Total en colones ",null,null,null,{"$f":"SUM(W26:W30)","v":0},null,{"$f":"COUNT(Y26:Y30)","v":5},null,null,null," Total en colones ",null,null,null,{"$f":"SUM(AG26:AG30)","v":0},null,{"$f":"COUNT(AI26:AI30)","v":5},null,null,null," Total en colones ",null,null,null,{"$f":"SUM(AQ26:AQ27)","v":0}]
[]
[]
[]
[]
[]
[]
[]
[]
[]
[]
[]
[]
[]
[]
[]
[]
[]
[]
[]
[]
[]
[]
[]
[]
[]
[]
[]
[]
[]
[]
[]
[]
[]
[]
[]
[]
[]
[]
[]
[]
[]
[]
[]
[]
[]
[]
[]
[]
[]
[]
[]
[]
[]
[]
[]
[]
[]
[]
[]
[]
[]
[]
[]
[]
[]
[null,null,null,null,null,null,null,null,null,"Hecho por:"]
[null,null,null,null,null,null,null,null,null,"Revisado por:"]
[null,null,null,null,null,null,null,null,null,"Aprobado por:"]

{"sheet":"NICSP_20","index":26,"n_rows":13,"n_cols":11,"rows_kept":13,"cut":false,"hidden":false,"merged":[[11,6,12,6],[11,7,12,7],[11,10,12,10],[11,8,11,9]]}
[]
[null,null,"NICSP 20 - Información a revelar sobre partes relacionadas"]
[]
[null,null,"Los cuadros de aplicación y porcentaje de avance se completan de forma automática al pegar la información "]
[null,null,"de la  pestaña \"MATRIZ_AUTOEVALUACION\"."]
[null,null,"Si esta es de aplicación, completar los cuadros con la información respectiva"]
[]
[null,null,"NICSP 20"]
[null,"NICSP_20","Aplica",{"$f":"VLOOKUP(B9,NICSP!$A:$H,6,0)","v":"Si"}]
[null,"NICSP_20","Porcentaje_Avance",{"$f":"VLOOKUP(B10,NICSP!$A:$H,7,0)","v":0.6399999999999999}]
[]
[null,null,null,null,null,null,"Nombre funcionario","Fecha de presentación","Partes relacionadas",null,"Observaciones"]
[null,null,null,null,null,null,null,null,"SI","NO "]

{"sheet":"NICSP_21","index":27,"n_rows":13,"n_cols":4,"rows_kept":13,"cut":false,"hidden":false,"merged":[[12,2,12,8]]}
[]
[null,null,"NICSP 21 - Deterioro de Valor de Activos no generadores de Efectivo"]
[]
[null,null,"Los cuadros de aplicación y procentaje de avance se completan de forma automatica al pegar la información "]
[null,null,"de la  pestaña \"MATRIZ_AUTOEVALUACION\"."]
[null,null,"Si esta es de aplicación, completar los cuadros con la información respectiva"]
[]
[null,null,"NICSP 21"]
[null,"NICSP_21","Aplica",{"$f":"VLOOKUP(B9,NICSP!$A:$H,6,0)","v":"Si"}]
[null,"NICSP_21","Porcentaje_Avance",{"$f":"VLOOKUP(B10,NICSP!$A:$H,7,0)","v":0.27}]
[]
[]
[null,null,"Lo relacionado con Pandemia se establece en la nota de Impacto de Pandemia, si poseen Deterioro del Valor de Activos No Generadores de Efectivo, que no tiene relación con la Pandemia, si se debe hacer la revelación"]

{"sheet":"NICSP_22","index":28,"n_rows":10,"n_cols":4,"rows_kept":10,"cut":false,"hidden":false,"merged":[]}
[]
[null,null,"NICSP 22 - Revelación de Información Financiera sobre Sector Gobierno General"]
[]
[null,null,"Los cuadros de aplicación y procentaje de avance se completan de forma automatica al pegar la información "]
[null,null,"de la  pestaña \"MATRIZ_AUTOEVALUACION\"."]
[null,null,"Si esta es de aplicación, completar los cuadros con la información respectiva"]
[]
[null,null,"NICSP 22"]
[null,"NICSP_22","Aplica",{"$f":"VLOOKUP(B9,NICSP!$A:$H,6,0)","v":"No"}]
[null,"NICSP_22","Porcentaje_Avance",{"$f":"VLOOKUP(B10,NICSP!$A:$H,7,0)","v":""}]

{"sheet":"NICSP_23","index":29,"n_rows":22,"n_cols":7,"rows_kept":22,"cut":false,"hidden":false,"merged":[[13,5,14,5]]}
[]
[null,null,"NICSP 23 - Ingresos de transacciones sin contraprestación (Impuestos y Transferencias)"]
[]
[null,null,"Los cuadros de aplicación y porcentaje de avance se completan de forma automática al pegar la información "]
[null,null,"de la  pestaña \"MATRIZ_AUTOEVALUACION\"."]
[null,null,"Si esta es de aplicación, completar los cuadros con la información respectiva"]
[]
[null,null,"NICSP 23"]
[null,"NICSP_23","Aplica",{"$f":"VLOOKUP(B9,NICSP!$A:$H,6,0)","v":"Si"}]
[null,"NICSP_23","Porcentaje_Avance",{"$f":"VLOOKUP(B10,NICSP!$A:$H,7,0)","v":0.96}]
[]
[null,null,null,null,null,"TIPO DE INGRESO","TIEMPOS DEL DEVENGO:"]
[null,null,null,null,null,"Impuesto sobre bienes inmuebles","Trimestre adelantado (marzo, junio, setiembre y diciembre)"]
[null,null,null,null,null,"Impuestos específicos sobre la producción y consumo de bienes","Trimestre adelantado los impuesto de patentes comerciales y licores (marzo, junio, setiembre y enero)"]
[null,null,null,null,null,null,"Al momento de darse el hecho generador (impuesto permisos de construcción)"]
[null,null,null,null,null,"Transferencias corrientes","Asignación presupuestaria del ente concedente."]
[null,null,null,null,null,"Transferencias de capital","Asignación presupuestaria del ente concedente."]
[]
[]
[]
[]
[null,null,null,null,null,null,{"$f":"IF(AND(D9=\"SI\",G13=\"\"),\"COMPLETAR_CAMPO\",\"\")","v":""}]

{"sheet":"NICSP_24","index":30,"n_rows":22,"n_cols":9,"rows_kept":22,"cut":false,"hidden":false,"merged":[[21,6,21,7],[21,8,21,9],[17,6,17,7],[17,8,17,9],[18,6,18,7],[18,8,18,9],[19,6,19,7],[19,8,19,9],[15,6,15,7],[15,8,15,9],[16,6,16,7],[16,8,16,9],[20,6,20,7],[20,8,20,9],[11,5,11,9],[12,6,12,9],[13,6,13,9],[14,6,14,7],[14,8,14,9]]}
[]
[null,null,"NICSP 24 - Presentación de información del presupuesto en los Estados Financieros"]
[]
[null,null,"Los cuadros de aplicación y porcentaje de avance se completan de forma automática al pegar la información "]
[null,null,"de la  pestaña \"MATRIZ_AUTOEVALUACION\"."]
[null,null,"Si esta es de aplicación, completar los cuadros con la información respectiva"]
[]
[null,null,"NICSP 24"]
[null,"NICSP_24","Aplica",{"$f":"VLOOKUP(B9,NICSP!$A:$H,6,0)","v":"Si"}]
[null,"NICSP_24","Porcentaje_Avance",{"$f":"VLOOKUP(B10,NICSP!$A:$H,7,0)","v":0.63}]
[]
[null,null,null,null,null,"LIQUIDACION PRESUPUESTARIA"]
[null,null,null,null,null,"PERIODO",2023]
[null,null,null,null,null,"OFICIO ENVIO A CGR","AMBA-000-2024"]
[null,null,null,null,null,"INGRESOS",0,null,6570317.6200000001]
[null,null,null,null,null,null,0,null,0]
[null,null,null,null,null,null,0,null,0]
[null,null,null,null,null,"GASTOS",0,null,5924962.3499999996]
[null,null,null,null,null,null,0,null,0]
[null,null,null,null,null,null,0,null,0]
[null,null,null,null,null,"SUPERAVIT/DEFICIT",0,null,645355.27]
[null,null,null,null,null,null,0,null,0]

{"sheet":"NICSP_26","index":31,"n_rows":13,"n_cols":4,"rows_kept":13,"cut":false,"hidden":false,"merged":[[12,2,12,8]]}
[]
[null,null,"NICSP 26 - Deterioro del Valor de Activos generadores de efectivo"]
[]
[null,null,"Los cuadros de aplicación y procentaje de avance se completan de forma automatica al pegar la información "]
[null,null,"de la  pestaña \"MATRIZ_AUTOEVALUACION\"."]
[null,null,"Si esta es de aplicación, completar los cuadros con la información respectiva"]
[]
[null,null,"NICSP 26"]
[null,"NICSP_26","Aplica",{"$f":"VLOOKUP(B9,NICSP!$A:$H,6,0)","v":"Si"}]
[null,"NICSP_26","Porcentaje_Avance",{"$f":"VLOOKUP(B10,NICSP!$A:$H,7,0)","v":0.3}]
[]
[]
[null,null,"Lo relacionado con Pandemia se establece en la nota de Impacto de Pandemia, si poseen Deterioro del Valor de Activos Generadores de Efectivo, que no tiene relación con la Pandemia, si se debe hacer la revelación,"]

{"sheet":"NICSP_27","index":32,"n_rows":23,"n_cols":20,"rows_kept":23,"cut":false,"hidden":false,"merged":[[14,6,14,8]]}
[]
[null,null,"NICSP 27 - Agricultura"]
[]
[null,null,"Los cuadros de aplicación y porcentaje de avance se completan de forma automática al pegar la información "]
[null,null,"de la  pestaña \"MATRIZ_AUTOEVALUACION\"."]
[null,null,"Si esta es de aplicación, completar los cuadros con la información respectiva"]
[]
[null,null,"NICSP 27"]
[null,"NICSP_27","Aplica",{"$f":"VLOOKUP(B9,NICSP!$A:$H,6,0)","v":"No"}]
[null,"NICSP_27","Porcentaje_Avance",{"$f":"VLOOKUP(B10,NICSP!$A:$H,7,0)","v":""}]
[]
[null,null,null,null,null,"Resumen","Activos biológicos","Productos Agrícolas","Productos resultantes del procesamiento tras la cosecha o recolección"]
[null,"NICSP_27_CAN",null,null,null,"CANTIDAD ",null,null,null,{"$f":"SUM(G13:I13)","v":0}]
[null,"NICSP_27_MON",null,null,null,"MONTO TOTAL",{"$f":"$J$23","v":0},{"$f":"$O$23","v":0},{"$f":"+$T$23","v":0},{"$f":"SUM(G14:I14)","v":0}]
[null,null,null,null,null,null,{"$f":"IF(AND(D9=\"SI\",J14=0,J13=0),\"REVELACION_JUSTIFICAR\",IF(AND(D9=\"SI\",J14=0,J13<>0),\"REVELACION_JUSTIFICAR\",IF(AND(D9=\"SI\",J14<>0,J13=0),\"REVELACION_JUSTIFICAR\",\"\")))","v":""}]
[]
[null,null,null,null,null,null,"ANEXOS"]
[]
[null,null,null,null,null,null,"#","Activos biológicos","Cuenta Contable","Monto",null,"#","Productos Agrícolas","Cuenta Contable","Monto",null,"#","Productos resultantes del procesamiento tras la cosecha o recolección","Cuenta Contable","Monto"]
[null,null,null,null,null,null,1,null,null,null,null,1,null,null,null,null,1]
[null,null,null,null,null,null,2,null,null,null,null,2,null,null,null,null,2]
[null,null,null,null,null,null,3,null,null,null,null,3,null,null,null,null,3]
[null,null,null,null,null,null,"GRAN TOTAL",null,null,{"$f":"SUM(J20:J22)","v":0},null,"GRAN TOTAL",null,null,{"$f":"SUM(O20:O22)","v":0},null,"GRAN TOTAL",null,null,{"$f":"SUM(T20:T22)","v":0}]

{"sheet":"NICSP_28_29_30","index":33,"n_rows":90,"n_cols":11,"rows_kept":90,"cut":false,"hidden":false,"merged":[[25,5,25,6],[75,3,75,10],[53,3,53,10],[33,3,33,5],[33,8,33,9],[41,3,41,5],[41,8,41,9]]}
[]
[null,null,"NICSP 28 - 29 - 30 - Instrumentos Financieros (Presentación, Reconocimiento Medición y Revelación)"]
[]
[null,null,"Los cuadros de aplicación y porcentaje de avance se completan de forma automática al pegar la información "]
[null,null,"de la  pestaña \"MATRIZ_AUTOEVALUACION\"."]
[null,null,"Si esta es de aplicación, completar los cuadros con la información respectiva"]
[]
[]
[null,null,"NICSP 28"]
[null,"NICSP_28","Aplica",{"$f":"VLOOKUP(B10,NICSP!$A:$H,6,0)","v":"Si"}]
[null,"NICSP_28","Porcentaje_Avance",{"$f":"VLOOKUP(B11,NICSP!$A:$H,7,0)","v":1}]
[]
[null,null,"NICSP 29"]
[null,"NICSP_29","Aplica",{"$f":"VLOOKUP(B14,NICSP!$A:$H,6,0)","v":"Si"}]
[null,"NICSP_29","Porcentaje_Avance",{"$f":"VLOOKUP(B15,NICSP!$A:$H,7,0)","v":1}]
[]
[null,null,"NICSP 30"]
[null,"NICSP_30","Aplica",{"$f":"VLOOKUP(B18,NICSP!$A:$H,6,0)","v":"Si"}]
[null,"NICSP_30","Porcentaje_Avance",{"$f":"VLOOKUP(B19,NICSP!$A:$H,7,0)","v":0.65}]
[]
[]
[null,null,null,null,"Resumen","Activos Financiero","Pasivo Financiero",{"$f":"SUM(H23:H25)","v":12905871.299999999}]
[null,"NICSP_30_CANT",null,null,"CANTIDAD ",null,null,{"$f":"SUM(F23:G23)","v":0}]
[null,"NICSP_30_VL",null,null,"Valor Libros ",{"$f":"G34","v":4559608.3599999994},{"$f":"G42","v":1893327.29},{"$f":"SUM(F24:G24)","v":6452935.6499999994}]
[null,"NICSP_30_VR",null,null,"Valor Razonable ",{"$f":"H34","v":4559608.3599999994},{"$f":"H42","v":1893327.29},6452935.6499999994]
[null,null,null,null,null,{"$f":"IF(AND(D18=\"SI\",H22=0),\"REVELACION_JUSTIFICAR\",\"\")","v":""}]
[]
[]
[null,null,null,"NICSP 28-29-30 Instrumentos Financieros - Activos Financieros"]
[null,null,null,"#","Categoría Activo Financiero","Tasa rendimiento","Valor libros","Valor razonable","Nivel riesgo","Observaciones"]
[null,null,null,1,"Activo Financiero al Valor Razonable",null,{"$f":"F66","v":1873754.83},{"$f":"G31","v":1873754.83},"Riesgo de Liquidez"]
[null,null,null,2,"Activos Financieros disponibles para la venta",null,null,null,"Riesgo de Tasa de Interés"]
[null,null,null,3,"Prestamos y Cuentas por Cobrar",null,{"$f":"I66","v":2685853.53},{"$f":"G33","v":2685853.53},"Riesgo de Liquidez"]
[null,null,null,"GRAN TOTAL",null,null,{"$f":"G31+G33","v":4559608.3599999994},{"$f":"H31+H33","v":4559608.3599999994}]
[]
[]
[null,null,null,"NICSP 28-29-30 Instrumentos Financieros - Pasivos Financieros"]
[null,null,null,"#","Categoría Activo Financiero","Tasa rendimiento","Valor libros","Valor razonable","Nivel riesgo","Observaciones"]
[null,null,null,1,"Pasivos Financieros de Corto Plazo",null,{"$f":"F89+H89","v":795321.92999999993},{"$f":"G39","v":795321.92999999993},"Riesgo de Crédito"]
[null,null,null,2,"Pasivos Financieros de Largoo Plazo",null,{"$f":"J89","v":1098005.3600000001},{"$f":"G40","v":1098005.3600000001},"Riesgo de Liquidez"]
[null,null,null,3,null,null,null,null,"Riesgo de Tasa de Cambio"]
[null,null,null,"GRAN TOTAL",null,null,{"$f":"G39+G40","v":1893327.29},{"$f":"H39+H40","v":1893327.29}]
[]
[]
[null,null,null,"CALCES DE PLAZOS ACTIVOS Y PASIVOS FINANCIEROS"]
[]
[null,null,null,"Indicar en el detalle las cuentas correspondientes a los activos financieros determinados por la entidad, los saldos de estas cuentas deben distribuirse de acuerdo a los rangos de "]
[null,null,null,"vencimiento y desembolso de recursos líquidos a la entidad"]
[]
[null,null,null,"Las cuentas deben detallarse de acuerdo al nivel 5 del catalogo de cuentas vigente. Se muestra la cuenta 1.1.2.01. de ejemplo."]
[]
[null,null,null,"ACTIVOS FINANCIEROS"]
[]
[null,null,null,"ACTIVOS FINANCIEROS"]
[null,null,null,"Cuenta","Detalle "," Saldo de 1 a 30 días","Saldo de 31 a 90 días"," Saldo de 91 a 180 días"," Saldo de 181 a 365 días","Más de 365 días","Total"]
[null,null,null,"1.1.1.01.","Efectivo",1234441.1200000001," ",0," ",0,{"$f":"SUM(F56:J56)","v":1234441.1200000001}]
[null,null,null,"1.1.1.02.","Equivalentes de efectivo",639313.71,null,null,null,null,{"$f":"SUM(F57:J57)","v":639313.71}]
[null,null,null,"1.1.3.01.","Impuestos a cobrar a c/p",null,null,null,410847.79,null,410847.79]
[null,null,null,"1.1.3.04.","Servicios y derechos a cobrar a corto plazo",null,null,null,242141.7,null,{"$f":"SUM(F59:J59)","v":242141.7}]
[null,null,null,"1.1.3.06.","Transferencias a cobrar a c/p",null,null,null,2204743.3199999998,null,2204743.3199999998]
[null,null,null,"1.1.3.98.","Otras cuentas a cobrar a corto plazo",null,null,null,3498.62,null,3498.62]
[null,null,null,"1.1.3.99","Previsiones para deterioro de cuentas a cobrar a C.P.",null,null,null,-175377.9,null,-175377.9]
[null,null,null,null,null,null,null,null,null,null,0]
[null,null,null,null,null,null,null,null,null,null,0]
[null,null,null,null,null,null,null,null,null,null,0]
[null,null,null," ","TOTALES",{"$f":"F56+F57","v":1873754.83},null,null,{"$f":"I58+I59+I60+I61+I62","v":2685853.53},null,{"$f":"K56+K57+K58+K59+K60+K61+K62","v":4559608.3600000003}]
[]
[]
[null,null,null,"PASIVOS FINANCIEROS"]
[]
[null,null,null,"Indicar en el detalle las cuentas correspondientes a los pasivos financieros determinados por la entidad, los saldos de estas cuentas deben distribuirse de acuerdo a los rangos de "]
[null,null,null,"pago y desembolso de recursos de la entidad"]
[]
[null,null,null,"Las cuentas deben detallarse de acuerdo al nivel 5 del catalogo de cuentas vigente. Se muestra la cuenta 2.1.1.05 de ejemplo."]
[]
[null,null,null,"PASIVOS  FINANCIEROS"]
[null,null,null,"Cuenta","Detalle "," Saldo de 1 a 30 días","Saldo de 31 a 90 días"," Saldo de 91 a 180 días"," Saldo de 181 a 365 días","Más de 365 días","Total"]
[null,null,null,"2.1.1.01.","Deudas comerciales a corto plazo",92831.85,0," ",0,0,{"$f":"SUM(F78:J78)","v":92831.85}]
[null,null,null,"2.1.1.02.","Deudas sociales y fiscales a corto plazo",118853.12,null,null,null,null,{"$f":"SUM(F79:J79)","v":118853.12}]
[null,null,null,"2.1.1.03.","Transferencias a pagar a corto plazo"," ",null,39365.96,null,null,39365.96]
[null,null,null,"2.1.2.02.","Préstamos a pagar a corto plazo"," ",null,485546.6,null,null,485546.6]
[null,null,null,"2.1.3.03.","Depósitos en garantía",58724.4,null,null,null,null,58724.4]
[null,null,null,"2.2.2.02.","Préstamos a pagar a largo plazo"," ",null,null,null,1098005.3600000001,{"$f":"J83","v":1098005.3600000001}]
[null,null,null,null,null,null,null,null,null,null,0]
[null,null,null,null,null,null,null," ",null,null,0]
[null,null,null,null,null,null,null,null,null,null,0]
[null,null,null,null,null,null,null,null,null,null,0]
[null,null,null,null,null,null,null,null,null,null,0]
[null,null,null,null,"TOTALES",{"$f":"F78+F79+F82","v":270409.37},null,{"$f":"H80+H81","v":524912.55999999994},null,{"$f":"J83","v":1098005.3600000001},{"$f":"K78+K79+K80+K81+K82+K83","v":1893327.29}]
[null,null,null,null,null,null,null,null,null,null," "]

{"sheet":"FIDEICOMISOS","index":34,"n_rows":34,"n_cols":10,"rows_kept":34,"cut":false,"hidden":false,"merged":[[30,5,31,5],[32,5,33,5],[13,2,13,3],[22,5,22,6],[23,5,23,6],[24,5,24,6],[25,5,25,6],[26,5,27,5],[28,5,29,5],[16,5,16,6],[17,5,17,6],[18,5,18,6],[19,5,19,6],[20,5,20,6],[21,5,21,6]]}
[]
[null,null,"Fideicomisos"]
[]
[null,null,"Los cuadros de aplicación y porcentaje de avance se completan de forma automática al pegar la información "]
[null,null,"de la  pestaña \"MATRIZ_AUTOEVALUACION\"."]
[null,null,"Si esta es de aplicación, completar los cuadros con la información respectiva"]
[]
[null,null,"Fideicomiso"]
[null,"FIDEI","Aplica",{"$f":"VLOOKUP(B9,NICSP!$A:$H,6,0)","v":"NO"}]
[]
[]
[null,null,"Resumen","Fideicomisos"]
[null,"FIDEI_CANT","CANTIDAD "]
[null,null,{"$f":"IF(AND(D9=\"SI\",D13=0),\"REVELACION_JUSTIFICAR\",\"\")","v":""}]
[]
[]
[null,null,null,null,null,"#",null,1,2,3]
[null,null,null,null,null,"Numero Contrato"]
[null,null,null,null,null,"Fecha inicio"]
[null,null,null,null,null,"Fecha Final"]
[null,null,null,null,null,"Plazo"]
[null,null,null,null,null,"Nombre de Fideicomiso"]
[null,null,null,null,null,"Nombre de Fideicomitente"]
[null,null,null,null,null,"Nombre de Fiduciario"]
[null,null,null,null,null,"Nombre de Fideicomisario"]
[null,null,null,null,null,"Fin del fideicomiso"]
[null,null,null,null,null,"Cesión de Activos","SI"]
[null,null,null,null,null,null,"NO"]
[null,null,null,null,null,"El Fideicomiso está registrado en los EEFF","SI"]
[null,null,null,null,null,null,"NO"]
[null,null,null,null,null,"Existe Control sobre el fideicomiso (NICSP 35)","SI"]
[null,null,null,null,null,null,"NO"]
[null,null,null,null,null,"La entidad consolida el fideicomiso a su contabilidad","SI"]
[null,null,null,null,null,null,"NO"]

{"sheet":"NICSP_31","index":35,"n_rows":22,"n_cols":23,"rows_kept":22,"cut":false,"hidden":false,"merged":[[21,6,21,12],[21,2,21,3]]}
[]
[null,null,"NICSP 31 - Activos Intangibles"]
[]
[null,null,"Los cuadros de aplicación y porcentaje de avance se completan de forma automática al pegar la información "]
[null,null,"de la  pestaña \"MATRIZ_AUTOEVALUACION\"."]
[null,null,"Si esta es de aplicación, completar los cuadros con la información respectiva"]
[]
[null,null,"NICSP 31"]
[null,"NICSP_31","Aplica",{"$f":"VLOOKUP(B9,NICSP!$A:$H,6,0)","v":"Si"}]
[null,"NICSP_31","Porcentaje_Avance",{"$f":"VLOOKUP(B10,NICSP!$A:$H,7,0)","v":0.53}]
[]
[null,null,"Resumen","Intangibles"]
[null,"NICSP_31_CAN","CANTIDAD ",{"$f":"$F$22","v":7}]
[null,"NICSP_31_VI","Valor  Inicio ",{"$f":"$N$22","v":3474.77}]
[null,"NICSP_31_ALT","Altas",{"$f":"$Q$22","v":10147.994850000001},null,"Cantidad","No._inscripción","Ubicación","Categoría_Activo","Registro_EEFF // Revelación","Medición","Vida_Útil","Vida_útil // Tasa_de_Amortización_definida","Costo_al_Inicio ","Revaluaciones","Mejoras","Altas"," Bajas","Amortización","Deterioro","Ajustes_por_reversión_de_Deterioro ","Ajustes_por_diferencias_derivadas_T.C.","Valor_al_Cierre"]
[null,"NICSP_31_BAJ"," Bajas",{"$f":"-$R$22","v":-10087.75856},null,7,null,"TIC","Derechos de Licencias","Registro","Costo","Indefinida"," ",3474.77,null,null,10147.994850000001,10087.75856,null,null,null,null,{"$f":"N16","v":3474.77}]
[null,"NICSP_31_AMO","Amortización",{"$f":"-$S$22","v":0},null,null,null,null,"Publicidad","Registro","Costo","Indefinida"]
[null,"NICSP_31_DET","Deterioro",{"$f":"-$T$22","v":0},null,null,null,null,null,"Registro","Costo","Indefinida"]
[null,"NICSP_31_AJU_DET","Ajustes por reversión de Deterioro ",{"$f":"$U$22","v":0}]
[null,"NICSP_31_AJU_TC","Ajustes por diferencias derivadas T.C.",{"$f":"$V$22","v":0}]
[null,"NICSP_31_VC","Valor al Cierre",{"$f":"$W$22","v":3474.77}]
[null,null,{"$f":"IF(AND(D9=\"SI\",D13=0),\"REVELACION_JUSTIFICAR\",\"\")","v":""},null,null,{"$f":"SUM(F16:F21)","v":7},"Totales",null,null,null,null,null,null,{"$f":"SUM(N16:N21)","v":3474.77},{"$f":"SUM(O16:O21)","v":0},0,10147.994850000001,10087.75856,0,0,0,0,3474.77]

{"sheet":"NICSP_32","index":36,"n_rows":19,"n_cols":10,"rows_kept":19,"cut":false,"hidden":false,"merged":[]}
[]
[null,null,"NICSP 32 - Acuerdos de concesión de Servicios La Concedente "]
[]
[null,null,"Los cuadros de aplicación y porcentaje de avance se completan de forma automática al pegar la información "]
[null,null,"de la  pestaña \"MATRIZ_AUTOEVALUACION\"."]
[null,null,"Si esta es de aplicación, completar los cuadros con la información respectiva"]
[]
[null,null,"NICSP 32"]
[null,"NICSP_32","Aplica",{"$f":"VLOOKUP(B9,NICSP!$A:$H,6,0)","v":"No"}]
[null,"NICSP_32","Porcentaje_Avance",{"$f":"VLOOKUP(B10,NICSP!$A:$H,7,0)","v":""}]
[]
[null,null,null,null,null,"Categoría","Arrendatario","Tipo","Propietario\n% Participación","Observaciones"]
[null,null,null,null,null,"Tipos de acuerdos"]
[null,null,null,null,null,"Propiedad del activo"]
[null,null,null,null,null,"Inversión de capital"]
[null,null,null,null,null,"Riesgo de demanda"]
[null,null,null,null,null,"Duración habitual"]
[null,null,null,null,null,"Interés residual"]
[null,null,null,null,null,"NICSP correspondiente"]

{"sheet":"NICSP_33","index":37,"n_rows":10,"n_cols":4,"rows_kept":10,"cut":false,"hidden":false,"merged":[]}
[]
[null,null,"NICSP 33 -Adopción por primera vez de las NICSP de base de acumulación (o Devengo)"]
[]
[null,null,"Los cuadros de aplicación y procentaje de avance se completan de forma automatica al pegar la información "]
[null,null,"de la  pestaña \"MATRIZ_AUTOEVALUACION\"."]
[null,null,"Si esta es de aplicación, completar los cuadros con la información respectiva"]
[]
[null,null,"NICSP 33"]
[null,"NICSP_33","Aplica",{"$f":"VLOOKUP(B9,NICSP!$A:$H,6,0)","v":"Si"}]
[null,"NICSP_33","Porcentaje_Avance",{"$f":"VLOOKUP(B10,NICSP!$A:$H,7,0)","v":0.75}]

{"sheet":"NICSP_34","index":38,"n_rows":18,"n_cols":4,"rows_kept":18,"cut":false,"hidden":false,"merged":[[13,2,13,8],[14,2,14,8]]}
[]
[null,null,"NICSP 34 -Estados financieros separados"]
[]
[null,null,"Los cuadros de aplicación y procentaje de avance se completan de forma automatica al pegar la información "]
[null,null,"de la  pestaña \"MATRIZ_AUTOEVALUACION\"."]
[null,null,"Si esta es de aplicación, completar los cuadros con la información respectiva"]
[]
[null,null,"NICSP 34"]
[null,"NICSP_34","Aplica",{"$f":"VLOOKUP(B9,NICSP!$A:$H,6,0)","v":"No"}]
[null,"NICSP_34","Porcentaje_Avance",{"$f":"VLOOKUP(B10,NICSP!$A:$H,7,0)","v":""}]
[]
[]
[]
[null,null,"Los estados financieros separados se elaborarán de acuerdo con todas las NICSP aplicables, \nexcepto por lo previsto en el párrafo 12, en el cual se indica lo siguiente:"]
[null,null,"Cuando una entidad elabore estados financieros separados, contabilizará las inversiones similares en entidades controladas, negocios conjuntos y asociadas:"]
[null,null,"(a) al costo;"]
[null,null,"(b) de acuerdo con la NICSP 29; o"]
[null,null,"(c) utilizando el método de la participación como se describe en la NICSP 36."]

{"sheet":"NICSP_35","index":39,"n_rows":19,"n_cols":9,"rows_kept":19,"cut":false,"hidden":false,"merged":[[12,5,13,5],[12,6,13,6],[12,7,12,8],[18,5,18,6]]}
[]
[null,null,"NICSP 35 - Estados financieros consolidados"]
[]
[null,null,"Los cuadros de aplicación y porcentaje de avance se completan de forma automática al pegar la información "]
[null,null,"de la  pestaña \"MATRIZ_AUTOEVALUACION\"."]
[null,null,"Si esta es de aplicación, completar los cuadros con la información respectiva"]
[]
[null,null,"NICSP 35"]
[null,"NICSP_35","Aplica",{"$f":"VLOOKUP(B9,NICSP!$A:$H,6,0)","v":"Si"}]
[null,"NICSP_35","Porcentaje_Avance",{"$f":"VLOOKUP(B10,NICSP!$A:$H,7,0)","v":0.39999999999999997}]
[]
[]
[null,null,null,null,null,"Código Institución","Nombre institución","Consolida"]
[null,null,null,null,null,null,null,"SI","NO"]
[null,null,null,null,null,"15910","Comités Cantonales de Deportes y Recreación",null,1]
[]
[]
[]
[null,null,null,null,null,"Total",null,null,1]

{"sheet":"NICSP_36","index":40,"n_rows":19,"n_cols":8,"rows_kept":19,"cut":false,"hidden":false,"merged":[[12,5,13,5],[12,6,13,6],[12,7,13,7],[18,5,18,6]]}
[]
[null,null,"NICSP 36 - Inversiones en asociadas y negocios conjuntos"]
[]
[null,null,"Los cuadros de aplicación y porcentaje de avance se completan de forma automática al pegar la información "]
[null,null,"de la  pestaña \"MATRIZ_AUTOEVALUACION\"."]
[null,null,"Si esta es de aplicación, completar los cuadros con la información respectiva"]
[]
[null,null,"NICSP 36"]
[null,"NICSP_36","Aplica",{"$f":"VLOOKUP(B9,NICSP!$A:$H,6,0)","v":"No"}]
[null,"NICSP_36","Porcentaje_Avance",{"$f":"VLOOKUP(B10,NICSP!$A:$H,7,0)","v":""}]
[]
[]
[null,null,null,null,null,"Código Institución","Nombre institución","% Participación"]
[]
[]
[]
[]
[]
[null,null,null,null,null,"Total, instituciones"]

{"sheet":"NICSP_37","index":41,"n_rows":16,"n_cols":4,"rows_kept":16,"cut":false,"hidden":false,"merged":[[12,2,12,8],[15,2,15,8]]}
[]
[null,null,"NICSP 37 -Acuerdos conjuntos"]
[]
[null,null,"Los cuadros de aplicación y procentaje de avance se completan de forma automatica al pegar la información "]
[null,null,"de la  pestaña \"MATRIZ_AUTOEVALUACION\"."]
[null,null,"Si esta es de aplicación, completar los cuadros con la información respectiva"]
[]
[null,null,"NICSP 37"]
[null,"NICSP_37","Aplica",{"$f":"VLOOKUP(B9,NICSP!$A:$H,6,0)","v":"No"}]
[null,"NICSP_37","Porcentaje_Avance",{"$f":"VLOOKUP(B10,NICSP!$A:$H,7,0)","v":""}]
[]
[]
[null,null,"Un acuerdo conjunto es una operación conjunta o un negocio conjunto, mediante el cual dos o más partes mantienen control conjunto, tiene las siguientes características:"]
[null,null,"a) Las partes están obligadas por un acuerdo vinculante; y"]
[null,null,"b) El acuerdo vinculante otorga a dos o más de esas partes control conjunto sobre el acuerdo."]
[null,null,"Una entidad que prepara y presenta estados financieros según la base contable de acumulación (o devengo) aplicará esta política contable para determinar el tipo de acuerdo conjunto en el cual está involucrada y para contabilizar los derechos y obligaciones del acuerdo conjunto."]

{"sheet":"NICSP_38","index":42,"n_rows":16,"n_cols":4,"rows_kept":16,"cut":false,"hidden":false,"merged":[]}
[]
[null,null,"NICSP 38 -Revelación de intereses en otras entidades"]
[]
[null,null,"Los cuadros de aplicación y procentaje de avance se completan de forma automatica al pegar la información "]
[null,null,"de la  pestaña \"MATRIZ_AUTOEVALUACION\"."]
[null,null,"Si esta es de aplicación, completar los cuadros con la información respectiva"]
[]
[null,null,"NICSP 38"]
[null,"NICSP_38","Aplica",{"$f":"VLOOKUP(B9,NICSP!$A:$H,6,0)","v":"No"}]
[null,"NICSP_38","Porcentaje_Avance",{"$f":"VLOOKUP(B10,NICSP!$A:$H,7,0)","v":""}]
[]
[]
[null,null,"La metodología usada para determinar:"]
[null,null,"1. que tiene el control de otra entidad como se describe en la norma;"]
[null,null,"2. que tiene el control conjunto de un acuerdo sobre otra entidad; y"]
[null,null,"3. el tipo de acuerdo conjunto, es decir, operación conjunta o negocio conjunto cuando el acuerdo ha sido estructurado a través de un vehículo separado;"]

{"sheet":"NICSP_39","index":43,"n_rows":22,"n_cols":11,"rows_kept":22,"cut":false,"hidden":false,"merged":[[13,8,15,8],[14,9,15,9],[16,7,16,9],[21,7,21,8]]}
[]
[null,null,"NICSP 39 - Beneficios a Empleados"]
[]
[null,null,"Los cuadros de aplicación y porcentaje de avance se completan de forma automática al pegar la información "]
[null,null,"de la  pestaña \"MATRIZ_AUTOEVALUACION\"."]
[null,null,"Si esta es de aplicación, completar los cuadros con la información respectiva"]
[]
[null,null,"NICSP 39"]
[null,"NICSP_39","Aplica",{"$f":"VLOOKUP(B9,NICSP!$A:$H,6,0)","v":"Si"}]
[null,"NICSP_39","Porcentaje_Avance",{"$f":"VLOOKUP(B10,NICSP!$A:$H,7,0)","v":0.7}]
[null,null,null,null,null,null,null,{"$f":"SUM(H13:H16)","v":5958638.7599999998},{"$f":"I13","v":1527},{"$f":"J14","v":0},{"$f":"SUM(H11:J11)","v":5960165.7599999998}]
[null,null,null,null,null,null,null,"Montos Pago ","Días sin disfrute ","Cantidad "]
[null,"NICSP_39_VAC",null,null,null,null,"Vacaciones",1307993.8700000001,1527]
[null,"NICSP_39_CC",null,null,null,null,"Convención colectiva",0]
[null,"NICSP_39_CES",null,null,null,null,"Cesantía",4650644.8899999997]
[null,"NICSP_39_PRE",null,null,null,null,"Preaviso",0]
[null,null,null,null,null,null,null,{"$f":"IF(AND(D9=\"SI\",K11=0),\"REVELACION_JUSTIFICAR\",\"\")","v":""}]
[]
[]
[null,null,null,null,null,null,null,"SI ","NO"]
[null,"NICSP_39_SER",null,null,null,null,"Servicios Médicos",null,1]
[null,null,null,null,null,null,null,{"$f":"IF(AND(D9=\"SI\",H21=\"\",I21=\"\"),\"REVELACION_JUSTIFICAR\",\"\")","v":""}]

{"sheet":"NICSP_40","index":44,"n_rows":10,"n_cols":4,"rows_kept":10,"cut":false,"hidden":false,"merged":[]}
[]
[null,null,"NICSP 40 -Combinaciones en el sector público"]
[]
[null,null,"Los cuadros de aplicación y procentaje de avance se completan de forma automatica al pegar la información "]
[null,null,"de la  pestaña \"MATRIZ_AUTOEVALUACION\"."]
[null,null,"Si esta es de aplicación, completar los cuadros con la información respectiva"]
[]
[null,null,"NICSP 40"]
[null,"NICSP_40","Aplica",{"$f":"VLOOKUP(B9,NICSP!$A:$H,6,0)","v":"No"}]
[null,"NICSP_40","Porcentaje_Avance",{"$f":"VLOOKUP(B10,NICSP!$A:$H,7,0)","v":""}]

{"sheet":"NOTAS_PARTICULAR","index":45,"n_rows":32,"n_cols":4,"rows_kept":32,"cut":false,"hidden":false,"merged":[[2,1,2,3],[1,1,1,3],[6,1,6,2]]}
[]
[null,{"$f":"DATOS!D13","v":"Municipalidad de Buenos Aires"}]
[null,"Notas Particulares"]
[]
[null,"Se les solicita completar el siguiente cuadro, seleccionando SI - NO de acuerdo a la situación actual de la entidad"]
[]
[null,"PREGUNTAS_NOTAS_PARTICULARES",null,"RESPUESTA"]
["N_PART_1","1- ¿La entidad aplica la Ley de reducción de la deuda pública por medio de la venta de activos ociosos o subutilizados del sector público (10092)? ","APLICACIÓN"]
["N_PART_2","2-\t¿La Entidad está registrando sus asientos contables a partir del 01 de enero de 2017, basado en el Plan de Cuentas NICSP, en la última versión?","APLICACIÓN"]
["N_PART_3","3-\t¿Su institución realizó reclasificaciones de cuentas, en el periodo actual?","APLICACIÓN"]
["N_PART_4","4-\t¿Su institución realizó depuración de cifras, en el periodo actual?","APLICACIÓN"]
["N_PART_5","5-\t¿Su institución realizó conciliaciones de cuentas reciprocas y confirmación de saldos con otras con otras Instituciones?","APLICACIÓN"]
[null,"6-\t¿Su institución realizó conciliacion Bancaria \"Caja Única?","APLICACIÓN"]
["N_PART_6","7-\t¿La institución cuenta con sistema de información integrado para elaborar los Estados Financieros y la reportería?","APLICACIÓN"]
["N_PART_7","8-\t¿La Institución elabora los Estados Financieros de manera manual, es decir, el sistema utilizado no facilita balanzas de comprobación sino solo saldos de cuentas?","APLICACIÓN"]
["N_PART_8","9-\t¿La entidad realiza la conversión de cifras de moneda extranjera a moneda nacional?","APLICACIÓN"]
["N_PART_9","10-\t¿El método de evaluación para inventarios utilizado por la institución es PEPS?","APLICACIÓN"]
["N_PART_10","11-\t¿El método de utilizado por la Institución es Estimación por Incobrables (ANTIGÜEDAD DE SALDOS)?","APLICACIÓN"]
["N_PART_11","12-\t¿El método utilizado en la Institución para la Depreciación o agotamiento es Línea Recta?","APLICACIÓN"]
["N_PART_12","13-\t¿La Entidad audita de manera externa los Estados Financieros?","APLICACIÓN"]
["N_PART_13","14-\t¿La entidad lleva los libros contables en formato digital?","APLICACIÓN"]
["N_PART_14","15-\t¿Los libros contables se encuentran actualizados?","APLICACIÓN"]
["N_PART_15","16-\t¿Incluye Informes de Auditorias y CGR?","APLICACIÓN"]
["N_PART_16","17-\t¿Incluye resultados de Oficios o correo de Observaciones CN?","APLICACIÓN"]
["N_PART_17","18-\t¿Incluye nota particular denominada “Estados Financieros y Plan General de Contabilidad” incorporando los siguientes puntos?","APLICACIÓN"]
["N_PART_18","18.1 -\t¿Incluye informe resultados NICSP aplican y no aplican?","APLICACIÓN"]
["N_PART_19","18.2 -\t¿Incluye informe cuales Políticas Generales utiliza la entidad?","APLICACIÓN"]
[null,"18.3 -\t¿Incluye informe cuales Políticas Particulares utiliza la entidad?","APLICACIÓN"]
[null,"18.4 -\t¿La entidad tiene actualizado los Manuales de Procedimientos Contables y este aprobado por el máximo jerarca?\t","APLICACIÓN"]
[null,"18.5-\t¿Incluye un informe actualizado de la matriz de autoevaluación y las brechas pendientes?","APLICACIÓN"]
[null,"18.6-¿Incluye un informe de los Documentos y Directrices oficiales?","APLICACIÓN"]
[null,"18.7-¿Incluye oficio firmado maximo jerarca para la nota complementaria del Plan General de Contabilidad?","APLICACIÓN"]

{"sheet":"PARAMETROS","index":46,"n_rows":214,"n_cols":17,"rows_kept":214,"cut":false,"hidden":true,"merged":[]}
[]
[]
[]
[null,"AÑO","TRIMESTRAL","MENSUAL",null,null,"GRUPOS_INSTITUCIONALES","SECTORES","Tierras y terrenos"]
[null,2017,"MARZO","ENERO",null,null,"PODER_EJECUTIVO",null,"Edificios"]
[null,2018,"JUNIO","FEBRERO",null,null,"PODERES_AUXILIARES","ADMINISTRACION_CENTRAL","Maquinaria y equipos para la  producción"]
[null,2019,"SETIEMBRE","ABRIL",null,null,"ORGANOS_DESCONCENTRADOS","GOBIERNO_DE_LA_REPUBLICA","Equipos de transporte, tracción y elevación"]
[null,2020,"DICIEMBRE","MAYO",null,null,"INSTITUCIONES_DESCENTRALIZADAS","GOBIERNO_GENERAL","Equipos de comunicación"]
[null,2021,null,"JULIO",null,null,"INSTITUCIONES_FINANCIERAS_NO_BANCARIAS",null,"Equipos y mobiliario de oficina"]
[null,2022,null,"AGOSTO",null,null,"UNIVERSIDADES_PUBLICAS","PODER_EJECUTIVO","Equipos para computación"]
[null,2023,null,"OCTUBRE",null,null,"SECTOR_MUNICIPAL","ORGANOS_DESCONCENTRADOS","Equipos sanitario, de laboratorio e investigación"]
[null,2024,null,"NOVIEMBRE",null,null,"EMPRESAS_PUBLICAS",null,"Equipos y mobiliario educacional, deportivo y recreativo"]
[null,2025,null,null,null,null,null,null,"Equipos de seguridad, orden, vigilancia y control público"]
[null,null,null,null,null,null,null,null,"Semovientes"]
[null,null,null,null,null,null,null,null,"Maquinarias, equipos y mobiliarios diversos"]
[null,null,null,null,"SI",null,null,null,"Otros"]
[null,null,null,null,"NO"]
[]
[]
[]
[null,null,null,null,null,null,null,null,null,null,null,null,null,"Del","01 de Enero ","al"]
["SECTOR","SECTOR_NIVEL_1","SECTOR_NIVEL_2","SECTOR_NIVEL_3","GRUPO_INSTITUCIONAL","CODIGO","ENTIDAD","CODIDO_ENTIDAD","GRUPO_INSTITUCIONAL"]
["SECTOR_PUBLICO_NO_FINANCIERO","GOBIERNO_GENERAL","GOBIERNO_DE_LA_REPUBLICA","ADMINISTRACION_CENTRAL","PODER_EJECUTIVO","11206","Poder Ejecutivo","11206 - Poder Ejecutivo","PODER_EJECUTIVO",null,null,null,"M01","ENERO","31 de Enero",null,"2022-01-31"]
["SECTOR_PUBLICO_NO_FINANCIERO","GOBIERNO_GENERAL","GOBIERNO_DE_LA_REPUBLICA","-","PODERES_AUXILIARES","13101","Asamblea Legislativa","13101 - Asamblea Legislativa","PODERES_AUXILIARES",null,null,null,"M02","FEBRERO","28 de Febrero",null,"2022-02-28"]
["SECTOR_PUBLICO_NO_FINANCIERO","GOBIERNO_GENERAL","GOBIERNO_DE_LA_REPUBLICA","-","PODERES_AUXILIARES","13102","Contraloria General de la Republica","13102 - Contraloria General de la Republica","PODERES_AUXILIARES",null,null,null,"T01","MARZO","31 de Marzo",null,"2022-03-31"]
["SECTOR_PUBLICO_NO_FINANCIERO","GOBIERNO_GENERAL","GOBIERNO_DE_LA_REPUBLICA","-","PODERES_AUXILIARES","13103","Defensoria de los Habitantes","13103 - Defensoria de los Habitantes","PODERES_AUXILIARES",null,null,null,"M04","ABRIL","30 de Abril",null,"2022-04-30"]
["SECTOR_PUBLICO_NO_FINANCIERO","GOBIERNO_GENERAL","GOBIERNO_DE_LA_REPUBLICA","-","PODERES_AUXILIARES","13301","Poder Judicial","13301 - Poder Judicial","PODERES_AUXILIARES",null,null,null,"M05","MAYO","31 de Mayo",null,"2022-05-31"]
["SECTOR_PUBLICO_NO_FINANCIERO","GOBIERNO_GENERAL","GOBIERNO_DE_LA_REPUBLICA","-","PODERES_AUXILIARES","13401","Tribunal Supremo de Elecciones","13401 - Tribunal Supremo de Elecciones","PODERES_AUXILIARES",null,null,null,"T02","JUNIO","30 de Junio",null,"31/6/2022"]
["SECTOR_PUBLICO_NO_FINANCIERO","GOBIERNO_GENERAL","GOBIERNO_DE_LA_REPUBLICA","ADMINISTRACION_CENTRAL","ORGANOS_DESCONCENTRADOS","12505","Agencia de Protección de Datos de los Habitantes (PRODHAB)","12505 - Agencia de Protección de Datos de los Habitantes (PRODHAB)","ORGANOS_DESCONCENTRADOS",null,null,null,"M07","JULIO","31 de Julio",null,"2022-07-31"]
["SECTOR_PUBLICO_NO_FINANCIERO","GOBIERNO_GENERAL","GOBIERNO_DE_LA_REPUBLICA","ADMINISTRACION_CENTRAL","ORGANOS_DESCONCENTRADOS","12510","Casa de Cultura de Puntarenas","12510 - Casa de Cultura de Puntarenas","ORGANOS_DESCONCENTRADOS",null,null,null,"M08","AGOSTO","31 de Agosto",null,"2022-08-31"]
["SECTOR_PUBLICO_NO_FINANCIERO","GOBIERNO_GENERAL","GOBIERNO_DE_LA_REPUBLICA","ADMINISTRACION_CENTRAL","ORGANOS_DESCONCENTRADOS","12530","Centro Costarricense de Producción Cinematográfica ","12530 - Centro Costarricense de Producción Cinematográfica ","ORGANOS_DESCONCENTRADOS",null,null,null,"T03","SETIEMBRE","30 de Setiembre ",null,"2022-09-30"]
["SECTOR_PUBLICO_NO_FINANCIERO","GOBIERNO_GENERAL","GOBIERNO_DE_LA_REPUBLICA","ADMINISTRACION_CENTRAL","ORGANOS_DESCONCENTRADOS","12531","Centro Cultural e Histórico José Figueres Ferrer","12531 - Centro Cultural e Histórico José Figueres Ferrer","ORGANOS_DESCONCENTRADOS",null,null,null,"M10","OCTUBRE","31 de Octubre",null,"2022-10-31"]
["SECTOR_PUBLICO_NO_FINANCIERO","GOBIERNO_GENERAL","GOBIERNO_DE_LA_REPUBLICA","ADMINISTRACION_CENTRAL","ORGANOS_DESCONCENTRADOS","12534","Centro Nacional de la Música","12534 - Centro Nacional de la Música","ORGANOS_DESCONCENTRADOS",null,null,null,"M11","NOVIEMBRE","30 de Noviembre",null,"2022-11-30"]
["SECTOR_PUBLICO_NO_FINANCIERO","GOBIERNO_GENERAL","GOBIERNO_DE_LA_REPUBLICA","ADMINISTRACION_CENTRAL","ORGANOS_DESCONCENTRADOS","12553","Comisión Nacional para la Gestión de la Biodiversidad  (CONAGEBIO)","12553 - Comisión Nacional para la Gestión de la Biodiversidad  (CONAGEBIO)","ORGANOS_DESCONCENTRADOS",null,null,null,"T04","DICIEMBRE","31 de Diciembre",null,"2022-12-31"]
["SECTOR_PUBLICO_NO_FINANCIERO","GOBIERNO_GENERAL","GOBIERNO_DE_LA_REPUBLICA","ADMINISTRACION_CENTRAL","ORGANOS_DESCONCENTRADOS","12554","Comisión Nacional de Prevención de Riesgos y Atención de Emergencias  (CNE)","12554 - Comisión Nacional de Prevención de Riesgos y Atención de Emergencias  (CNE)","ORGANOS_DESCONCENTRADOS",null,null,null,"PXX","-"]
["SECTOR_PUBLICO_NO_FINANCIERO","GOBIERNO_GENERAL","GOBIERNO_DE_LA_REPUBLICA","ADMINISTRACION_CENTRAL","ORGANOS_DESCONCENTRADOS","12555","Comisión Nacional de Vacunación y Epidemiología","12555 - Comisión Nacional de Vacunación y Epidemiología","ORGANOS_DESCONCENTRADOS"]
["SECTOR_PUBLICO_NO_FINANCIERO","GOBIERNO_GENERAL","GOBIERNO_DE_LA_REPUBLICA","ADMINISTRACION_CENTRAL","ORGANOS_DESCONCENTRADOS","12556","Comisión de Ordenamiento y Manejo de la Cuenca Alta del  Río Reventazón  (CONCURE)","12556 - Comisión de Ordenamiento y Manejo de la Cuenca Alta del  Río Reventazón  (CONCURE)","ORGANOS_DESCONCENTRADOS"]
["SECTOR_PUBLICO_NO_FINANCIERO","GOBIERNO_GENERAL","GOBIERNO_DE_LA_REPUBLICA","ADMINISTRACION_CENTRAL","ORGANOS_DESCONCENTRADOS","12570","Consejo Nacional de Clubes 4-S","12570 - Consejo Nacional de Clubes 4-S","ORGANOS_DESCONCENTRADOS"]
["SECTOR_PUBLICO_NO_FINANCIERO","GOBIERNO_GENERAL","GOBIERNO_DE_LA_REPUBLICA","ADMINISTRACION_CENTRAL","ORGANOS_DESCONCENTRADOS","12575","Consejo Nacional de Investigación en Salud (CONIS)","12575 - Consejo Nacional de Investigación en Salud (CONIS)","ORGANOS_DESCONCENTRADOS"]
["SECTOR_PUBLICO_NO_FINANCIERO","GOBIERNO_GENERAL","GOBIERNO_DE_LA_REPUBLICA","ADMINISTRACION_CENTRAL","ORGANOS_DESCONCENTRADOS","12580","Consejo Nacional de Concesiones (CNC)","12580 - Consejo Nacional de Concesiones (CNC)","ORGANOS_DESCONCENTRADOS"]
["SECTOR_PUBLICO_NO_FINANCIERO","GOBIERNO_GENERAL","GOBIERNO_DE_LA_REPUBLICA","ADMINISTRACION_CENTRAL","ORGANOS_DESCONCENTRADOS","12581","Consejo Nacional de Personas con Discapacidad (CONAPDIS)","12581 - Consejo Nacional de Personas con Discapacidad (CONAPDIS)","ORGANOS_DESCONCENTRADOS"]
["SECTOR_PUBLICO_NO_FINANCIERO","GOBIERNO_GENERAL","GOBIERNO_DE_LA_REPUBLICA","ADMINISTRACION_CENTRAL","ORGANOS_DESCONCENTRADOS","12582","Consejo Nacional de la Persona Adulta Mayor (CONAPAM)","12582 - Consejo Nacional de la Persona Adulta Mayor (CONAPAM)","ORGANOS_DESCONCENTRADOS"]
["SECTOR_PUBLICO_NO_FINANCIERO","GOBIERNO_GENERAL","GOBIERNO_DE_LA_REPUBLICA","ADMINISTRACION_CENTRAL","ORGANOS_DESCONCENTRADOS","12583","Consejo Nacional de la Política Pública de la Persona Joven (CPJ)","12583 - Consejo Nacional de la Política Pública de la Persona Joven (CPJ)","ORGANOS_DESCONCENTRADOS"]
["SECTOR_PUBLICO_NO_FINANCIERO","GOBIERNO_GENERAL","GOBIERNO_DE_LA_REPUBLICA","ADMINISTRACION_CENTRAL","ORGANOS_DESCONCENTRADOS","12584","Consejo Nacional de Vialidad (CONAVI)","12584 - Consejo Nacional de Vialidad (CONAVI)","ORGANOS_DESCONCENTRADOS"]
["SECTOR_PUBLICO_NO_FINANCIERO","GOBIERNO_GENERAL","GOBIERNO_DE_LA_REPUBLICA","ADMINISTRACION_CENTRAL","ORGANOS_DESCONCENTRADOS","12587","Consejo de Seguridad Vial (COSEVI)","12587 - Consejo de Seguridad Vial (COSEVI)","ORGANOS_DESCONCENTRADOS"]
["SECTOR_PUBLICO_NO_FINANCIERO","GOBIERNO_GENERAL","GOBIERNO_DE_LA_REPUBLICA","ADMINISTRACION_CENTRAL","ORGANOS_DESCONCENTRADOS","12588","Consejo Superior de Educación (CSE)","12588 - Consejo Superior de Educación (CSE)","ORGANOS_DESCONCENTRADOS"]
["SECTOR_PUBLICO_NO_FINANCIERO","GOBIERNO_GENERAL","GOBIERNO_DE_LA_REPUBLICA","ADMINISTRACION_CENTRAL","ORGANOS_DESCONCENTRADOS","12589","Consejo Técnico de Asistencia Médico Social (CTAMS)","12589 - Consejo Técnico de Asistencia Médico Social (CTAMS)","ORGANOS_DESCONCENTRADOS"]
["SECTOR_PUBLICO_NO_FINANCIERO","GOBIERNO_GENERAL","GOBIERNO_DE_LA_REPUBLICA","ADMINISTRACION_CENTRAL","ORGANOS_DESCONCENTRADOS","12590","Consejo Técnico de Aviación Civil (CTAC) ","12590 - Consejo Técnico de Aviación Civil (CTAC) ","ORGANOS_DESCONCENTRADOS"]
["SECTOR_PUBLICO_NO_FINANCIERO","GOBIERNO_GENERAL","GOBIERNO_DE_LA_REPUBLICA","ADMINISTRACION_CENTRAL","ORGANOS_DESCONCENTRADOS","12591","Consejo de Transporte Público (CTP)","12591 - Consejo de Transporte Público (CTP)","ORGANOS_DESCONCENTRADOS"]
["SECTOR_PUBLICO_NO_FINANCIERO","GOBIERNO_GENERAL","GOBIERNO_DE_LA_REPUBLICA","ADMINISTRACION_CENTRAL","ORGANOS_DESCONCENTRADOS","12634","Dirección Nacional Centros Educacion y Nutrición  l ( CEN CINAI )","12634 - Dirección Nacional Centros Educacion y Nutrición  l ( CEN CINAI )","ORGANOS_DESCONCENTRADOS"]
["SECTOR_PUBLICO_NO_FINANCIERO","GOBIERNO_GENERAL","GOBIERNO_DE_LA_REPUBLICA","ADMINISTRACION_CENTRAL","ORGANOS_DESCONCENTRADOS","12637","Dirección Nacional de Notariado","12637 - Dirección Nacional de Notariado","ORGANOS_DESCONCENTRADOS"]
["SECTOR_PUBLICO_NO_FINANCIERO","GOBIERNO_GENERAL","GOBIERNO_DE_LA_REPUBLICA","ADMINISTRACION_CENTRAL","ORGANOS_DESCONCENTRADOS","12700","Fondo de Desarrollo Social y Asignaciones Familiares (FODESAF)","12700 - Fondo de Desarrollo Social y Asignaciones Familiares (FODESAF)","ORGANOS_DESCONCENTRADOS"]
["SECTOR_PUBLICO_NO_FINANCIERO","GOBIERNO_GENERAL","GOBIERNO_DE_LA_REPUBLICA","ADMINISTRACION_CENTRAL","ORGANOS_DESCONCENTRADOS","12704","Fondo Nacional de Financiamiento Forestal (FONAFIFO)","12704 - Fondo Nacional de Financiamiento Forestal (FONAFIFO)","ORGANOS_DESCONCENTRADOS"]
["SECTOR_PUBLICO_NO_FINANCIERO","GOBIERNO_GENERAL","GOBIERNO_DE_LA_REPUBLICA","ADMINISTRACION_CENTRAL","ORGANOS_DESCONCENTRADOS","12750","Instituto sobre Alcoholismo y Farmacodependencia  (IAFA)","12750 - Instituto sobre Alcoholismo y Farmacodependencia  (IAFA)","ORGANOS_DESCONCENTRADOS"]
["SECTOR_PUBLICO_NO_FINANCIERO","GOBIERNO_GENERAL","GOBIERNO_DE_LA_REPUBLICA","ADMINISTRACION_CENTRAL","ORGANOS_DESCONCENTRADOS","12751","Instituto Costarricense sobre Drogas  (ICD)","12751 - Instituto Costarricense sobre Drogas  (ICD)","ORGANOS_DESCONCENTRADOS"]
["SECTOR_PUBLICO_NO_FINANCIERO","GOBIERNO_GENERAL","GOBIERNO_DE_LA_REPUBLICA","ADMINISTRACION_CENTRAL","ORGANOS_DESCONCENTRADOS","12752","Instituto Costarricense de Investigación y Enseñanza en Nutrición y Salud  (INCIENSA)","12752 - Instituto Costarricense de Investigación y Enseñanza en Nutrición y Salud  (INCIENSA)","ORGANOS_DESCONCENTRADOS"]
["SECTOR_PUBLICO_NO_FINANCIERO","GOBIERNO_GENERAL","GOBIERNO_DE_LA_REPUBLICA","ADMINISTRACION_CENTRAL","ORGANOS_DESCONCENTRADOS","12755","Instituto Nacional de Innovación y Transferencia en Tecnología agropecuaria (INTA)","12755 - Instituto Nacional de Innovación y Transferencia en Tecnología agropecuaria (INTA)","ORGANOS_DESCONCENTRADOS"]
["SECTOR_PUBLICO_NO_FINANCIERO","GOBIERNO_GENERAL","GOBIERNO_DE_LA_REPUBLICA","ADMINISTRACION_CENTRAL","ORGANOS_DESCONCENTRADOS","12756","Instituto de Desarrollo Profesional Uladislao Gámez Solano","12756 - Instituto de Desarrollo Profesional Uladislao Gámez Solano","ORGANOS_DESCONCENTRADOS"]
["SECTOR_PUBLICO_NO_FINANCIERO","GOBIERNO_GENERAL","GOBIERNO_DE_LA_REPUBLICA","ADMINISTRACION_CENTRAL","ORGANOS_DESCONCENTRADOS","12780","Junta Administrativa del Archivo Nacional (JAAN)","12780 - Junta Administrativa del Archivo Nacional (JAAN)","ORGANOS_DESCONCENTRADOS"]
["SECTOR_PUBLICO_NO_FINANCIERO","GOBIERNO_GENERAL","GOBIERNO_DE_LA_REPUBLICA","ADMINISTRACION_CENTRAL","ORGANOS_DESCONCENTRADOS","12781","Junta Administrativa  de la Dirección General de Migración y Extranjería","12781 - Junta Administrativa  de la Dirección General de Migración y Extranjería","ORGANOS_DESCONCENTRADOS"]
["SECTOR_PUBLICO_NO_FINANCIERO","GOBIERNO_GENERAL","GOBIERNO_DE_LA_REPUBLICA","ADMINISTRACION_CENTRAL","ORGANOS_DESCONCENTRADOS","12782","Junta Administrativa de la Imprenta Nacional (JAIN)","12782 - Junta Administrativa de la Imprenta Nacional (JAIN)","ORGANOS_DESCONCENTRADOS"]
["SECTOR_PUBLICO_NO_FINANCIERO","GOBIERNO_GENERAL","GOBIERNO_DE_LA_REPUBLICA","ADMINISTRACION_CENTRAL","ORGANOS_DESCONCENTRADOS","12784","Junta Administrativa del Registro Nacional  ","12784 - Junta Administrativa del Registro Nacional  ","ORGANOS_DESCONCENTRADOS"]
["SECTOR_PUBLICO_NO_FINANCIERO","GOBIERNO_GENERAL","GOBIERNO_DE_LA_REPUBLICA","ADMINISTRACION_CENTRAL","ORGANOS_DESCONCENTRADOS","12795","Laboratorio Costarricense de Metrología (LACOMET)","12795 - Laboratorio Costarricense de Metrología (LACOMET)","ORGANOS_DESCONCENTRADOS"]
["SECTOR_PUBLICO_NO_FINANCIERO","GOBIERNO_GENERAL","GOBIERNO_DE_LA_REPUBLICA","ADMINISTRACION_CENTRAL","ORGANOS_DESCONCENTRADOS","12800","Museo de Arte Costarricense","12800 - Museo de Arte Costarricense","ORGANOS_DESCONCENTRADOS"]
["SECTOR_PUBLICO_NO_FINANCIERO","GOBIERNO_GENERAL","GOBIERNO_DE_LA_REPUBLICA","ADMINISTRACION_CENTRAL","ORGANOS_DESCONCENTRADOS","12801","Museo de Arte y Diseño Contemporáneo (MADC)","12801 - Museo de Arte y Diseño Contemporáneo (MADC)","ORGANOS_DESCONCENTRADOS"]
["SECTOR_PUBLICO_NO_FINANCIERO","GOBIERNO_GENERAL","GOBIERNO_DE_LA_REPUBLICA","ADMINISTRACION_CENTRAL","ORGANOS_DESCONCENTRADOS","12802","Museo Histórico Cultural Juan Santamaría","12802 - Museo Histórico Cultural Juan Santamaría","ORGANOS_DESCONCENTRADOS"]
["SECTOR_PUBLICO_NO_FINANCIERO","GOBIERNO_GENERAL","GOBIERNO_DE_LA_REPUBLICA","ADMINISTRACION_CENTRAL","ORGANOS_DESCONCENTRADOS","12804","Museo Nacional de Costa Rica (MNCR)","12804 - Museo Nacional de Costa Rica (MNCR)","ORGANOS_DESCONCENTRADOS"]
["SECTOR_PUBLICO_NO_FINANCIERO","GOBIERNO_GENERAL","GOBIERNO_DE_LA_REPUBLICA","ADMINISTRACION_CENTRAL","ORGANOS_DESCONCENTRADOS","12805","Museo Dr. Rafael Ángel Calderón Guardia","12805 - Museo Dr. Rafael Ángel Calderón Guardia","ORGANOS_DESCONCENTRADOS"]
["SECTOR_PUBLICO_NO_FINANCIERO","GOBIERNO_GENERAL","GOBIERNO_DE_LA_REPUBLICA","ADMINISTRACION_CENTRAL","ORGANOS_DESCONCENTRADOS","12820","Oficina de Cooperación Internacional de la Salud (OCIS)","12820 - Oficina de Cooperación Internacional de la Salud (OCIS)","ORGANOS_DESCONCENTRADOS"]
["SECTOR_PUBLICO_NO_FINANCIERO","GOBIERNO_GENERAL","GOBIERNO_DE_LA_REPUBLICA","ADMINISTRACION_CENTRAL","ORGANOS_DESCONCENTRADOS","12853","Parque Marino del Pacífico","12853 - Parque Marino del Pacífico","ORGANOS_DESCONCENTRADOS"]
["SECTOR_PUBLICO_NO_FINANCIERO","GOBIERNO_GENERAL","GOBIERNO_DE_LA_REPUBLICA","ADMINISTRACION_CENTRAL","ORGANOS_DESCONCENTRADOS","12901","Servicio Fitosanitario del Estado","12901 - Servicio Fitosanitario del Estado","ORGANOS_DESCONCENTRADOS"]
["SECTOR_PUBLICO_NO_FINANCIERO","GOBIERNO_GENERAL","GOBIERNO_DE_LA_REPUBLICA","ADMINISTRACION_CENTRAL","ORGANOS_DESCONCENTRADOS","12902","Servicio Nacional de Salud Animal (SENASA)","12902 - Servicio Nacional de Salud Animal (SENASA)","ORGANOS_DESCONCENTRADOS"]
["SECTOR_PUBLICO_NO_FINANCIERO","GOBIERNO_GENERAL","GOBIERNO_DE_LA_REPUBLICA","ADMINISTRACION_CENTRAL","ORGANOS_DESCONCENTRADOS","12908"," Sistema Nacional de Áreas de Conservación (SINAC) ","12908 -  Sistema Nacional de Áreas de Conservación (SINAC) ","ORGANOS_DESCONCENTRADOS"]
["SECTOR_PUBLICO_NO_FINANCIERO","GOBIERNO_GENERAL","GOBIERNO_DE_LA_REPUBLICA","ADMINISTRACION_CENTRAL","ORGANOS_DESCONCENTRADOS","12914","Sistema Nacional de Educación Musical (SINEM)","12914 - Sistema Nacional de Educación Musical (SINEM)","ORGANOS_DESCONCENTRADOS"]
["SECTOR_PUBLICO_NO_FINANCIERO","GOBIERNO_GENERAL","GOBIERNO_DE_LA_REPUBLICA","ADMINISTRACION_CENTRAL","ORGANOS_DESCONCENTRADOS","12920","Teatro Nacional (TNCR)","12920 - Teatro Nacional (TNCR)","ORGANOS_DESCONCENTRADOS"]
["SECTOR_PUBLICO_NO_FINANCIERO","GOBIERNO_GENERAL","GOBIERNO_DE_LA_REPUBLICA","ADMINISTRACION_CENTRAL","ORGANOS_DESCONCENTRADOS","12921","Teatro Popular Mélico Salazar  (TPMS)","12921 - Teatro Popular Mélico Salazar  (TPMS)","ORGANOS_DESCONCENTRADOS"]
["SECTOR_PUBLICO_NO_FINANCIERO","GOBIERNO_GENERAL","GOBIERNO_DE_LA_REPUBLICA","ADMINISTRACION_CENTRAL","ORGANOS_DESCONCENTRADOS","12940","Tribunal Registral Administrativo  (TRA)","12940 - Tribunal Registral Administrativo  (TRA)","ORGANOS_DESCONCENTRADOS"]
["SECTOR_PUBLICO_NO_FINANCIERO","GOBIERNO_GENERAL","-","-","INSTITUCIONES_DESCENTRALIZADAS","14110","Autoridad Reguladora de Servicios Públicos (ARESEP)","14110 - Autoridad Reguladora de Servicios Públicos (ARESEP)","INSTITUCIONES_DESCENTRALIZADAS"]
["SECTOR_PUBLICO_NO_FINANCIERO","GOBIERNO_GENERAL","-","-","INSTITUCIONES_DESCENTRALIZADAS","14115","Benemérito Cuerpo de Bomberos de Costa Rica","14115 - Benemérito Cuerpo de Bomberos de Costa Rica","INSTITUCIONES_DESCENTRALIZADAS"]
["SECTOR_PUBLICO_NO_FINANCIERO","GOBIERNO_GENERAL","-","-","INSTITUCIONES_DESCENTRALIZADAS","14120","Caja Costarricense de Seguro Social (CCSS)","14120 - Caja Costarricense de Seguro Social (CCSS)","INSTITUCIONES_DESCENTRALIZADAS"]
["SECTOR_PUBLICO_NO_FINANCIERO","GOBIERNO_GENERAL","-","-","INSTITUCIONES_DESCENTRALIZADAS","14132","Colegio Universitario de Cartago (CUC)","14132 - Colegio Universitario de Cartago (CUC)","INSTITUCIONES_DESCENTRALIZADAS"]
["SECTOR_PUBLICO_NO_FINANCIERO","GOBIERNO_GENERAL","-","-","INSTITUCIONES_DESCENTRALIZADAS","14133","Colegio Universitario de Limón (CUNLIMON)","14133 - Colegio Universitario de Limón (CUNLIMON)","INSTITUCIONES_DESCENTRALIZADAS"]
["SECTOR_PUBLICO_NO_FINANCIERO","GOBIERNO_GENERAL","-","-","INSTITUCIONES_DESCENTRALIZADAS","14137","Comisión de Energía Atómica de Costa Rica (CEA)","14137 - Comisión de Energía Atómica de Costa Rica (CEA)","INSTITUCIONES_DESCENTRALIZADAS"]
["SECTOR_PUBLICO_NO_FINANCIERO","GOBIERNO_GENERAL","-","-","INSTITUCIONES_DESCENTRALIZADAS","14150","Comisión Nacional de Asuntos Indígenas (CONAI)","14150 - Comisión Nacional de Asuntos Indígenas (CONAI)","INSTITUCIONES_DESCENTRALIZADAS"]
["SECTOR_PUBLICO_NO_FINANCIERO","GOBIERNO_GENERAL","-","-","INSTITUCIONES_DESCENTRALIZADAS","14161","Promotora Costarricense de Innovación e Investigación (PROMOTORA)","14161 - Promotora Costarricense de Innovación e Investigación (PROMOTORA)","INSTITUCIONES_DESCENTRALIZADAS"]
["SECTOR_PUBLICO_NO_FINANCIERO","GOBIERNO_GENERAL","-","-","INSTITUCIONES_DESCENTRALIZADAS","14162","Consejo Nacional de Rectores (CONARE)","14162 - Consejo Nacional de Rectores (CONARE)","INSTITUCIONES_DESCENTRALIZADAS"]
["SECTOR_PUBLICO_NO_FINANCIERO","GOBIERNO_GENERAL","-","-","INSTITUCIONES_DESCENTRALIZADAS","14222","Instituto Costarricense del Deporte y la Recreación (ICODER)","14222 - Instituto Costarricense del Deporte y la Recreación (ICODER)","INSTITUCIONES_DESCENTRALIZADAS"]
["SECTOR_PUBLICO_NO_FINANCIERO","GOBIERNO_GENERAL","-","-","INSTITUCIONES_DESCENTRALIZADAS","14223","Instituto Costarricense de Pesca y Acuicultura (INCOPESCA)","14223 - Instituto Costarricense de Pesca y Acuicultura (INCOPESCA)","INSTITUCIONES_DESCENTRALIZADAS"]
["SECTOR_PUBLICO_NO_FINANCIERO","GOBIERNO_GENERAL","-","-","INSTITUCIONES_DESCENTRALIZADAS","14224","Instituto Costarricense de Turismo (ICT)","14224 - Instituto Costarricense de Turismo (ICT)","INSTITUCIONES_DESCENTRALIZADAS"]
["SECTOR_PUBLICO_NO_FINANCIERO","GOBIERNO_GENERAL","-","-","INSTITUCIONES_DESCENTRALIZADAS","14225","Instituto de Desarrollo Rural (INDER)","14225 - Instituto de Desarrollo Rural (INDER)","INSTITUCIONES_DESCENTRALIZADAS"]
["SECTOR_PUBLICO_NO_FINANCIERO","GOBIERNO_GENERAL","-","-","INSTITUCIONES_DESCENTRALIZADAS","14226","Instituto de Fomento y Asesoría Municipal (IFAM)","14226 - Instituto de Fomento y Asesoría Municipal (IFAM)","INSTITUCIONES_DESCENTRALIZADAS"]
["SECTOR_PUBLICO_NO_FINANCIERO","GOBIERNO_GENERAL","-","-","INSTITUCIONES_DESCENTRALIZADAS","14227","Instituto Mixto de Ayuda Social (IMAS)","14227 - Instituto Mixto de Ayuda Social (IMAS)","INSTITUCIONES_DESCENTRALIZADAS"]
["SECTOR_PUBLICO_NO_FINANCIERO","GOBIERNO_GENERAL","-","-","INSTITUCIONES_DESCENTRALIZADAS","14228","Instituto Nacional de Aprendizaje (INA)","14228 - Instituto Nacional de Aprendizaje (INA)","INSTITUCIONES_DESCENTRALIZADAS"]
["SECTOR_PUBLICO_NO_FINANCIERO","GOBIERNO_GENERAL","-","-","INSTITUCIONES_DESCENTRALIZADAS","14229","Instituto Nacional de Estadística y Censos (INEC)","14229 - Instituto Nacional de Estadística y Censos (INEC)","INSTITUCIONES_DESCENTRALIZADAS"]
["SECTOR_PUBLICO_NO_FINANCIERO","GOBIERNO_GENERAL","-","-","INSTITUCIONES_DESCENTRALIZADAS","14230","Instituto Nacional de las Mujeres (INAMU)","14230 - Instituto Nacional de las Mujeres (INAMU)","INSTITUCIONES_DESCENTRALIZADAS"]
["SECTOR_PUBLICO_NO_FINANCIERO","GOBIERNO_GENERAL","-","-","INSTITUCIONES_DESCENTRALIZADAS","14251","Junta Administrativa Colegio San Luis Gonzaga (JACSLG)","14251 - Junta Administrativa Colegio San Luis Gonzaga (JACSLG)","INSTITUCIONES_DESCENTRALIZADAS"]
["SECTOR_PUBLICO_NO_FINANCIERO","GOBIERNO_GENERAL","-","-","INSTITUCIONES_DESCENTRALIZADAS","14252","Junta de Desarrollo Regional de la Zona Sur de la Provincia de Puntarenas (JUDESUR)","14252 - Junta de Desarrollo Regional de la Zona Sur de la Provincia de Puntarenas (JUDESUR)","INSTITUCIONES_DESCENTRALIZADAS"]
["SECTOR_PUBLICO_NO_FINANCIERO","GOBIERNO_GENERAL","-","-","INSTITUCIONES_DESCENTRALIZADAS","14267","Oficina Nacional de Semillas (ONS)","14267 - Oficina Nacional de Semillas (ONS)","INSTITUCIONES_DESCENTRALIZADAS"]
["SECTOR_PUBLICO_NO_FINANCIERO","GOBIERNO_GENERAL","-","-","INSTITUCIONES_DESCENTRALIZADAS","14275","Patronato Nacional de Ciegos (PANACI) 12851","14275 - Patronato Nacional de Ciegos (PANACI) 12851","INSTITUCIONES_DESCENTRALIZADAS"]
["SECTOR_PUBLICO_NO_FINANCIERO","GOBIERNO_GENERAL","-","-","INSTITUCIONES_DESCENTRALIZADAS","14290","Patronato Nacional de la Infancia (PANI)","14290 - Patronato Nacional de la Infancia (PANI)","INSTITUCIONES_DESCENTRALIZADAS"]
["SECTOR_PUBLICO_NO_FINANCIERO","GOBIERNO_GENERAL","-","-","INSTITUCIONES_DESCENTRALIZADAS","14300","Programa Integral de Mercadeo Agropecuario (PIMA)","14300 - Programa Integral de Mercadeo Agropecuario (PIMA)","INSTITUCIONES_DESCENTRALIZADAS"]
["SECTOR_PUBLICO_NO_FINANCIERO","GOBIERNO_GENERAL","-","-","INSTITUCIONES_DESCENTRALIZADAS","14320","Servicio Nacional de Aguas Subterráneas, Riego y Avenamiento (SENARA)","14320 - Servicio Nacional de Aguas Subterráneas, Riego y Avenamiento (SENARA)","INSTITUCIONES_DESCENTRALIZADAS"]
["SECTOR_PUBLICO_NO_FINANCIERO","GOBIERNO_GENERAL","-","-","INSTITUCIONES_DESCENTRALIZADAS","14323","Sistema de Emergencias 9-1-1","14323 - Sistema de Emergencias 9-1-1","INSTITUCIONES_DESCENTRALIZADAS"]
["SECTOR_PUBLICO_NO_FINANCIERO","GOBIERNO_GENERAL","-","-","INSTITUCIONES_DESCENTRALIZADAS","14326","Superintendencia de Telecomunicaciones (SUTEL)","14326 - Superintendencia de Telecomunicaciones (SUTEL)","INSTITUCIONES_DESCENTRALIZADAS"]
["SECTOR_PUBLICO_NO_FINANCIERO","GOBIERNO_GENERAL","-","-","INSTITUCIONES_DESCENTRALIZADAS","14990","Sistema Nacional de Acreditación para Educación Superior (SINAES) 12325","14990 - Sistema Nacional de Acreditación para Educación Superior (SINAES) 12325","INSTITUCIONES_DESCENTRALIZADAS"]
["SECTOR_PUBLICO_NO_FINANCIERO","GOBIERNO_GENERAL","-","-","UNIVERSIDADES_PUBLICAS","14231","Instituto Tecnológico de Costa Rica (ITCR)","14231 - Instituto Tecnológico de Costa Rica (ITCR)","UNIVERSIDADES_PUBLICAS"]
["SECTOR_PUBLICO_NO_FINANCIERO","GOBIERNO_GENERAL","-","-","UNIVERSIDADES_PUBLICAS","14340","Universidad de Costa Rica (UCR)","14340 - Universidad de Costa Rica (UCR)","UNIVERSIDADES_PUBLICAS"]
["SECTOR_PUBLICO_NO_FINANCIERO","GOBIERNO_GENERAL","-","-","UNIVERSIDADES_PUBLICAS","14341","Universidad Estatal a Distancia (UNED)","14341 - Universidad Estatal a Distancia (UNED)","UNIVERSIDADES_PUBLICAS"]
["SECTOR_PUBLICO_NO_FINANCIERO","GOBIERNO_GENERAL","-","-","UNIVERSIDADES_PUBLICAS","14342","Universidad Nacional (UNA)","14342 - Universidad Nacional (UNA)","UNIVERSIDADES_PUBLICAS"]
["SECTOR_PUBLICO_NO_FINANCIERO","GOBIERNO_GENERAL","-","-","UNIVERSIDADES_PUBLICAS","14353","Universidad Técnica Nacional","14353 - Universidad Técnica Nacional","UNIVERSIDADES_PUBLICAS"]
["SECTOR_PUBLICO_NO_FINANCIERO","GOBIERNO_GENERAL","-","-","INSTITUCIONES_FINANCIERAS_NO_BANCARIAS","22150","CONAPE","22150 - CONAPE","INSTITUCIONES_FINANCIERAS_NO_BANCARIAS"]
["SECTOR_PUBLICO_NO_FINANCIERO","GOBIERNO_GENERAL","-","-","INSTITUCIONES_FINANCIERAS_NO_BANCARIAS","22165","Fondo de Desarrollo de la Provincia de Limón (FODELI) 14210","22165 - Fondo de Desarrollo de la Provincia de Limón (FODELI) 14210","INSTITUCIONES_FINANCIERAS_NO_BANCARIAS"]
["SECTOR_PUBLICO_NO_FINANCIERO","GOBIERNO_GENERAL","-","-","INSTITUCIONES_FINANCIERAS_NO_BANCARIAS","22194","INVU","22194 - INVU","INSTITUCIONES_FINANCIERAS_NO_BANCARIAS"]
["SECTOR_PUBLICO_NO_FINANCIERO","GOBIERNO_GENERAL","-","-","SECTOR_MUNICIPAL","15101","Municipalidad de San José ","15101 - Municipalidad de San José ","SECTOR_MUNICIPAL"]
["SECTOR_PUBLICO_NO_FINANCIERO","GOBIERNO_GENERAL","-","-","SECTOR_MUNICIPAL","15102","Municipalidad de Escazú","15102 - Municipalidad de Escazú","SECTOR_MUNICIPAL"]
["SECTOR_PUBLICO_NO_FINANCIERO","GOBIERNO_GENERAL","-","-","SECTOR_MUNICIPAL","15103","Municipalidad de Desamparados","15103 - Municipalidad de Desamparados","SECTOR_MUNICIPAL"]
["SECTOR_PUBLICO_NO_FINANCIERO","GOBIERNO_GENERAL","-","-","SECTOR_MUNICIPAL","15104","Municipalidad de Puriscal","15104 - Municipalidad de Puriscal","SECTOR_MUNICIPAL"]
["SECTOR_PUBLICO_NO_FINANCIERO","GOBIERNO_GENERAL","-","-","SECTOR_MUNICIPAL","15105","Municipalidad de Tarrazú","15105 - Municipalidad de Tarrazú","SECTOR_MUNICIPAL"]
["SECTOR_PUBLICO_NO_FINANCIERO","GOBIERNO_GENERAL","-","-","SECTOR_MUNICIPAL","15106","Municipalidad de Aserrí","15106 - Municipalidad de Aserrí","SECTOR_MUNICIPAL"]
["SECTOR_PUBLICO_NO_FINANCIERO","GOBIERNO_GENERAL","-","-","SECTOR_MUNICIPAL","15107","Municipalidad de Mora","15107 - Municipalidad de Mora","SECTOR_MUNICIPAL"]
["SECTOR_PUBLICO_NO_FINANCIERO","GOBIERNO_GENERAL","-","-","SECTOR_MUNICIPAL","15108","Municipalidad de Goicoechea","15108 - Municipalidad de Goicoechea","SECTOR_MUNICIPAL"]
["SECTOR_PUBLICO_NO_FINANCIERO","GOBIERNO_GENERAL","-","-","SECTOR_MUNICIPAL","15109","Municipalidad de Santa Ana","15109 - Municipalidad de Santa Ana","SECTOR_MUNICIPAL"]
["SECTOR_PUBLICO_NO_FINANCIERO","GOBIERNO_GENERAL","-","-","SECTOR_MUNICIPAL","15110","Municipalidad de Alajuelita","15110 - Municipalidad de Alajuelita","SECTOR_MUNICIPAL"]
["SECTOR_PUBLICO_NO_FINANCIERO","GOBIERNO_GENERAL","-","-","SECTOR_MUNICIPAL","15111","Municipalidad de Vásquez de Coronado","15111 - Municipalidad de Vásquez de Coronado","SECTOR_MUNICIPAL"]
["SECTOR_PUBLICO_NO_FINANCIERO","GOBIERNO_GENERAL","-","-","SECTOR_MUNICIPAL","15112","Municipalidad de Acosta","15112 - Municipalidad de Acosta","SECTOR_MUNICIPAL"]
["SECTOR_PUBLICO_NO_FINANCIERO","GOBIERNO_GENERAL","-","-","SECTOR_MUNICIPAL","15113","Municipalidad de Tibás","15113 - Municipalidad de Tibás","SECTOR_MUNICIPAL"]
["SECTOR_PUBLICO_NO_FINANCIERO","GOBIERNO_GENERAL","-","-","SECTOR_MUNICIPAL","15114","Municipalidad de Moravia","15114 - Municipalidad de Moravia","SECTOR_MUNICIPAL"]
["SECTOR_PUBLICO_NO_FINANCIERO","GOBIERNO_GENERAL","-","-","SECTOR_MUNICIPAL","15115","Municipalidad de Montes de Oca","15115 - Municipalidad de Montes de Oca","SECTOR_MUNICIPAL"]
["SECTOR_PUBLICO_NO_FINANCIERO","GOBIERNO_GENERAL","-","-","SECTOR_MUNICIPAL","15116","Municipalidad de Turrubares","15116 - Municipalidad de Turrubares","SECTOR_MUNICIPAL"]
["SECTOR_PUBLICO_NO_FINANCIERO","GOBIERNO_GENERAL","-","-","SECTOR_MUNICIPAL","15117","Municipalidad de Dota","15117 - Municipalidad de Dota","SECTOR_MUNICIPAL"]
["SECTOR_PUBLICO_NO_FINANCIERO","GOBIERNO_GENERAL","-","-","SECTOR_MUNICIPAL","15118","Municipalidad de Curridabat","15118 - Municipalidad de Curridabat","SECTOR_MUNICIPAL"]
["SECTOR_PUBLICO_NO_FINANCIERO","GOBIERNO_GENERAL","-","-","SECTOR_MUNICIPAL","15119","Municipalidad de Pérez Zeledón","15119 - Municipalidad de Pérez Zeledón","SECTOR_MUNICIPAL"]
["SECTOR_PUBLICO_NO_FINANCIERO","GOBIERNO_GENERAL","-","-","SECTOR_MUNICIPAL","15120","Municipalidad de León Cortés","15120 - Municipalidad de León Cortés","SECTOR_MUNICIPAL"]
["SECTOR_PUBLICO_NO_FINANCIERO","GOBIERNO_GENERAL","-","-","SECTOR_MUNICIPAL","15201","Municipalidad de Alajuela","15201 - Municipalidad de Alajuela","SECTOR_MUNICIPAL"]
["SECTOR_PUBLICO_NO_FINANCIERO","GOBIERNO_GENERAL","-","-","SECTOR_MUNICIPAL","15202","Municipalidad de San Ramón","15202 - Municipalidad de San Ramón","SECTOR_MUNICIPAL"]
["SECTOR_PUBLICO_NO_FINANCIERO","GOBIERNO_GENERAL","-","-","SECTOR_MUNICIPAL","15203","Municipalidad de Grecia","15203 - Municipalidad de Grecia","SECTOR_MUNICIPAL"]
["SECTOR_PUBLICO_NO_FINANCIERO","GOBIERNO_GENERAL","-","-","SECTOR_MUNICIPAL","15204","Municipalidad de San Mateo","15204 - Municipalidad de San Mateo","SECTOR_MUNICIPAL"]
["SECTOR_PUBLICO_NO_FINANCIERO","GOBIERNO_GENERAL","-","-","SECTOR_MUNICIPAL","15205","Municipalidad de Atenas","15205 - Municipalidad de Atenas","SECTOR_MUNICIPAL"]
["SECTOR_PUBLICO_NO_FINANCIERO","GOBIERNO_GENERAL","-","-","SECTOR_MUNICIPAL","15206","Municipalidad de Naranjo","15206 - Municipalidad de Naranjo","SECTOR_MUNICIPAL"]
["SECTOR_PUBLICO_NO_FINANCIERO","GOBIERNO_GENERAL","-","-","SECTOR_MUNICIPAL","15207","Municipalidad de Palmares","15207 - Municipalidad de Palmares","SECTOR_MUNICIPAL"]
["SECTOR_PUBLICO_NO_FINANCIERO","GOBIERNO_GENERAL","-","-","SECTOR_MUNICIPAL","15208","Municipalidad de Poás","15208 - Municipalidad de Poás","SECTOR_MUNICIPAL"]
["SECTOR_PUBLICO_NO_FINANCIERO","GOBIERNO_GENERAL","-","-","SECTOR_MUNICIPAL","15209","Municipalidad de Orotina","15209 - Municipalidad de Orotina","SECTOR_MUNICIPAL"]
["SECTOR_PUBLICO_NO_FINANCIERO","GOBIERNO_GENERAL","-","-","SECTOR_MUNICIPAL","15210","Municipalidad de San Carlos","15210 - Municipalidad de San Carlos","SECTOR_MUNICIPAL"]
["SECTOR_PUBLICO_NO_FINANCIERO","GOBIERNO_GENERAL","-","-","SECTOR_MUNICIPAL","15211","Municipalidad de Alfaro Ruíz","15211 - Municipalidad de Alfaro Ruíz","SECTOR_MUNICIPAL"]
["SECTOR_PUBLICO_NO_FINANCIERO","GOBIERNO_GENERAL","-","-","SECTOR_MUNICIPAL","15212","Municipalidad de Sarchí","15212 - Municipalidad de Sarchí","SECTOR_MUNICIPAL"]
["SECTOR_PUBLICO_NO_FINANCIERO","GOBIERNO_GENERAL","-","-","SECTOR_MUNICIPAL","15213","Municipalidad de Upala","15213 - Municipalidad de Upala","SECTOR_MUNICIPAL"]
["SECTOR_PUBLICO_NO_FINANCIERO","GOBIERNO_GENERAL","-","-","SECTOR_MUNICIPAL","15214","Municipalidad de Los Chiles","15214 - Municipalidad de Los Chiles","SECTOR_MUNICIPAL"]
["SECTOR_PUBLICO_NO_FINANCIERO","GOBIERNO_GENERAL","-","-","SECTOR_MUNICIPAL","15215","Municipalidad de Guatuso","15215 - Municipalidad de Guatuso","SECTOR_MUNICIPAL"]
["SECTOR_PUBLICO_NO_FINANCIERO","GOBIERNO_GENERAL","-","-","SECTOR_MUNICIPAL","15216","Municipalidad de Rio Cuarto","15216 - Municipalidad de Rio Cuarto","SECTOR_MUNICIPAL"]
["SECTOR_PUBLICO_NO_FINANCIERO","GOBIERNO_GENERAL","-","-","SECTOR_MUNICIPAL","15220","Concejo Municipal de Distrito de Peñas Blancas de San Ramón","15220 - Concejo Municipal de Distrito de Peñas Blancas de San Ramón","SECTOR_MUNICIPAL"]
["SECTOR_PUBLICO_NO_FINANCIERO","GOBIERNO_GENERAL","-","-","SECTOR_MUNICIPAL","15301","Municipalidad de Cartago","15301 - Municipalidad de Cartago","SECTOR_MUNICIPAL"]
["SECTOR_PUBLICO_NO_FINANCIERO","GOBIERNO_GENERAL","-","-","SECTOR_MUNICIPAL","15302","Municipalidad de Paraíso","15302 - Municipalidad de Paraíso","SECTOR_MUNICIPAL"]
["SECTOR_PUBLICO_NO_FINANCIERO","GOBIERNO_GENERAL","-","-","SECTOR_MUNICIPAL","15303","Municipalidad de La Unión","15303 - Municipalidad de La Unión","SECTOR_MUNICIPAL"]
["SECTOR_PUBLICO_NO_FINANCIERO","GOBIERNO_GENERAL","-","-","SECTOR_MUNICIPAL","15304","Municipalidad de Jiménez","15304 - Municipalidad de Jiménez","SECTOR_MUNICIPAL"]
["SECTOR_PUBLICO_NO_FINANCIERO","GOBIERNO_GENERAL","-","-","SECTOR_MUNICIPAL","15305","Municipalidad de Turrialba","15305 - Municipalidad de Turrialba","SECTOR_MUNICIPAL"]
["SECTOR_PUBLICO_NO_FINANCIERO","GOBIERNO_GENERAL","-","-","SECTOR_MUNICIPAL","15306","Municipalidad de Alvarado","15306 - Municipalidad de Alvarado","SECTOR_MUNICIPAL"]
["SECTOR_PUBLICO_NO_FINANCIERO","GOBIERNO_GENERAL","-","-","SECTOR_MUNICIPAL","15307","Municipalidad de Oreamuno","15307 - Municipalidad de Oreamuno","SECTOR_MUNICIPAL"]
["SECTOR_PUBLICO_NO_FINANCIERO","GOBIERNO_GENERAL","-","-","SECTOR_MUNICIPAL","15308","Municipalidad de El Guarco","15308 - Municipalidad de El Guarco","SECTOR_MUNICIPAL"]
["SECTOR_PUBLICO_NO_FINANCIERO","GOBIERNO_GENERAL","-","-","SECTOR_MUNICIPAL","15320","Concejo Municipal de Distrito de Cervantes de Alvarado","15320 - Concejo Municipal de Distrito de Cervantes de Alvarado","SECTOR_MUNICIPAL"]
["SECTOR_PUBLICO_NO_FINANCIERO","GOBIERNO_GENERAL","-","-","SECTOR_MUNICIPAL","15321","Concejo Municipal de Distrito de Tucurrique de Jiménez","15321 - Concejo Municipal de Distrito de Tucurrique de Jiménez","SECTOR_MUNICIPAL"]
["SECTOR_PUBLICO_NO_FINANCIERO","GOBIERNO_GENERAL","-","-","SECTOR_MUNICIPAL","15401","Municipalidad de Heredia","15401 - Municipalidad de Heredia","SECTOR_MUNICIPAL"]
["SECTOR_PUBLICO_NO_FINANCIERO","GOBIERNO_GENERAL","-","-","SECTOR_MUNICIPAL","15402","Municipalidad de Barva","15402 - Municipalidad de Barva","SECTOR_MUNICIPAL"]
["SECTOR_PUBLICO_NO_FINANCIERO","GOBIERNO_GENERAL","-","-","SECTOR_MUNICIPAL","15403","Municipalidad de Santo Domingo","15403 - Municipalidad de Santo Domingo","SECTOR_MUNICIPAL"]
["SECTOR_PUBLICO_NO_FINANCIERO","GOBIERNO_GENERAL","-","-","SECTOR_MUNICIPAL","15404","Municipalidad de Santa Barbara","15404 - Municipalidad de Santa Barbara","SECTOR_MUNICIPAL"]
["SECTOR_PUBLICO_NO_FINANCIERO","GOBIERNO_GENERAL","-","-","SECTOR_MUNICIPAL","15405","Municipalidad de San Rafael","15405 - Municipalidad de San Rafael","SECTOR_MUNICIPAL"]
["SECTOR_PUBLICO_NO_FINANCIERO","GOBIERNO_GENERAL","-","-","SECTOR_MUNICIPAL","15406","Municipalidad de San Isidro","15406 - Municipalidad de San Isidro","SECTOR_MUNICIPAL"]
["SECTOR_PUBLICO_NO_FINANCIERO","GOBIERNO_GENERAL","-","-","SECTOR_MUNICIPAL","15407","Municipalidad de Belén","15407 - Municipalidad de Belén","SECTOR_MUNICIPAL"]
["SECTOR_PUBLICO_NO_FINANCIERO","GOBIERNO_GENERAL","-","-","SECTOR_MUNICIPAL","15408","Municipalidad de Flores","15408 - Municipalidad de Flores","SECTOR_MUNICIPAL"]
["SECTOR_PUBLICO_NO_FINANCIERO","GOBIERNO_GENERAL","-","-","SECTOR_MUNICIPAL","15409","Municipalidad de San Pablo","15409 - Municipalidad de San Pablo","SECTOR_MUNICIPAL"]
["SECTOR_PUBLICO_NO_FINANCIERO","GOBIERNO_GENERAL","-","-","SECTOR_MUNICIPAL","15410","Municipalidad de Sarapiquí","15410 - Municipalidad de Sarapiquí","SECTOR_MUNICIPAL"]
["SECTOR_PUBLICO_NO_FINANCIERO","GOBIERNO_GENERAL","-","-","SECTOR_MUNICIPAL","15501","Municipalidad de Liberia","15501 - Municipalidad de Liberia","SECTOR_MUNICIPAL"]
["SECTOR_PUBLICO_NO_FINANCIERO","GOBIERNO_GENERAL","-","-","SECTOR_MUNICIPAL","15502","Municipalidad de Nicoya","15502 - Municipalidad de Nicoya","SECTOR_MUNICIPAL"]
["SECTOR_PUBLICO_NO_FINANCIERO","GOBIERNO_GENERAL","-","-","SECTOR_MUNICIPAL","15503","Municipalidad de Santa Cruz","15503 - Municipalidad de Santa Cruz","SECTOR_MUNICIPAL"]
["SECTOR_PUBLICO_NO_FINANCIERO","GOBIERNO_GENERAL","-","-","SECTOR_MUNICIPAL","15504","Municipalidad de Bagaces","15504 - Municipalidad de Bagaces","SECTOR_MUNICIPAL"]
["SECTOR_PUBLICO_NO_FINANCIERO","GOBIERNO_GENERAL","-","-","SECTOR_MUNICIPAL","15505","Municipalidad de Carrillo","15505 - Municipalidad de Carrillo","SECTOR_MUNICIPAL"]
["SECTOR_PUBLICO_NO_FINANCIERO","GOBIERNO_GENERAL","-","-","SECTOR_MUNICIPAL","15506","Municipalidad de Cañas","15506 - Municipalidad de Cañas","SECTOR_MUNICIPAL"]
["SECTOR_PUBLICO_NO_FINANCIERO","GOBIERNO_GENERAL","-","-","SECTOR_MUNICIPAL","15507","Municipalidad de Abangares","15507 - Municipalidad de Abangares","SECTOR_MUNICIPAL"]
["SECTOR_PUBLICO_NO_FINANCIERO","GOBIERNO_GENERAL","-","-","SECTOR_MUNICIPAL","15508","Municipalidad de Tilarán","15508 - Municipalidad de Tilarán","SECTOR_MUNICIPAL"]
["SECTOR_PUBLICO_NO_FINANCIERO","GOBIERNO_GENERAL","-","-","SECTOR_MUNICIPAL","15509","Municipalidad de Nandayure","15509 - Municipalidad de Nandayure","SECTOR_MUNICIPAL"]
["SECTOR_PUBLICO_NO_FINANCIERO","GOBIERNO_GENERAL","-","-","SECTOR_MUNICIPAL","15510","Municipalidad de La Cruz","15510 - Municipalidad de La Cruz","SECTOR_MUNICIPAL"]
["SECTOR_PUBLICO_NO_FINANCIERO","GOBIERNO_GENERAL","-","-","SECTOR_MUNICIPAL","15511","Municipalidad de Hojancha","15511 - Municipalidad de Hojancha","SECTOR_MUNICIPAL"]
["SECTOR_PUBLICO_NO_FINANCIERO","GOBIERNO_GENERAL","-","-","SECTOR_MUNICIPAL","15520","Concejo Municipal de Distrito de Colorado de Abangares","15520 - Concejo Municipal de Distrito de Colorado de Abangares","SECTOR_MUNICIPAL"]
["SECTOR_PUBLICO_NO_FINANCIERO","GOBIERNO_GENERAL","-","-","SECTOR_MUNICIPAL","15601","Municipalidad de Puntarenas","15601 - Municipalidad de Puntarenas","SECTOR_MUNICIPAL"]
["SECTOR_PUBLICO_NO_FINANCIERO","GOBIERNO_GENERAL","-","-","SECTOR_MUNICIPAL","15602","Municipalidad de Esparza","15602 - Municipalidad de Esparza","SECTOR_MUNICIPAL"]
["SECTOR_PUBLICO_NO_FINANCIERO","GOBIERNO_GENERAL","-","-","SECTOR_MUNICIPAL","15603","Municipalidad de Buenos Aires","15603 - Municipalidad de Buenos Aires","SECTOR_MUNICIPAL"]
["SECTOR_PUBLICO_NO_FINANCIERO","GOBIERNO_GENERAL","-","-","SECTOR_MUNICIPAL","15604","Municipalidad de Montes de Oro","15604 - Municipalidad de Montes de Oro","SECTOR_MUNICIPAL"]
["SECTOR_PUBLICO_NO_FINANCIERO","GOBIERNO_GENERAL","-","-","SECTOR_MUNICIPAL","15605","Municipalidad de Osa","15605 - Municipalidad de Osa","SECTOR_MUNICIPAL"]
["SECTOR_PUBLICO_NO_FINANCIERO","GOBIERNO_GENERAL","-","-","SECTOR_MUNICIPAL","15606","Municipalidad de Aguirre","15606 - Municipalidad de Aguirre","SECTOR_MUNICIPAL"]
["SECTOR_PUBLICO_NO_FINANCIERO","GOBIERNO_GENERAL","-","-","SECTOR_MUNICIPAL","15607","Municipalidad de Golfito","15607 - Municipalidad de Golfito","SECTOR_MUNICIPAL"]
["SECTOR_PUBLICO_NO_FINANCIERO","GOBIERNO_GENERAL","-","-","SECTOR_MUNICIPAL","15608","Municipalidad de Coto Brus","15608 - Municipalidad de Coto Brus","SECTOR_MUNICIPAL"]
["SECTOR_PUBLICO_NO_FINANCIERO","GOBIERNO_GENERAL","-","-","SECTOR_MUNICIPAL","15609","Municipalidad de Parrita","15609 - Municipalidad de Parrita","SECTOR_MUNICIPAL"]
["SECTOR_PUBLICO_NO_FINANCIERO","GOBIERNO_GENERAL","-","-","SECTOR_MUNICIPAL","15610","Municipalidad de Corredores","15610 - Municipalidad de Corredores","SECTOR_MUNICIPAL"]
["SECTOR_PUBLICO_NO_FINANCIERO","GOBIERNO_GENERAL","-","-","SECTOR_MUNICIPAL","15611","Municipalidad de Garabito","15611 - Municipalidad de Garabito","SECTOR_MUNICIPAL"]
["SECTOR_PUBLICO_NO_FINANCIERO","GOBIERNO_GENERAL","-","-","SECTOR_MUNICIPAL","15620","Concejo Municipal de Distrito de Cóbano Puntarenas","15620 - Concejo Municipal de Distrito de Cóbano Puntarenas","SECTOR_MUNICIPAL"]
["SECTOR_PUBLICO_NO_FINANCIERO","GOBIERNO_GENERAL","-","-","SECTOR_MUNICIPAL","15621","Concejo Municipal de Distrito de Monteverde de Puntarenas","15621 - Concejo Municipal de Distrito de Monteverde de Puntarenas","SECTOR_MUNICIPAL"]
["SECTOR_PUBLICO_NO_FINANCIERO","GOBIERNO_GENERAL","-","-","SECTOR_MUNICIPAL","15622","Concejo Municipal de Distrito de Lepanto de Puntarenas","15622 - Concejo Municipal de Distrito de Lepanto de Puntarenas","SECTOR_MUNICIPAL"]
["SECTOR_PUBLICO_NO_FINANCIERO","GOBIERNO_GENERAL","-","-","SECTOR_MUNICIPAL","15623","Concejo Municipal de Distrito de Paquera de Puntarenas","15623 - Concejo Municipal de Distrito de Paquera de Puntarenas","SECTOR_MUNICIPAL"]
["SECTOR_PUBLICO_NO_FINANCIERO","GOBIERNO_GENERAL","-","-","SECTOR_MUNICIPAL","15701","Municipalidad de Limón","15701 - Municipalidad de Limón","SECTOR_MUNICIPAL"]
["SECTOR_PUBLICO_NO_FINANCIERO","GOBIERNO_GENERAL","-","-","SECTOR_MUNICIPAL","15702","Municipalidad de Pococí","15702 - Municipalidad de Pococí","SECTOR_MUNICIPAL"]
["SECTOR_PUBLICO_NO_FINANCIERO","GOBIERNO_GENERAL","-","-","SECTOR_MUNICIPAL","15703","Municipalidad de Siquirres","15703 - Municipalidad de Siquirres","SECTOR_MUNICIPAL"]
["SECTOR_PUBLICO_NO_FINANCIERO","GOBIERNO_GENERAL","-","-","SECTOR_MUNICIPAL","15704","Municipalidad de Talamanca","15704 - Municipalidad de Talamanca","SECTOR_MUNICIPAL"]
["SECTOR_PUBLICO_NO_FINANCIERO","GOBIERNO_GENERAL","-","-","SECTOR_MUNICIPAL","15705","Municipalidad de Matina","15705 - Municipalidad de Matina","SECTOR_MUNICIPAL"]
["SECTOR_PUBLICO_NO_FINANCIERO","GOBIERNO_GENERAL","-","-","SECTOR_MUNICIPAL","15706","Municipalidad de Guácimo","15706 - Municipalidad de Guácimo","SECTOR_MUNICIPAL"]
["SECTOR_PUBLICO_NO_FINANCIERO","-","-","-","EMPRESAS_PUBLICAS","16101","Consejo Nacional de Producción (CNP)","16101 - Consejo Nacional de Producción (CNP)","EMPRESAS_PUBLICAS"]
["SECTOR_PUBLICO_NO_FINANCIERO","-","-","-","EMPRESAS_PUBLICAS","16120","Correos de Costa Rica S.A.","16120 - Correos de Costa Rica S.A.","EMPRESAS_PUBLICAS"]
["SECTOR_PUBLICO_NO_FINANCIERO","-","-","-","EMPRESAS_PUBLICAS","16150","Instituto Costarricense de Acueductos y Alcantarillados (ICAA)","16150 - Instituto Costarricense de Acueductos y Alcantarillados (ICAA)","EMPRESAS_PUBLICAS"]
["SECTOR_PUBLICO_NO_FINANCIERO","-","-","-","EMPRESAS_PUBLICAS","16151","Instituto Nacional de Electricidad (ICE) (Casa Matriz)","16151 - Instituto Nacional de Electricidad (ICE) (Casa Matriz)","EMPRESAS_PUBLICAS"]
["SECTOR_PUBLICO_NO_FINANCIERO","-","-","-","EMPRESAS_PUBLICAS","16152","Instituto Costarricense de Ferrocarriles (INCOFER)","16152 - Instituto Costarricense de Ferrocarriles (INCOFER)","EMPRESAS_PUBLICAS"]
["SECTOR_PUBLICO_NO_FINANCIERO","-","-","-","EMPRESAS_PUBLICAS","16153","Instituto Costarricense Puertos del Pacifico (INCOP)","16153 - Instituto Costarricense Puertos del Pacifico (INCOP)","EMPRESAS_PUBLICAS"]
["SECTOR_PUBLICO_NO_FINANCIERO","-","-","-","EMPRESAS_PUBLICAS","16170","Junta de Administración Portuaria y de Desarrollo de la Vertiente Atlántica (JAPDEVA)","16170 - Junta de Administración Portuaria y de Desarrollo de la Vertiente Atlántica (JAPDEVA)","EMPRESAS_PUBLICAS"]
["SECTOR_PUBLICO_NO_FINANCIERO","-","-","-","EMPRESAS_PUBLICAS","16171","Junta de Protección Social (JPS)","16171 - Junta de Protección Social (JPS)","EMPRESAS_PUBLICAS"]
["SECTOR_PUBLICO_NO_FINANCIERO","-","-","-","EMPRESAS_PUBLICAS","16181","Refinadora Costarricense de Petroleo S.A (RECOPE)","16181 - Refinadora Costarricense de Petroleo S.A (RECOPE)","EMPRESAS_PUBLICAS"]
["SECTOR_PUBLICO_NO_FINANCIERO","-","-","-","EMPRESAS_PUBLICAS","16190","Sistema Nacional de Radio y Television S.A (SINART SA)","16190 - Sistema Nacional de Radio y Television S.A (SINART SA)","EMPRESAS_PUBLICAS"]
["SECTOR_PUBLICO_NO_FINANCIERO","-","-","-","EMPRESAS_PUBLICAS","22191","Instituto Nacional de Seguros (INS) (Casa Matriz)","22191 - Instituto Nacional de Seguros (INS) (Casa Matriz)","EMPRESAS_PUBLICAS"]

{"sheet":"BASE_DATOS","index":47,"n_rows":190,"n_cols":6,"rows_kept":190,"cut":false,"hidden":true,"merged":[]}
["CODIGO","ENTIDAD","ELEMENTO","GRUPO","ASPECTO","DETALLE"]
[{"$f":"DATOS!$D$12","v":"15603"},{"$f":"DATOS!$D$13","v":"Municipalidad de Buenos Aires"},"APLICACIÓN_NICSP","NICSP_1","NICSP_1_APL",{"$f":"VLOOKUP(D2,NICSP!$A:$H,6,0)","v":"Si"}]
[{"$f":"DATOS!$D$12","v":"15603"},{"$f":"DATOS!$D$13","v":"Municipalidad de Buenos Aires"},"APLICACIÓN_NICSP","NICSP_2","NICSP_2_APL",{"$f":"VLOOKUP(D3,NICSP!$A:$H,6,0)","v":"Si"}]
[{"$f":"DATOS!$D$12","v":"15603"},{"$f":"DATOS!$D$13","v":"Municipalidad de Buenos Aires"},"APLICACIÓN_NICSP","NICSP_3","NICSP_3_APL",{"$f":"VLOOKUP(D4,NICSP!$A:$H,6,0)","v":"Si"}]
[{"$f":"DATOS!$D$12","v":"15603"},{"$f":"DATOS!$D$13","v":"Municipalidad de Buenos Aires"},"APLICACIÓN_NICSP","NICSP_4","NICSP_4_APL",{"$f":"VLOOKUP(D5,NICSP!$A:$H,6,0)","v":"Si"}]
[{"$f":"DATOS!$D$12","v":"15603"},{"$f":"DATOS!$D$13","v":"Municipalidad de Buenos Aires"},"APLICACIÓN_NICSP","NICSP_5","NICSP_5_APL",{"$f":"VLOOKUP(D6,NICSP!$A:$H,6,0)","v":"Si"}]
[{"$f":"DATOS!$D$12","v":"15603"},{"$f":"DATOS!$D$13","v":"Municipalidad de Buenos Aires"},"APLICACIÓN_NICSP","NICSP_9","NICSP_9_APL",{"$f":"VLOOKUP(D7,NICSP!$A:$H,6,0)","v":"Si"}]
[{"$f":"DATOS!$D$12","v":"15603"},{"$f":"DATOS!$D$13","v":"Municipalidad de Buenos Aires"},"APLICACIÓN_NICSP","NICSP_10","NICSP_10_APL",{"$f":"VLOOKUP(D8,NICSP!$A:$H,6,0)","v":"No"}]
[{"$f":"DATOS!$D$12","v":"15603"},{"$f":"DATOS!$D$13","v":"Municipalidad de Buenos Aires"},"APLICACIÓN_NICSP","NICSP_11","NICSP_11_APL",{"$f":"VLOOKUP(D9,NICSP!$A:$H,6,0)","v":"No"}]
[{"$f":"DATOS!$D$12","v":"15603"},{"$f":"DATOS!$D$13","v":"Municipalidad de Buenos Aires"},"APLICACIÓN_NICSP","NICSP_12","NICSP_12_APL",{"$f":"VLOOKUP(D10,NICSP!$A:$H,6,0)","v":"Si"}]
[{"$f":"DATOS!$D$12","v":"15603"},{"$f":"DATOS!$D$13","v":"Municipalidad de Buenos Aires"},"APLICACIÓN_NICSP","NICSP_13","NICSP_13_APL",{"$f":"VLOOKUP(D11,NICSP!$A:$H,6,0)","v":"Si"}]
[{"$f":"DATOS!$D$12","v":"15603"},{"$f":"DATOS!$D$13","v":"Municipalidad de Buenos Aires"},"APLICACIÓN_NICSP","NICSP_14","NICSP_14_APL",{"$f":"VLOOKUP(D12,NICSP!$A:$H,6,0)","v":"Si"}]
[{"$f":"DATOS!$D$12","v":"15603"},{"$f":"DATOS!$D$13","v":"Municipalidad de Buenos Aires"},"APLICACIÓN_NICSP","NICSP_16","NICSP_16_APL",{"$f":"VLOOKUP(D13,NICSP!$A:$H,6,0)","v":"No"}]
[{"$f":"DATOS!$D$12","v":"15603"},{"$f":"DATOS!$D$13","v":"Municipalidad de Buenos Aires"},"APLICACIÓN_NICSP","NICSP_17","NICSP_17_APL",{"$f":"VLOOKUP(D14,NICSP!$A:$H,6,0)","v":"Si"}]
[{"$f":"DATOS!$D$12","v":"15603"},{"$f":"DATOS!$D$13","v":"Municipalidad de Buenos Aires"},"APLICACIÓN_NICSP","NICSP_18","NICSP_18_APL",{"$f":"VLOOKUP(D15,NICSP!$A:$H,6,0)","v":"No"}]
[{"$f":"DATOS!$D$12","v":"15603"},{"$f":"DATOS!$D$13","v":"Municipalidad de Buenos Aires"},"APLICACIÓN_NICSP","NICSP_19","NICSP_19_APL",{"$f":"VLOOKUP(D16,NICSP!$A:$H,6,0)","v":"Si"}]
[{"$f":"DATOS!$D$12","v":"15603"},{"$f":"DATOS!$D$13","v":"Municipalidad de Buenos Aires"},"APLICACIÓN_NICSP","NICSP_20","NICSP_20_APL",{"$f":"VLOOKUP(D17,NICSP!$A:$H,6,0)","v":"Si"}]
[{"$f":"DATOS!$D$12","v":"15603"},{"$f":"DATOS!$D$13","v":"Municipalidad de Buenos Aires"},"APLICACIÓN_NICSP","NICSP_21","NICSP_21_APL",{"$f":"VLOOKUP(D18,NICSP!$A:$H,6,0)","v":"Si"}]
[{"$f":"DATOS!$D$12","v":"15603"},{"$f":"DATOS!$D$13","v":"Municipalidad de Buenos Aires"},"APLICACIÓN_NICSP","NICSP_22","NICSP_22_APL",{"$f":"VLOOKUP(D19,NICSP!$A:$H,6,0)","v":"No"}]
[{"$f":"DATOS!$D$12","v":"15603"},{"$f":"DATOS!$D$13","v":"Municipalidad de Buenos Aires"},"APLICACIÓN_NICSP","NICSP_23","NICSP_23_APL",{"$f":"VLOOKUP(D20,NICSP!$A:$H,6,0)","v":"Si"}]
[{"$f":"DATOS!$D$12","v":"15603"},{"$f":"DATOS!$D$13","v":"Municipalidad de Buenos Aires"},"APLICACIÓN_NICSP","NICSP_24","NICSP_24_APL",{"$f":"VLOOKUP(D21,NICSP!$A:$H,6,0)","v":"Si"}]
[{"$f":"DATOS!$D$12","v":"15603"},{"$f":"DATOS!$D$13","v":"Municipalidad de Buenos Aires"},"APLICACIÓN_NICSP","NICSP_26","NICSP_26_APL",{"$f":"VLOOKUP(D22,NICSP!$A:$H,6,0)","v":"Si"}]
[{"$f":"DATOS!$D$12","v":"15603"},{"$f":"DATOS!$D$13","v":"Municipalidad de Buenos Aires"},"APLICACIÓN_NICSP","NICSP_27","NICSP_27_APL",{"$f":"VLOOKUP(D23,NICSP!$A:$H,6,0)","v":"No"}]
[{"$f":"DATOS!$D$12","v":"15603"},{"$f":"DATOS!$D$13","v":"Municipalidad de Buenos Aires"},"APLICACIÓN_NICSP","NICSP_28","NICSP_28_APL",{"$f":"VLOOKUP(D24,NICSP!$A:$H,6,0)","v":"Si"}]
[{"$f":"DATOS!$D$12","v":"15603"},{"$f":"DATOS!$D$13","v":"Municipalidad de Buenos Aires"},"APLICACIÓN_NICSP","NICSP_29","NICSP_29_APL",{"$f":"VLOOKUP(D25,NICSP!$A:$H,6,0)","v":"Si"}]
[{"$f":"DATOS!$D$12","v":"15603"},{"$f":"DATOS!$D$13","v":"Municipalidad de Buenos Aires"},"APLICACIÓN_NICSP","NICSP_30","NICSP_30_APL",{"$f":"VLOOKUP(D26,NICSP!$A:$H,6,0)","v":"Si"}]
[{"$f":"DATOS!$D$12","v":"15603"},{"$f":"DATOS!$D$13","v":"Municipalidad de Buenos Aires"},"APLICACIÓN_NICSP","NICSP_31","NICSP_31_APL",{"$f":"VLOOKUP(D27,NICSP!$A:$H,6,0)","v":"Si"}]
[{"$f":"DATOS!$D$12","v":"15603"},{"$f":"DATOS!$D$13","v":"Municipalidad de Buenos Aires"},"APLICACIÓN_NICSP","NICSP_32","NICSP_32_APL",{"$f":"VLOOKUP(D28,NICSP!$A:$H,6,0)","v":"No"}]
[{"$f":"DATOS!$D$12","v":"15603"},{"$f":"DATOS!$D$13","v":"Municipalidad de Buenos Aires"},"APLICACIÓN_NICSP","NICSP_33","NICSP_33_APL",{"$f":"VLOOKUP(D29,NICSP!$A:$H,6,0)","v":"Si"}]
[{"$f":"DATOS!$D$12","v":"15603"},{"$f":"DATOS!$D$13","v":"Municipalidad de Buenos Aires"},"APLICACIÓN_NICSP","NICSP_34","NICSP_34_APL",{"$f":"VLOOKUP(D30,NICSP!$A:$H,6,0)","v":"No"}]
[{"$f":"DATOS!$D$12","v":"15603"},{"$f":"DATOS!$D$13","v":"Municipalidad de Buenos Aires"},"APLICACIÓN_NICSP","NICSP_35","NICSP_35_APL",{"$f":"VLOOKUP(D31,NICSP!$A:$H,6,0)","v":"Si"}]
[{"$f":"DATOS!$D$12","v":"15603"},{"$f":"DATOS!$D$13","v":"Municipalidad de Buenos Aires"},"APLICACIÓN_NICSP","NICSP_36","NICSP_36_APL",{"$f":"VLOOKUP(D32,NICSP!$A:$H,6,0)","v":"No"}]
[{"$f":"DATOS!$D$12","v":"15603"},{"$f":"DATOS!$D$13","v":"Municipalidad de Buenos Aires"},"APLICACIÓN_NICSP","NICSP_37","NICSP_37_APL",{"$f":"VLOOKUP(D33,NICSP!$A:$H,6,0)","v":"No"}]
[{"$f":"DATOS!$D$12","v":"15603"},{"$f":"DATOS!$D$13","v":"Municipalidad de Buenos Aires"},"APLICACIÓN_NICSP","NICSP_38","NICSP_38_APL",{"$f":"VLOOKUP(D34,NICSP!$A:$H,6,0)","v":"No"}]
[{"$f":"DATOS!$D$12","v":"15603"},{"$f":"DATOS!$D$13","v":"Municipalidad de Buenos Aires"},"APLICACIÓN_NICSP","NICSP_39","NICSP_39_APL",{"$f":"VLOOKUP(D35,NICSP!$A:$H,6,0)","v":"Si"}]
[{"$f":"DATOS!$D$12","v":"15603"},{"$f":"DATOS!$D$13","v":"Municipalidad de Buenos Aires"},"APLICACIÓN_NICSP","NICSP_40","NICSP_40_APL",{"$f":"VLOOKUP(D36,NICSP!$A:$H,6,0)","v":"No"}]
[{"$f":"DATOS!$D$12","v":"15603"},{"$f":"DATOS!$D$13","v":"Municipalidad de Buenos Aires"},"GRADO_AVANCE","NICSP_1","NICSP_1_GRA",{"$f":"VLOOKUP(D37,NICSP!$A:$H,7,0)","v":0.99}]
[{"$f":"DATOS!$D$12","v":"15603"},{"$f":"DATOS!$D$13","v":"Municipalidad de Buenos Aires"},"GRADO_AVANCE","NICSP_2","NICSP_2_GRA",{"$f":"VLOOKUP(D38,NICSP!$A:$H,7,0)","v":1}]
[{"$f":"DATOS!$D$12","v":"15603"},{"$f":"DATOS!$D$13","v":"Municipalidad de Buenos Aires"},"GRADO_AVANCE","NICSP_3","NICSP_3_GRA",{"$f":"VLOOKUP(D39,NICSP!$A:$H,7,0)","v":0.9}]
[{"$f":"DATOS!$D$12","v":"15603"},{"$f":"DATOS!$D$13","v":"Municipalidad de Buenos Aires"},"GRADO_AVANCE","NICSP_4","NICSP_4_GRA",{"$f":"VLOOKUP(D40,NICSP!$A:$H,7,0)","v":0.47}]
[{"$f":"DATOS!$D$12","v":"15603"},{"$f":"DATOS!$D$13","v":"Municipalidad de Buenos Aires"},"GRADO_AVANCE","NICSP_5","NICSP_5_GRA",{"$f":"VLOOKUP(D41,NICSP!$A:$H,7,0)","v":1}]
[{"$f":"DATOS!$D$12","v":"15603"},{"$f":"DATOS!$D$13","v":"Municipalidad de Buenos Aires"},"GRADO_AVANCE","NICSP_9","NICSP_9_GRA",{"$f":"VLOOKUP(D42,NICSP!$A:$H,7,0)","v":1}]
[{"$f":"DATOS!$D$12","v":"15603"},{"$f":"DATOS!$D$13","v":"Municipalidad de Buenos Aires"},"GRADO_AVANCE","NICSP_10","NICSP_10_GRA",{"$f":"VLOOKUP(D43,NICSP!$A:$H,7,0)","v":""}]
[{"$f":"DATOS!$D$12","v":"15603"},{"$f":"DATOS!$D$13","v":"Municipalidad de Buenos Aires"},"GRADO_AVANCE","NICSP_11","NICSP_11_GRA",{"$f":"VLOOKUP(D44,NICSP!$A:$H,7,0)","v":""}]
[{"$f":"DATOS!$D$12","v":"15603"},{"$f":"DATOS!$D$13","v":"Municipalidad de Buenos Aires"},"GRADO_AVANCE","NICSP_12","NICSP_12_GRA",{"$f":"VLOOKUP(D45,NICSP!$A:$H,7,0)","v":0.97}]
[{"$f":"DATOS!$D$12","v":"15603"},{"$f":"DATOS!$D$13","v":"Municipalidad de Buenos Aires"},"GRADO_AVANCE","NICSP_13","NICSP_13_GRA",{"$f":"VLOOKUP(D46,NICSP!$A:$H,7,0)","v":0.8}]
[{"$f":"DATOS!$D$12","v":"15603"},{"$f":"DATOS!$D$13","v":"Municipalidad de Buenos Aires"},"GRADO_AVANCE","NICSP_14","NICSP_14_GRA",{"$f":"VLOOKUP(D47,NICSP!$A:$H,7,0)","v":1}]
[{"$f":"DATOS!$D$12","v":"15603"},{"$f":"DATOS!$D$13","v":"Municipalidad de Buenos Aires"},"GRADO_AVANCE","NICSP_16","NICSP_16_GRA",{"$f":"VLOOKUP(D48,NICSP!$A:$H,7,0)","v":""}]
[{"$f":"DATOS!$D$12","v":"15603"},{"$f":"DATOS!$D$13","v":"Municipalidad de Buenos Aires"},"GRADO_AVANCE","NICSP_17","NICSP_17_GRA",{"$f":"VLOOKUP(D49,NICSP!$A:$H,7,0)","v":0.96}]
[{"$f":"DATOS!$D$12","v":"15603"},{"$f":"DATOS!$D$13","v":"Municipalidad de Buenos Aires"},"GRADO_AVANCE","NICSP_18","NICSP_18_GRA",{"$f":"VLOOKUP(D50,NICSP!$A:$H,7,0)","v":""}]
[{"$f":"DATOS!$D$12","v":"15603"},{"$f":"DATOS!$D$13","v":"Municipalidad de Buenos Aires"},"GRADO_AVANCE","NICSP_19","NICSP_19_GRA",{"$f":"VLOOKUP(D51,NICSP!$A:$H,7,0)","v":0.92}]
[{"$f":"DATOS!$D$12","v":"15603"},{"$f":"DATOS!$D$13","v":"Municipalidad de Buenos Aires"},"GRADO_AVANCE","NICSP_20","NICSP_20_GRA",{"$f":"VLOOKUP(D52,NICSP!$A:$H,7,0)","v":0.6399999999999999}]
[{"$f":"DATOS!$D$12","v":"15603"},{"$f":"DATOS!$D$13","v":"Municipalidad de Buenos Aires"},"GRADO_AVANCE","NICSP_21","NICSP_21_GRA",{"$f":"VLOOKUP(D53,NICSP!$A:$H,7,0)","v":0.27}]
[{"$f":"DATOS!$D$12","v":"15603"},{"$f":"DATOS!$D$13","v":"Municipalidad de Buenos Aires"},"GRADO_AVANCE","NICSP_22","NICSP_22_GRA",{"$f":"VLOOKUP(D54,NICSP!$A:$H,7,0)","v":""}]
[{"$f":"DATOS!$D$12","v":"15603"},{"$f":"DATOS!$D$13","v":"Municipalidad de Buenos Aires"},"GRADO_AVANCE","NICSP_23","NICSP_23_GRA",{"$f":"VLOOKUP(D55,NICSP!$A:$H,7,0)","v":0.96}]
[{"$f":"DATOS!$D$12","v":"15603"},{"$f":"DATOS!$D$13","v":"Municipalidad de Buenos Aires"},"GRADO_AVANCE","NICSP_24","NICSP_24_GRA",{"$f":"VLOOKUP(D56,NICSP!$A:$H,7,0)","v":0.63}]
[{"$f":"DATOS!$D$12","v":"15603"},{"$f":"DATOS!$D$13","v":"Municipalidad de Buenos Aires"},"GRADO_AVANCE","NICSP_26","NICSP_26_GRA",{"$f":"VLOOKUP(D57,NICSP!$A:$H,7,0)","v":0.3}]
[{"$f":"DATOS!$D$12","v":"15603"},{"$f":"DATOS!$D$13","v":"Municipalidad de Buenos Aires"},"GRADO_AVANCE","NICSP_27","NICSP_27_GRA",{"$f":"VLOOKUP(D58,NICSP!$A:$H,7,0)","v":""}]
[{"$f":"DATOS!$D$12","v":"15603"},{"$f":"DATOS!$D$13","v":"Municipalidad de Buenos Aires"},"GRADO_AVANCE","NICSP_28","NICSP_28_GRA",{"$f":"VLOOKUP(D59,NICSP!$A:$H,7,0)","v":1}]
[{"$f":"DATOS!$D$12","v":"15603"},{"$f":"DATOS!$D$13","v":"Municipalidad de Buenos Aires"},"GRADO_AVANCE","NICSP_29","NICSP_29_GRA",{"$f":"VLOOKUP(D60,NICSP!$A:$H,7,0)","v":1}]
[{"$f":"DATOS!$D$12","v":"15603"},{"$f":"DATOS!$D$13","v":"Municipalidad de Buenos Aires"},"GRADO_AVANCE","NICSP_30","NICSP_30_GRA",{"$f":"VLOOKUP(D61,NICSP!$A:$H,7,0)","v":0.65}]
[{"$f":"DATOS!$D$12","v":"15603"},{"$f":"DATOS!$D$13","v":"Municipalidad de Buenos Aires"},"GRADO_AVANCE","NICSP_31","NICSP_31_GRA",{"$f":"VLOOKUP(D62,NICSP!$A:$H,7,0)","v":0.53}]
[{"$f":"DATOS!$D$12","v":"15603"},{"$f":"DATOS!$D$13","v":"Municipalidad de Buenos Aires"},"GRADO_AVANCE","NICSP_32","NICSP_32_GRA",{"$f":"VLOOKUP(D63,NICSP!$A:$H,7,0)","v":""}]
[{"$f":"DATOS!$D$12","v":"15603"},{"$f":"DATOS!$D$13","v":"Municipalidad de Buenos Aires"},"GRADO_AVANCE","NICSP_33","NICSP_33_GRA",{"$f":"VLOOKUP(D64,NICSP!$A:$H,7,0)","v":0.75}]
[{"$f":"DATOS!$D$12","v":"15603"},{"$f":"DATOS!$D$13","v":"Municipalidad de Buenos Aires"},"GRADO_AVANCE","NICSP_34","NICSP_34_GRA",{"$f":"VLOOKUP(D65,NICSP!$A:$H,7,0)","v":""}]
[{"$f":"DATOS!$D$12","v":"15603"},{"$f":"DATOS!$D$13","v":"Municipalidad de Buenos Aires"},"GRADO_AVANCE","NICSP_35","NICSP_35_GRA",{"$f":"VLOOKUP(D66,NICSP!$A:$H,7,0)","v":0.39999999999999997}]
[{"$f":"DATOS!$D$12","v":"15603"},{"$f":"DATOS!$D$13","v":"Municipalidad de Buenos Aires"},"GRADO_AVANCE","NICSP_36","NICSP_36_GRA",{"$f":"VLOOKUP(D67,NICSP!$A:$H,7,0)","v":""}]
[{"$f":"DATOS!$D$12","v":"15603"},{"$f":"DATOS!$D$13","v":"Municipalidad de Buenos Aires"},"GRADO_AVANCE","NICSP_37","NICSP_37_GRA",{"$f":"VLOOKUP(D68,NICSP!$A:$H,7,0)","v":""}]
[{"$f":"DATOS!$D$12","v":"15603"},{"$f":"DATOS!$D$13","v":"Municipalidad de Buenos Aires"},"GRADO_AVANCE","NICSP_38","NICSP_38_GRA",{"$f":"VLOOKUP(D69,NICSP!$A:$H,7,0)","v":""}]
[{"$f":"DATOS!$D$12","v":"15603"},{"$f":"DATOS!$D$13","v":"Municipalidad de Buenos Aires"},"GRADO_AVANCE","NICSP_39","NICSP_39_GRA",{"$f":"VLOOKUP(D70,NICSP!$A:$H,7,0)","v":0.7}]
[{"$f":"DATOS!$D$12","v":"15603"},{"$f":"DATOS!$D$13","v":"Municipalidad de Buenos Aires"},"GRADO_AVANCE","NICSP_40","NICSP_40_GRA",{"$f":"VLOOKUP(D71,NICSP!$A:$H,7,0)","v":""}]
[{"$f":"DATOS!$D$12","v":"15603"},{"$f":"DATOS!$D$13","v":"Municipalidad de Buenos Aires"},"TRANSITORIOS","NICSP_1","NICSP_1_TRAN",{"$f":"VLOOKUP(D72,NICSP!$A:$H,8,0)","v":"Si"}]
[{"$f":"DATOS!$D$12","v":"15603"},{"$f":"DATOS!$D$13","v":"Municipalidad de Buenos Aires"},"TRANSITORIOS","NICSP_2","NICSP_2_TRAN",{"$f":"VLOOKUP(D73,NICSP!$A:$H,8,0)","v":0}]
[{"$f":"DATOS!$D$12","v":"15603"},{"$f":"DATOS!$D$13","v":"Municipalidad de Buenos Aires"},"TRANSITORIOS","NICSP_3","NICSP_3_TRAN",{"$f":"VLOOKUP(D74,NICSP!$A:$H,8,0)","v":"No"}]
[{"$f":"DATOS!$D$12","v":"15603"},{"$f":"DATOS!$D$13","v":"Municipalidad de Buenos Aires"},"TRANSITORIOS","NICSP_4","NICSP_4_TRAN",{"$f":"VLOOKUP(D75,NICSP!$A:$H,8,0)","v":0}]
[{"$f":"DATOS!$D$12","v":"15603"},{"$f":"DATOS!$D$13","v":"Municipalidad de Buenos Aires"},"TRANSITORIOS","NICSP_5","NICSP_5_TRAN",{"$f":"VLOOKUP(D76,NICSP!$A:$H,8,0)","v":0}]
[{"$f":"DATOS!$D$12","v":"15603"},{"$f":"DATOS!$D$13","v":"Municipalidad de Buenos Aires"},"TRANSITORIOS","NICSP_9","NICSP_9_TRAN",{"$f":"VLOOKUP(D77,NICSP!$A:$H,8,0)","v":0}]
[{"$f":"DATOS!$D$12","v":"15603"},{"$f":"DATOS!$D$13","v":"Municipalidad de Buenos Aires"},"TRANSITORIOS","NICSP_10","NICSP_10_TRAN",{"$f":"VLOOKUP(D78,NICSP!$A:$H,8,0)","v":""}]
[{"$f":"DATOS!$D$12","v":"15603"},{"$f":"DATOS!$D$13","v":"Municipalidad de Buenos Aires"},"TRANSITORIOS","NICSP_11","NICSP_11_TRAN",{"$f":"VLOOKUP(D79,NICSP!$A:$H,8,0)","v":""}]
[{"$f":"DATOS!$D$12","v":"15603"},{"$f":"DATOS!$D$13","v":"Municipalidad de Buenos Aires"},"TRANSITORIOS","NICSP_12","NICSP_12_TRAN",{"$f":"VLOOKUP(D80,NICSP!$A:$H,8,0)","v":"Si"}]
[{"$f":"DATOS!$D$12","v":"15603"},{"$f":"DATOS!$D$13","v":"Municipalidad de Buenos Aires"},"TRANSITORIOS","NICSP_13","NICSP_13_TRAN",{"$f":"VLOOKUP(D81,NICSP!$A:$H,8,0)","v":"Si"}]
[{"$f":"DATOS!$D$12","v":"15603"},{"$f":"DATOS!$D$13","v":"Municipalidad de Buenos Aires"},"TRANSITORIOS","NICSP_14","NICSP_14_TRAN",{"$f":"VLOOKUP(D82,NICSP!$A:$H,8,0)","v":0}]
[{"$f":"DATOS!$D$12","v":"15603"},{"$f":"DATOS!$D$13","v":"Municipalidad de Buenos Aires"},"TRANSITORIOS","NICSP_16","NICSP_16_TRAN",{"$f":"VLOOKUP(D83,NICSP!$A:$H,8,0)","v":""}]
[{"$f":"DATOS!$D$12","v":"15603"},{"$f":"DATOS!$D$13","v":"Municipalidad de Buenos Aires"},"TRANSITORIOS","NICSP_17","NICSP_17_TRAN",{"$f":"VLOOKUP(D84,NICSP!$A:$H,8,0)","v":"Si"}]
[{"$f":"DATOS!$D$12","v":"15603"},{"$f":"DATOS!$D$13","v":"Municipalidad de Buenos Aires"},"TRANSITORIOS","NICSP_18","NICSP_18_TRAN",{"$f":"VLOOKUP(D85,NICSP!$A:$H,8,0)","v":""}]
[{"$f":"DATOS!$D$12","v":"15603"},{"$f":"DATOS!$D$13","v":"Municipalidad de Buenos Aires"},"TRANSITORIOS","NICSP_19","NICSP_19_TRAN",{"$f":"VLOOKUP(D86,NICSP!$A:$H,8,0)","v":"Si"}]
[{"$f":"DATOS!$D$12","v":"15603"},{"$f":"DATOS!$D$13","v":"Municipalidad de Buenos Aires"},"TRANSITORIOS","NICSP_20","NICSP_20_TRAN",{"$f":"VLOOKUP(D87,NICSP!$A:$H,8,0)","v":"Si"}]
[{"$f":"DATOS!$D$12","v":"15603"},{"$f":"DATOS!$D$13","v":"Municipalidad de Buenos Aires"},"TRANSITORIOS","NICSP_21","NICSP_21_TRAN",{"$f":"VLOOKUP(D88,NICSP!$A:$H,8,0)","v":"Si"}]
[{"$f":"DATOS!$D$12","v":"15603"},{"$f":"DATOS!$D$13","v":"Municipalidad de Buenos Aires"},"TRANSITORIOS","NICSP_22","NICSP_22_TRAN",{"$f":"VLOOKUP(D89,NICSP!$A:$H,8,0)","v":""}]
[{"$f":"DATOS!$D$12","v":"15603"},{"$f":"DATOS!$D$13","v":"Municipalidad de Buenos Aires"},"TRANSITORIOS","NICSP_23","NICSP_23_TRAN",{"$f":"VLOOKUP(D90,NICSP!$A:$H,8,0)","v":"Si"}]
[{"$f":"DATOS!$D$12","v":"15603"},{"$f":"DATOS!$D$13","v":"Municipalidad de Buenos Aires"},"TRANSITORIOS","NICSP_24","NICSP_24_TRAN",{"$f":"VLOOKUP(D91,NICSP!$A:$H,8,0)","v":"No"}]
[{"$f":"DATOS!$D$12","v":"15603"},{"$f":"DATOS!$D$13","v":"Municipalidad de Buenos Aires"},"TRANSITORIOS","NICSP_26","NICSP_26_TRAN",{"$f":"VLOOKUP(D92,NICSP!$A:$H,8,0)","v":"Si"}]
[{"$f":"DATOS!$D$12","v":"15603"},{"$f":"DATOS!$D$13","v":"Municipalidad de Buenos Aires"},"TRANSITORIOS","NICSP_27","NICSP_27_TRAN",{"$f":"VLOOKUP(D93,NICSP!$A:$H,8,0)","v":""}]
[{"$f":"DATOS!$D$12","v":"15603"},{"$f":"DATOS!$D$13","v":"Municipalidad de Buenos Aires"},"TRANSITORIOS","NICSP_28","NICSP_28_TRAN",{"$f":"VLOOKUP(D94,NICSP!$A:$H,8,0)","v":0}]
[{"$f":"DATOS!$D$12","v":"15603"},{"$f":"DATOS!$D$13","v":"Municipalidad de Buenos Aires"},"TRANSITORIOS","NICSP_29","NICSP_29_TRAN",{"$f":"VLOOKUP(D95,NICSP!$A:$H,8,0)","v":"Si"}]
[{"$f":"DATOS!$D$12","v":"15603"},{"$f":"DATOS!$D$13","v":"Municipalidad de Buenos Aires"},"TRANSITORIOS","NICSP_30","NICSP_30_TRAN",{"$f":"VLOOKUP(D96,NICSP!$A:$H,8,0)","v":"No"}]
[{"$f":"DATOS!$D$12","v":"15603"},{"$f":"DATOS!$D$13","v":"Municipalidad de Buenos Aires"},"TRANSITORIOS","NICSP_31","NICSP_31_TRAN",{"$f":"VLOOKUP(D97,NICSP!$A:$H,8,0)","v":"Si"}]
[{"$f":"DATOS!$D$12","v":"15603"},{"$f":"DATOS!$D$13","v":"Municipalidad de Buenos Aires"},"TRANSITORIOS","NICSP_32","NICSP_32_TRAN",{"$f":"VLOOKUP(D98,NICSP!$A:$H,8,0)","v":""}]
[{"$f":"DATOS!$D$12","v":"15603"},{"$f":"DATOS!$D$13","v":"Municipalidad de Buenos Aires"},"TRANSITORIOS","NICSP_33","NICSP_33_TRAN",{"$f":"VLOOKUP(D99,NICSP!$A:$H,8,0)","v":"No"}]
[{"$f":"DATOS!$D$12","v":"15603"},{"$f":"DATOS!$D$13","v":"Municipalidad de Buenos Aires"},"TRANSITORIOS","NICSP_34","NICSP_34_TRAN",{"$f":"VLOOKUP(D100,NICSP!$A:$H,8,0)","v":""}]
[{"$f":"DATOS!$D$12","v":"15603"},{"$f":"DATOS!$D$13","v":"Municipalidad de Buenos Aires"},"TRANSITORIOS","NICSP_35","NICSP_35_TRAN",{"$f":"VLOOKUP(D101,NICSP!$A:$H,8,0)","v":"Si"}]
[{"$f":"DATOS!$D$12","v":"15603"},{"$f":"DATOS!$D$13","v":"Municipalidad de Buenos Aires"},"TRANSITORIOS","NICSP_36","NICSP_36_TRAN",{"$f":"VLOOKUP(D102,NICSP!$A:$H,8,0)","v":""}]
[{"$f":"DATOS!$D$12","v":"15603"},{"$f":"DATOS!$D$13","v":"Municipalidad de Buenos Aires"},"TRANSITORIOS","NICSP_37","NICSP_37_TRAN",{"$f":"VLOOKUP(D103,NICSP!$A:$H,8,0)","v":""}]
[{"$f":"DATOS!$D$12","v":"15603"},{"$f":"DATOS!$D$13","v":"Municipalidad de Buenos Aires"},"TRANSITORIOS","NICSP_38","NICSP_38_TRAN",{"$f":"VLOOKUP(D104,NICSP!$A:$H,8,0)","v":""}]
[{"$f":"DATOS!$D$12","v":"15603"},{"$f":"DATOS!$D$13","v":"Municipalidad de Buenos Aires"},"TRANSITORIOS","NICSP_39","NICSP_39_TRAN",{"$f":"VLOOKUP(D105,NICSP!$A:$H,8,0)","v":"Si"}]
[{"$f":"DATOS!$D$12","v":"15603"},{"$f":"DATOS!$D$13","v":"Municipalidad de Buenos Aires"},"TRANSITORIOS","NICSP_40","NICSP_40_TRAN",{"$f":"VLOOKUP(D106,NICSP!$A:$H,8,0)","v":""}]
[{"$f":"DATOS!$D$12","v":"15603"},{"$f":"DATOS!$D$13","v":"Municipalidad de Buenos Aires"},"ARRENDAMIENTOS","CANTIDAD","NICSP_13_ARR_OPE",{"$f":"VLOOKUP(E107,NICSP_13!$B:$E,3,0)","v":33}]
[{"$f":"DATOS!$D$12","v":"15603"},{"$f":"DATOS!$D$13","v":"Municipalidad de Buenos Aires"},"ARRENDAMIENTOS","MONTO","NICSP_13_ARR_OPE",{"$f":"VLOOKUP(E108,NICSP_13!$B:$E,4,0)","v":50373.02}]
[{"$f":"DATOS!$D$12","v":"15603"},{"$f":"DATOS!$D$13","v":"Municipalidad de Buenos Aires"},"ARRENDAMIENTOS","CANTIDAD","NICSP_13_ARR_FIN",{"$f":"VLOOKUP(E109,NICSP_13!$B:$E,3,0)","v":0}]
[{"$f":"DATOS!$D$12","v":"15603"},{"$f":"DATOS!$D$13","v":"Municipalidad de Buenos Aires"},"ARRENDAMIENTOS","MONTO","NICSP_13_ARR_FIN",{"$f":"VLOOKUP(E110,NICSP_13!$B:$E,4,0)","v":0}]
[{"$f":"DATOS!$D$12","v":"15603"},{"$f":"DATOS!$D$13","v":"Municipalidad de Buenos Aires"},"PROPIEDADES_INVERSION","CANTIDAD","NICSP_16_PROP_INV",{"$f":"VLOOKUP(E111,NICSP_16!$B:$E,3,0)","v":0}]
[{"$f":"DATOS!$D$12","v":"15603"},{"$f":"DATOS!$D$13","v":"Municipalidad de Buenos Aires"},"PROPIEDADES_INVERSION","MONTO","NICSP_16_PROP_INV",{"$f":"VLOOKUP(E112,NICSP_16!$B:$E,4,0)","v":0}]
[{"$f":"DATOS!$D$12","v":"15603"},{"$f":"DATOS!$D$13","v":"Municipalidad de Buenos Aires"},"PROPIEDAD_PLANTA_EQUIPO","CANTIDAD","NICSP_17_C",{"$f":"VLOOKUP(E113,NICSP_17!$B:$D,3,0)","v":1002}]
[{"$f":"DATOS!$D$12","v":"15603"},{"$f":"DATOS!$D$13","v":"Municipalidad de Buenos Aires"},"PROPIEDAD_PLANTA_EQUIPO","MONTO","NICSP_17_VI",{"$f":"VLOOKUP(E114,NICSP_17!$B:$D,3,0)","v":164474502.56543002}]
[{"$f":"DATOS!$D$12","v":"15603"},{"$f":"DATOS!$D$13","v":"Municipalidad de Buenos Aires"},"PROPIEDAD_PLANTA_EQUIPO","MONTO","NICSP_17_ALT",{"$f":"VLOOKUP(E115,NICSP_17!$B:$D,3,0)","v":388918.62230000005}]
[{"$f":"DATOS!$D$12","v":"15603"},{"$f":"DATOS!$D$13","v":"Municipalidad de Buenos Aires"},"PROPIEDAD_PLANTA_EQUIPO","MONTO","NICSP_17_BAJ",{"$f":"VLOOKUP(E116,NICSP_17!$B:$D,3,0)","v":-1597.5}]
[{"$f":"DATOS!$D$12","v":"15603"},{"$f":"DATOS!$D$13","v":"Municipalidad de Buenos Aires"},"PROPIEDAD_PLANTA_EQUIPO","MONTO","NICSP_17_DEPR",{"$f":"VLOOKUP(E117,NICSP_17!$B:$D,3,0)","v":-1749525.9691869207}]
[{"$f":"DATOS!$D$12","v":"15603"},{"$f":"DATOS!$D$13","v":"Municipalidad de Buenos Aires"},"PROPIEDAD_PLANTA_EQUIPO","MONTO","NICSP_17_DET",{"$f":"VLOOKUP(E118,NICSP_17!$B:$D,3,0)","v":0}]
[{"$f":"DATOS!$D$12","v":"15603"},{"$f":"DATOS!$D$13","v":"Municipalidad de Buenos Aires"},"PROPIEDAD_PLANTA_EQUIPO","MONTO","NICSP_17_AJ_DET",{"$f":"VLOOKUP(E119,NICSP_17!$B:$D,3,0)","v":0}]
[{"$f":"DATOS!$D$12","v":"15603"},{"$f":"DATOS!$D$13","v":"Municipalidad de Buenos Aires"},"PROPIEDAD_PLANTA_EQUIPO","MONTO","NICSP_17_AJ_TC",{"$f":"VLOOKUP(E120,NICSP_17!$B:$D,3,0)","v":0}]
[{"$f":"DATOS!$D$12","v":"15603"},{"$f":"DATOS!$D$13","v":"Municipalidad de Buenos Aires"},"PROPIEDAD_PLANTA_EQUIPO","MONTO","NICSP_17_VC",{"$f":"VLOOKUP(E121,NICSP_17!$B:$D,3,0)","v":163112297.71854311}]
[{"$f":"DATOS!$D$12","v":"15603"},{"$f":"DATOS!$D$13","v":"Municipalidad de Buenos Aires"},"ACTIVOS_CONTINGENTES","MONTO","NICSP_19_A_PI",{"$f":"VLOOKUP(E122,NICSP_19_ACTIVO!$B:$J,6,0)","v":0}]
[{"$f":"DATOS!$D$12","v":"15603"},{"$f":"DATOS!$D$13","v":"Municipalidad de Buenos Aires"},"ACTIVOS_CONTINGENTES","MONTO","NICSP_19_A_P1",{"$f":"VLOOKUP(E123,NICSP_19_ACTIVO!$B:$J,6,0)","v":0}]
[{"$f":"DATOS!$D$12","v":"15603"},{"$f":"DATOS!$D$13","v":"Municipalidad de Buenos Aires"},"ACTIVOS_CONTINGENTES","MONTO","NICSP_19_A_P2",{"$f":"VLOOKUP(E124,NICSP_19_ACTIVO!$B:$J,6,0)","v":0}]
[{"$f":"DATOS!$D$12","v":"15603"},{"$f":"DATOS!$D$13","v":"Municipalidad de Buenos Aires"},"ACTIVOS_CONTINGENTES","MONTO","NICSP_19_A_RF",{"$f":"VLOOKUP(E125,NICSP_19_ACTIVO!$B:$J,6,0)","v":0}]
[{"$f":"DATOS!$D$12","v":"15603"},{"$f":"DATOS!$D$13","v":"Municipalidad de Buenos Aires"},"ACTIVOS_CONTINGENTES","MONTO","NICSP_19_A_TOTAL",{"$f":"VLOOKUP(E126,NICSP_19_ACTIVO!$B:$J,6,0)","v":0}]
[{"$f":"DATOS!$D$12","v":"15603"},{"$f":"DATOS!$D$13","v":"Municipalidad de Buenos Aires"},"ACTIVOS_CONTINGENTES","CANTIDAD","NICSP_19_A_PI",{"$f":"VLOOKUP(E127,NICSP_19_ACTIVO!$B:$J,9,0)","v":0}]
[{"$f":"DATOS!$D$12","v":"15603"},{"$f":"DATOS!$D$13","v":"Municipalidad de Buenos Aires"},"ACTIVOS_CONTINGENTES","CANTIDAD","NICSP_19_A_P1",{"$f":"VLOOKUP(E128,NICSP_19_ACTIVO!$B:$J,9,0)","v":0}]
[{"$f":"DATOS!$D$12","v":"15603"},{"$f":"DATOS!$D$13","v":"Municipalidad de Buenos Aires"},"ACTIVOS_CONTINGENTES","CANTIDAD","NICSP_19_A_P2",{"$f":"VLOOKUP(E129,NICSP_19_ACTIVO!$B:$J,9,0)","v":0}]
[{"$f":"DATOS!$D$12","v":"15603"},{"$f":"DATOS!$D$13","v":"Municipalidad de Buenos Aires"},"ACTIVOS_CONTINGENTES","CANTIDAD","NICSP_19_A_RF",{"$f":"VLOOKUP(E130,NICSP_19_ACTIVO!$B:$J,9,0)","v":0}]
[{"$f":"DATOS!$D$12","v":"15603"},{"$f":"DATOS!$D$13","v":"Municipalidad de Buenos Aires"},"ACTIVOS_CONTINGENTES","CANTIDAD","NICSP_19_A_TOTAL",{"$f":"VLOOKUP(E131,NICSP_19_ACTIVO!$B:$J,9,0)","v":0}]
[{"$f":"DATOS!$D$12","v":"15603"},{"$f":"DATOS!$D$13","v":"Municipalidad de Buenos Aires"},"PASIVOS_CONTINGENTES","MONTO","NICSP_19_P_PI",{"$f":"VLOOKUP(E132,NICSP_19_PASIVO!$B:$J,6,0)","v":0}]
[{"$f":"DATOS!$D$12","v":"15603"},{"$f":"DATOS!$D$13","v":"Municipalidad de Buenos Aires"},"PASIVOS_CONTINGENTES","MONTO","NICSP_19_P_P1",{"$f":"VLOOKUP(E133,NICSP_19_PASIVO!$B:$J,6,0)","v":0}]
[{"$f":"DATOS!$D$12","v":"15603"},{"$f":"DATOS!$D$13","v":"Municipalidad de Buenos Aires"},"PASIVOS_CONTINGENTES","MONTO","NICSP_19_P_P2",{"$f":"VLOOKUP(E134,NICSP_19_PASIVO!$B:$J,6,0)","v":0}]
[{"$f":"DATOS!$D$12","v":"15603"},{"$f":"DATOS!$D$13","v":"Municipalidad de Buenos Aires"},"PASIVOS_CONTINGENTES","MONTO","NICSP_19_P_RF",{"$f":"VLOOKUP(E135,NICSP_19_PASIVO!$B:$J,6,0)","v":0}]
[{"$f":"DATOS!$D$12","v":"15603"},{"$f":"DATOS!$D$13","v":"Municipalidad de Buenos Aires"},"PASIVOS_CONTINGENTES","MONTO","NICSP_19_P_TOTAL",{"$f":"VLOOKUP(E136,NICSP_19_PASIVO!$B:$J,6,0)","v":0}]
[{"$f":"DATOS!$D$12","v":"15603"},{"$f":"DATOS!$D$13","v":"Municipalidad de Buenos Aires"},"PASIVOS_CONTINGENTES","CANTIDAD","NICSP_19_P_PI",{"$f":"VLOOKUP(E137,NICSP_19_PASIVO!$B:$J,9,0)","v":0}]
[{"$f":"DATOS!$D$12","v":"15603"},{"$f":"DATOS!$D$13","v":"Municipalidad de Buenos Aires"},"PASIVOS_CONTINGENTES","CANTIDAD","NICSP_19_P_P1",{"$f":"VLOOKUP(E138,NICSP_19_PASIVO!$B:$J,9,0)","v":0}]
[{"$f":"DATOS!$D$12","v":"15603"},{"$f":"DATOS!$D$13","v":"Municipalidad de Buenos Aires"},"PASIVOS_CONTINGENTES","CANTIDAD","NICSP_19_P_P2",{"$f":"VLOOKUP(E139,NICSP_19_PASIVO!$B:$J,9,0)","v":0}]
[{"$f":"DATOS!$D$12","v":"15603"},{"$f":"DATOS!$D$13","v":"Municipalidad de Buenos Aires"},"PASIVOS_CONTINGENTES","CANTIDAD","NICSP_19_P_RF",{"$f":"VLOOKUP(E140,NICSP_19_PASIVO!$B:$J,9,0)","v":0}]
[{"$f":"DATOS!$D$12","v":"15603"},{"$f":"DATOS!$D$13","v":"Municipalidad de Buenos Aires"},"PASIVOS_CONTINGENTES","CANTIDAD","NICSP_19_P_TOTAL",{"$f":"VLOOKUP(E141,NICSP_19_PASIVO!$B:$J,9,0)","v":0}]
[{"$f":"DATOS!$D$12","v":"15603"},{"$f":"DATOS!$D$13","v":"Municipalidad de Buenos Aires"},"AGRICULTURA","ACTIVOS_BIOLOGICOS","NICSP_27_CAN",{"$f":"VLOOKUP(E142,NICSP_27!$B:$I,6,0)","v":0}]
[{"$f":"DATOS!$D$12","v":"15603"},{"$f":"DATOS!$D$13","v":"Municipalidad de Buenos Aires"},"AGRICULTURA","ACTIVOS_BIOLOGICOS","NICSP_27_MON",{"$f":"VLOOKUP(E143,NICSP_27!$B:$I,6,0)","v":0}]
[{"$f":"DATOS!$D$12","v":"15603"},{"$f":"DATOS!$D$13","v":"Municipalidad de Buenos Aires"},"AGRICULTURA","PRODUCTO_AGRICOLA","NICSP_27_CAN",{"$f":"VLOOKUP(E144,NICSP_27!$B:$I,7,0)","v":0}]
[{"$f":"DATOS!$D$12","v":"15603"},{"$f":"DATOS!$D$13","v":"Municipalidad de Buenos Aires"},"AGRICULTURA","PRODUCTO_AGRICOLA","NICSP_27_MON",{"$f":"VLOOKUP(E145,NICSP_27!$B:$I,7,0)","v":0}]
[{"$f":"DATOS!$D$12","v":"15603"},{"$f":"DATOS!$D$13","v":"Municipalidad de Buenos Aires"},"AGRICULTURA","PRODUCTOS_RESULTANTE","NICSP_27_CAN",{"$f":"VLOOKUP(E146,NICSP_27!$B:$I,8,0)","v":0}]
[{"$f":"DATOS!$D$12","v":"15603"},{"$f":"DATOS!$D$13","v":"Municipalidad de Buenos Aires"},"AGRICULTURA","PRODUCTOS_RESULTANTE","NICSP_27_MON",{"$f":"VLOOKUP(E147,NICSP_27!$B:$I,8,0)","v":0}]
[{"$f":"DATOS!$D$12","v":"15603"},{"$f":"DATOS!$D$13","v":"Municipalidad de Buenos Aires"},"FIDEICOMISOS","CANTIDAD","FIDEI_CANT",{"$f":"VLOOKUP(E148,FIDEICOMISOS!$B:$D,3,0)","v":0}]
[{"$f":"DATOS!$D$12","v":"15603"},{"$f":"DATOS!$D$13","v":"Municipalidad de Buenos Aires"},"FIDEICOMISOS","APLICACIÓN","FIDEI",{"$f":"VLOOKUP(E149,FIDEICOMISOS!B9:D9,3,0)","v":"NO"}]
[{"$f":"DATOS!$D$12","v":"15603"},{"$f":"DATOS!$D$13","v":"Municipalidad de Buenos Aires"},"INSTRUMENTOS_FINANCIEROS","ACTIVOS_FINANCIEROS","NICSP_30_CANT",{"$f":"VLOOKUP(BASE_DATOS!E150,NICSP_28_29_30!$B:$G,5,0)","v":0}]
[{"$f":"DATOS!$D$12","v":"15603"},{"$f":"DATOS!$D$13","v":"Municipalidad de Buenos Aires"},"INSTRUMENTOS_FINANCIEROS","ACTIVOS_FINANCIEROS","NICSP_30_VL",{"$f":"VLOOKUP(BASE_DATOS!E151,NICSP_28_29_30!$B:$G,5,0)","v":4559608.3599999994}]
[{"$f":"DATOS!$D$12","v":"15603"},{"$f":"DATOS!$D$13","v":"Municipalidad de Buenos Aires"},"INSTRUMENTOS_FINANCIEROS","ACTIVOS_FINANCIEROS","NICSP_30_VR",{"$f":"VLOOKUP(BASE_DATOS!E152,NICSP_28_29_30!$B:$G,5,0)","v":4559608.3599999994}]
[{"$f":"DATOS!$D$12","v":"15603"},{"$f":"DATOS!$D$13","v":"Municipalidad de Buenos Aires"},"INSTRUMENTOS_FINANCIEROS","PASIVOS_FINANCIEROS","NICSP_30_CANT",{"$f":"VLOOKUP(BASE_DATOS!E153,NICSP_28_29_30!$B:$G,6,0)","v":0}]
[{"$f":"DATOS!$D$12","v":"15603"},{"$f":"DATOS!$D$13","v":"Municipalidad de Buenos Aires"},"INSTRUMENTOS_FINANCIEROS","PASIVOS_FINANCIEROS","NICSP_30_VL",{"$f":"VLOOKUP(BASE_DATOS!E154,NICSP_28_29_30!$B:$G,6,0)","v":1893327.29}]
[{"$f":"DATOS!$D$12","v":"15603"},{"$f":"DATOS!$D$13","v":"Municipalidad de Buenos Aires"},"INSTRUMENTOS_FINANCIEROS","PASIVOS_FINANCIEROS","NICSP_30_VR",{"$f":"VLOOKUP(BASE_DATOS!E155,NICSP_28_29_30!$B:$G,6,0)","v":1893327.29}]
[{"$f":"DATOS!$D$12","v":"15603"},{"$f":"DATOS!$D$13","v":"Municipalidad de Buenos Aires"},"ACTIVOS_INTANGIBLES","CANTIDAD","NICSP_31_CAN",{"$f":"VLOOKUP(E156,NICSP_31!$B:$D,3,0)","v":7}]
[{"$f":"DATOS!$D$12","v":"15603"},{"$f":"DATOS!$D$13","v":"Municipalidad de Buenos Aires"},"ACTIVOS_INTANGIBLES","MONTO","NICSP_31_VI",{"$f":"VLOOKUP(E157,NICSP_31!$B:$D,3,0)","v":3474.77}]
[{"$f":"DATOS!$D$12","v":"15603"},{"$f":"DATOS!$D$13","v":"Municipalidad de Buenos Aires"},"ACTIVOS_INTANGIBLES","MONTO","NICSP_31_ALT",{"$f":"VLOOKUP(E158,NICSP_31!$B:$D,3,0)","v":10147.994850000001}]
[{"$f":"DATOS!$D$12","v":"15603"},{"$f":"DATOS!$D$13","v":"Municipalidad de Buenos Aires"},"ACTIVOS_INTANGIBLES","MONTO","NICSP_31_BAJ",{"$f":"VLOOKUP(E159,NICSP_31!$B:$D,3,0)","v":-10087.75856}]
[{"$f":"DATOS!$D$12","v":"15603"},{"$f":"DATOS!$D$13","v":"Municipalidad de Buenos Aires"},"ACTIVOS_INTANGIBLES","MONTO","NICSP_31_AMO",{"$f":"VLOOKUP(E160,NICSP_31!$B:$D,3,0)","v":0}]
[{"$f":"DATOS!$D$12","v":"15603"},{"$f":"DATOS!$D$13","v":"Municipalidad de Buenos Aires"},"ACTIVOS_INTANGIBLES","MONTO","NICSP_31_DET",{"$f":"VLOOKUP(E161,NICSP_31!$B:$D,3,0)","v":0}]
[{"$f":"DATOS!$D$12","v":"15603"},{"$f":"DATOS!$D$13","v":"Municipalidad de Buenos Aires"},"ACTIVOS_INTANGIBLES","MONTO","NICSP_31_AJU_DET",{"$f":"VLOOKUP(E162,NICSP_31!$B:$D,3,0)","v":0}]
[{"$f":"DATOS!$D$12","v":"15603"},{"$f":"DATOS!$D$13","v":"Municipalidad de Buenos Aires"},"ACTIVOS_INTANGIBLES","MONTO","NICSP_31_AJU_TC",{"$f":"VLOOKUP(E163,NICSP_31!$B:$D,3,0)","v":0}]
[{"$f":"DATOS!$D$12","v":"15603"},{"$f":"DATOS!$D$13","v":"Municipalidad de Buenos Aires"},"ACTIVOS_INTANGIBLES","MONTO","NICSP_31_VC",{"$f":"VLOOKUP(E164,NICSP_31!$B:$D,3,0)","v":3474.77}]
[{"$f":"DATOS!$D$12","v":"15603"},{"$f":"DATOS!$D$13","v":"Municipalidad de Buenos Aires"},"BENEFICIOS_EMPLEADOS","MONTO","NICSP_39_VAC",{"$f":"VLOOKUP(E165,NICSP_39!$B:$J,7,0)","v":1307993.8700000001}]
[{"$f":"DATOS!$D$12","v":"15603"},{"$f":"DATOS!$D$13","v":"Municipalidad de Buenos Aires"},"BENEFICIOS_EMPLEADOS","CANTIDAD","NICSP_39_VAC",{"$f":"VLOOKUP(E166,NICSP_39!$B:$J,8,0)","v":1527}]
[{"$f":"DATOS!$D$12","v":"15603"},{"$f":"DATOS!$D$13","v":"Municipalidad de Buenos Aires"},"BENEFICIOS_EMPLEADOS","MONTO","NICSP_39_CC",{"$f":"VLOOKUP(E167,NICSP_39!$B:$J,7,0)","v":0}]
[{"$f":"DATOS!$D$12","v":"15603"},{"$f":"DATOS!$D$13","v":"Municipalidad de Buenos Aires"},"BENEFICIOS_EMPLEADOS","CANTIDAD","NICSP_39_CC",{"$f":"VLOOKUP(E168,NICSP_39!$B:$J,9,0)","v":0}]
[{"$f":"DATOS!$D$12","v":"15603"},{"$f":"DATOS!$D$13","v":"Municipalidad de Buenos Aires"},"BENEFICIOS_EMPLEADOS","MONTO","NICSP_39_CES",{"$f":"VLOOKUP(E169,NICSP_39!$B:$J,7,0)","v":4650644.8899999997}]
[{"$f":"DATOS!$D$12","v":"15603"},{"$f":"DATOS!$D$13","v":"Municipalidad de Buenos Aires"},"BENEFICIOS_EMPLEADOS","MONTO","NICSP_39_PRE",{"$f":"VLOOKUP(E170,NICSP_39!$B:$J,7,0)","v":0}]
[{"$f":"DATOS!$D$12","v":"15603"},{"$f":"DATOS!$D$13","v":"Municipalidad de Buenos Aires"},"BENEFICIOS_EMPLEADOS","SERV_MEDICOS","NICSP_39_SER",{"$f":"IF(NICSP_39!I21<>\" \",\"NO\",\"SI\")","v":"NO"}]
[{"$f":"DATOS!$D$12","v":"15603"},{"$f":"DATOS!$D$13","v":"Municipalidad de Buenos Aires"},"NOTAS_PARTICULARES","NOTAS_PARTICULARES_1","N_PART_1",{"$f":"VLOOKUP(E172,NOTAS_PARTICULAR!$A:$D,4,0)","v":0}]
[{"$f":"DATOS!$D$12","v":"15603"},{"$f":"DATOS!$D$13","v":"Municipalidad de Buenos Aires"},"NOTAS_PARTICULARES","NOTAS_PARTICULARES_2","N_PART_2",{"$f":"VLOOKUP(E173,NOTAS_PARTICULAR!$A:$D,4,0)","v":0}]
[{"$f":"DATOS!$D$12","v":"15603"},{"$f":"DATOS!$D$13","v":"Municipalidad de Buenos Aires"},"NOTAS_PARTICULARES","NOTAS_PARTICULARES_3","N_PART_3",{"$f":"VLOOKUP(E174,NOTAS_PARTICULAR!$A:$D,4,0)","v":0}]
[{"$f":"DATOS!$D$12","v":"15603"},{"$f":"DATOS!$D$13","v":"Municipalidad de Buenos Aires"},"NOTAS_PARTICULARES","NOTAS_PARTICULARES_4","N_PART_4",{"$f":"VLOOKUP(E175,NOTAS_PARTICULAR!$A:$D,4,0)","v":0}]
[{"$f":"DATOS!$D$12","v":"15603"},{"$f":"DATOS!$D$13","v":"Municipalidad de Buenos Aires"},"NOTAS_PARTICULARES","NOTAS_PARTICULARES_5","N_PART_5",{"$f":"VLOOKUP(E176,NOTAS_PARTICULAR!$A:$D,4,0)","v":0}]
[{"$f":"DATOS!$D$12","v":"15603"},{"$f":"DATOS!$D$13","v":"Municipalidad de Buenos Aires"},"NOTAS_PARTICULARES","NOTAS_PARTICULARES_6","N_PART_6",{"$f":"VLOOKUP(E177,NOTAS_PARTICULAR!$A:$D,4,0)","v":0}]
[{"$f":"DATOS!$D$12","v":"15603"},{"$f":"DATOS!$D$13","v":"Municipalidad de Buenos Aires"},"NOTAS_PARTICULARES","NOTAS_PARTICULARES_7","N_PART_7",{"$f":"VLOOKUP(E178,NOTAS_PARTICULAR!$A:$D,4,0)","v":0}]
[{"$f":"DATOS!$D$12","v":"15603"},{"$f":"DATOS!$D$13","v":"Municipalidad de Buenos Aires"},"NOTAS_PARTICULARES","NOTAS_PARTICULARES_8","N_PART_8",{"$f":"VLOOKUP(E179,NOTAS_PARTICULAR!$A:$D,4,0)","v":0}]
[{"$f":"DATOS!$D$12","v":"15603"},{"$f":"DATOS!$D$13","v":"Municipalidad de Buenos Aires"},"NOTAS_PARTICULARES","NOTAS_PARTICULARES_9","N_PART_9",{"$f":"VLOOKUP(E180,NOTAS_PARTICULAR!$A:$D,4,0)","v":0}]
[{"$f":"DATOS!$D$12","v":"15603"},{"$f":"DATOS!$D$13","v":"Municipalidad de Buenos Aires"},"NOTAS_PARTICULARES","NOTAS_PARTICULARES_10","N_PART_10",{"$f":"VLOOKUP(E181,NOTAS_PARTICULAR!$A:$D,4,0)","v":0}]
[{"$f":"DATOS!$D$12","v":"15603"},{"$f":"DATOS!$D$13","v":"Municipalidad de Buenos Aires"},"NOTAS_PARTICULARES","NOTAS_PARTICULARES_11","N_PART_11",{"$f":"VLOOKUP(E182,NOTAS_PARTICULAR!$A:$D,4,0)","v":0}]
[{"$f":"DATOS!$D$12","v":"15603"},{"$f":"DATOS!$D$13","v":"Municipalidad de Buenos Aires"},"NOTAS_PARTICULARES","NOTAS_PARTICULARES_12","N_PART_12",{"$f":"VLOOKUP(E183,NOTAS_PARTICULAR!$A:$D,4,0)","v":0}]
[{"$f":"DATOS!$D$12","v":"15603"},{"$f":"DATOS!$D$13","v":"Municipalidad de Buenos Aires"},"NOTAS_PARTICULARES","NOTAS_PARTICULARES_13","N_PART_13",{"$f":"VLOOKUP(E184,NOTAS_PARTICULAR!$A:$D,4,0)","v":0}]
[{"$f":"DATOS!$D$12","v":"15603"},{"$f":"DATOS!$D$13","v":"Municipalidad de Buenos Aires"},"NOTAS_PARTICULARES","NOTAS_PARTICULARES_14","N_PART_14",{"$f":"VLOOKUP(E185,NOTAS_PARTICULAR!$A:$D,4,0)","v":0}]
[{"$f":"DATOS!$D$12","v":"15603"},{"$f":"DATOS!$D$13","v":"Municipalidad de Buenos Aires"},"NOTAS_PARTICULARES","NOTAS_PARTICULARES_15","N_PART_15",{"$f":"VLOOKUP(E186,NOTAS_PARTICULAR!$A:$D,4,0)","v":0}]
[{"$f":"DATOS!$D$12","v":"15603"},{"$f":"DATOS!$D$13","v":"Municipalidad de Buenos Aires"},"NOTAS_PARTICULARES","NOTAS_PARTICULARES_16","N_PART_16",{"$f":"VLOOKUP(E187,NOTAS_PARTICULAR!$A:$D,4,0)","v":0}]
[{"$f":"DATOS!$D$12","v":"15603"},{"$f":"DATOS!$D$13","v":"Municipalidad de Buenos Aires"},"NOTAS_PARTICULARES","NOTAS_PARTICULARES_17","N_PART_17",{"$f":"VLOOKUP(E188,NOTAS_PARTICULAR!$A:$D,4,0)","v":0}]
[{"$f":"DATOS!$D$12","v":"15603"},{"$f":"DATOS!$D$13","v":"Municipalidad de Buenos Aires"},"NOTAS_PARTICULARES","NOTAS_PARTICULARES_18","N_PART_18",{"$f":"VLOOKUP(E189,NOTAS_PARTICULAR!$A:$D,4,0)","v":0}]
[{"$f":"DATOS!$D$12","v":"15603"},{"$f":"DATOS!$D$13","v":"Municipalidad de Buenos Aires"},"NOTAS_PARTICULARES","NOTAS_PARTICULARES_19","N_PART_19",{"$f":"VLOOKUP(E190,NOTAS_PARTICULAR!$A:$D,4,0)","v":0}]